Workbook

Sheet HOME
E2: http://vinodpateltalodgam.blogspot.com
I4: શાળા / વિદ્યાર્થીઓની માહિતી
H5: S T D 6 7 8
B6: સત્રાંત ટાઇટલ પેઇઝ | I6: વાર્ષિક ટાઇટલ પેઇઝ
B8: સત્રાંત પરિણામ પત્રક | I8: વાર્ષિક પરિણામ પત્રક
B10: સત્રાંત વિષયવાર, જાતિવાર ગ્રેડ, ટકા | I10: વાર્ષિક વિષયવાર, જાતિવાર ગ્રેડ, ટકા
B12: સત્રાંત પરિણામ માર્કશીટ - ગુણ, ગ્રેડ | I12: વાર્ષિક પરિણામ વિષ્લેષણ
B14: વાર્ષિક પરિણામ - ગુણ, ગ્રેડ NEW | I14: વાર્ષિક પરિણામ માર્કશીટ - ગુણ, ગ્રેડ
B16: HELP | I16: વાર્ષિક પરિણામ માર્કશીટ - ગ્રેડ
F18: વિનોદકુમાર કે. પટેલ
F19: તલોદગામ પ્રાથમિક શાળા
F20: તા: તલોદ, જિ: સા.કાં. | J20: MO - 9426597892
B21: =TODAY() -> 46317 | I21: =NOW() -> 46317.923

Sheet DATA ENTRY
E2: DATA ENTRY | L2: ÊD G\AZ | M2: lJnFYL"G]\ GFD | N2: HFlT | P2: BOY / GIRL | Q2: HGZ, ZlH:8Z G\AZ | R2: HgD TFZLB | S2: CFHZ lNJ; | T2: CFHZL GF 8SF | U2: VFWFZ 0FI; G\AZ | V2: 5[G G\AZ | W2: V5FZ VF.P 0LP G\AZ | X2: ;\5S" G\AZ | Y2: ;ZGFD]\ | AI2: BOY | AJ2: GIRL
B3: lX1F6 ;lDlT o | E3: ;FAZSF\9F | J3: =E11 -> 0 | L3: 1 | T3: =ROUND(S3*100/J3,0) -> #DIV/0! | AG3: =DATEDIF(R3,TODAY(),"Y") -> 126 | AI3: GIRL | AJ3: OPEN | AM3: =G13-1 -> -1
B4: XF/FG]\ GFD o | E4: T,MN | J4: =J3 -> 0 | L4: 2 | T4: =ROUND(S4*100/J4,0) -> #DIV/0! | AG4: =DATEDIF(R4,TODAY(),"Y") -> 126 | AJ4: OBC | AM4: /
B5: UFD o | E5: T,MNUFD | J5: =J4 -> 0 | L5: 3 | T5: =ROUND(S5*100/J5,0) -> #DIV/0! | AG5: =DATEDIF(R5,TODAY(),"Y") -> 126 | AJ5: SC | AM5: =CONCATENATE(AM3,AM4,G13) -> -1/
B6: TF,]SM o | E6: T,MN | J6: =J5 -> 0 | L6: 4 | T6: =ROUND(S6*100/J6,0) -> #DIV/0! | AG6: =DATEDIF(R6,TODAY(),"Y") -> 126 | AJ6: ST
B7: lH<,M o | E7: ;FAZSF\9F | J7: =J6 -> 0 | L7: 5 | T7: =ROUND(S7*100/J7,0) -> #DIV/0! | AG7: =DATEDIF(R7,TODAY(),"Y") -> 126 | AM7: =G17 -> 2026
B8: WMZ6 o | E8: 6 | J8: =J7 -> 0 | L8: 6 | T8: =ROUND(S8*100/J8,0) -> #DIV/0! | AG8: =DATEDIF(R8,TODAY(),"Y") -> 126 | AM8: /
B9: JU" o | E9: - | J9: =J8 -> 0 | L9: 7 | T9: =ROUND(S9*100/J9,0) -> #DIV/0! | AG9: =DATEDIF(R9,TODAY(),"Y") -> 126 | AM9: =CONCATENATE(AM7,AM8,G17+1) -> 2026/2027
B10: JU" lX1FSG]\ GFD o | J10: =J9 -> 0 | L10: 8 | T10: =ROUND(S10*100/J10,0) -> #DIV/0! | AG10: =DATEDIF(R10,TODAY(),"Y") -> 126
B11: JQF"GF S], SFI" lNJ; o | J11: =J10 -> 0 | L11: 9 | T11: =ROUND(S11*100/J11,0) -> #DIV/0! | AG11: =DATEDIF(R11,TODAY(),"Y") -> 126 | AM11: =IF(G17="","",AM9) -> 2026/2027
B12: JFlQF"S 5lZ6FDGL | E12: TFZLB | F12: DF; | G12: JQF" | J12: =J11 -> 0 | L12: 10 | T12: =ROUND(S12*100/J12,0) -> #DIV/0! | AG12: =DATEDIF(R12,TODAY(),"Y") -> 126
B13: TFZLBo | H13: =DATE(G13,F13,E13) -> #NUM! | J13: =J12 -> 0 | L13: 11 | T13: =ROUND(S13*100/J13,0) -> #DIV/0! | AG13: =DATEDIF(R13,TODAY(),"Y") -> 126
B14: JQF" o | E14: =IF(G13="","",AM5) | J14: =J13 -> 0 | L14: 12 | T14: =ROUND(S14*100/J14,0) -> #DIV/0! | AG14: =DATEDIF(R14,TODAY(),"Y") -> 126
B15: ;LPVFZP;LP | J15: =J14 -> 0 | L15: 13 | T15: =ROUND(S15*100/J15,0) -> #DIV/0! | AG15: =DATEDIF(R15,TODAY(),"Y") -> 126
B16: ;+F\T 5lZ6FDGL | E16: TFZLB | F16: DF; | G16: JQF" | J16: =J15 -> 0 | L16: 14 | T16: =ROUND(S16*100/J16,0) -> #DIV/0! | AG16: =DATEDIF(R16,TODAY(),"Y") -> 126
B17: TFZLBo | E17: 5 | F17: 11 | G17: 2026 | H17: =DATE(G17,F17,E17) -> 46331 | J17: =J16 -> 0 | L17: 15 | T17: =ROUND(S17*100/J17,0) -> #DIV/0! | AG17: =DATEDIF(R17,TODAY(),"Y") -> 126
J18: =J17 -> 0 | L18: 16 | T18: =ROUND(S18*100/J18,0) -> #DIV/0! | AG18: =DATEDIF(R18,TODAY(),"Y") -> 126
J19: =J18 -> 0 | L19: 17 | T19: =ROUND(S19*100/J19,0) -> #DIV/0! | AG19: =DATEDIF(R19,TODAY(),"Y") -> 126
J20: =J19 -> 0 | L20: 18 | T20: =ROUND(S20*100/J20,0) -> #DIV/0! | AG20: =DATEDIF(R20,TODAY(),"Y") -> 126
J21: =J20 -> 0 | L21: 19 | T21: =ROUND(S21*100/J21,0) -> #DIV/0! | AG21: =DATEDIF(R21,TODAY(),"Y") -> 126
J22: =J21 -> 0 | L22: 20 | T22: =ROUND(S22*100/J22,0) -> #DIV/0! | AG22: =DATEDIF(R22,TODAY(),"Y") -> 126
J23: =J22 -> 0 | L23: 21 | T23: =ROUND(S23*100/J23,0) -> #DIV/0! | AG23: =DATEDIF(R23,TODAY(),"Y") -> 126
J24: =J23 -> 0 | L24: 22 | T24: =ROUND(S24*100/J24,0) -> #DIV/0! | AG24: =DATEDIF(R24,TODAY(),"Y") -> 126
J25: =J24 -> 0 | L25: 23 | T25: =ROUND(S25*100/J25,0) -> #DIV/0! | AG25: =DATEDIF(R25,TODAY(),"Y") -> 126
J26: =J25 -> 0 | L26: 24 | T26: =ROUND(S26*100/J26,0) -> #DIV/0! | AG26: =DATEDIF(R26,TODAY(),"Y") -> 126
J27: =J26 -> 0 | L27: 25 | T27: =ROUND(S27*100/J27,0) -> #DIV/0! | AG27: =DATEDIF(R27,TODAY(),"Y") -> 126
J28: =J27 -> 0 | L28: 26 | T28: =ROUND(S28*100/J28,0) -> #DIV/0! | AG28: =DATEDIF(R28,TODAY(),"Y") -> 126
J29: =J28 -> 0 | L29: 27 | T29: =ROUND(S29*100/J29,0) -> #DIV/0! | AG29: =DATEDIF(R29,TODAY(),"Y") -> 126
... J72: =J71 -> 0 | L72: 70 | T72: =ROUND(S72*100/J72,0) -> #DIV/0! | AG72: =DATEDIF(R72,TODAY(),"Y") -> 126

Sheet હોમ 
B10: આ પરિણામ પત્રક એડીસન અઝીઝ અને એડીસન પ્રિન્સ
B11: ફ્રોન્ટનો ઉપયોગ કરીને બનાવેલ છે. તેથી આ ફ્રોન્ટ તમારા
B12: કમ્પ્યૂટરમાં હોવા જરૂરી છે. જો તમારી પાસે આ ફ્રોન્ટ ના
B13: હોય તો નીચેના બ્લોગ પરથી ડાઉનલોડ કરી શકશો.
B14: વાર્ષિક પરિણામ પત્રકમાં ગુણ મૂકવાથી સત્રાંત પરિણામ પત્રક આપોઆપ બની જશે. ફ્રોન્ટ અને
B15: તેની સાઇઝ બદલવવા માટે સત્રાંત અને વાર્ષિક પરિણામમાં વિદ્યાર્થીના નામનું કોલમ સિલેક્ટ
B16: કરીને ફ્રોન્ટ અને તેની સાઇઝ બદલવી પછી એન્ટર આપવું. PASSWORD - VINOD
B18: http://vinodpateltalodgam.blogspot.in
B20: નોંધ:- આ પરિણામ પત્રકમાં કોઈ પણ ફ્રોન્ટનો
B21: ઉપયોગ કરીને લખી શકાશે.
B25: પટેલ વિનોદકુમાર કેશુભાઈ
B26: તલોદગામ પ્રાથમિક શાળા
B27: તા:- તલોદ , જી:- સાબરકાંઠા
B29: =TODAY() -> 46317 | H29: =NOW() -> 46317.923

Sheet સત્રાંત ટાઇટલ પેઇઝ 
C8: ;G[o | M8: =IF('DATA ENTRY'!$G17="","",'DATA ENTRY'!G17) -> 2026
C11: WMZ6o | M11: =IF('વાર્ષિક ટાઇટલ પેઇઝ '!$M11="","",'વાર્ષિક ટાઇટલ પેઇઝ '!M11) -> 6 | O11: =IF('વાર્ષિક ટાઇટલ પેઇઝ '!$O11="","",'વાર્ષિક ટાઇટલ પેઇઝ '!O11) -> -
C16: XF/FG]\GFDo | F16: =IF('વાર્ષિક ટાઇટલ પેઇઝ '!$F16="","",'વાર્ષિક ટાઇટલ પેઇઝ '!F16) -> T,MN
C17: UFDo | D17: =IF('વાર્ષિક ટાઇટલ પેઇઝ '!$D17="","",'વાર્ષિક ટાઇટલ પેઇઝ '!D17) -> T,MNUFD | L17: TF,]SMo | O17: =IF('વાર્ષિક ટાઇટલ પેઇઝ '!$O17="","",'વાર્ષિક ટાઇટલ પેઇઝ '!O17) -> T,MN
C18: lH<,Mo | D18: =IF('વાર્ષિક ટાઇટલ પેઇઝ '!$D18="","",'વાર્ષિક ટાઇટલ પેઇઝ '!D18) -> ;FAZSF\9F | L18: 5lZ6FD TFZLBo | R18: =IF('DATA ENTRY'!$H17="","",'DATA ENTRY'!H17) -> 46331
C19: JU"lX1FSG]\GFDo | G19: =IF('વાર્ષિક ટાઇટલ પેઇઝ '!$G19="","",'વાર્ષિક ટાઇટલ પેઇઝ '!G19)
C20: ;LPVFZP;LP o | G20: =IF('વાર્ષિક ટાઇટલ પેઇઝ '!$G20="","",'વાર્ષિક ટાઇટલ પેઇઝ '!G20)
C21: 5lZ6FDGL TFZLH
C22: HFlT | D22: ZÒP;\bIF | G22: D[/J[, V[S\NZ[ U|[0 | V22: GM\W
G25: A | J25: B | M25: C | P25: D | S25: E
D26: S]DFZ | E26: SgYF | F26: S], | G26: S]DFZ | H26: SgIF | I26: S], | J26: S]DFZ | K26: SgIF | L26: S], | M26: S]DFZ | N26: SgIF | O26: S], | P26: S]DFZ | Q26: SgIF | R26: S], | S26: S]DFZ | T26: SgIF | U26: S],
C27: VG]\PHFlT | D27: ='સત્રાંત પરિણામ પત્રક '!B82 -> 0 | E27: ='સત્રાંત પરિણામ પત્રક '!D82 -> 0 | F27: =D27+E27 -> 0 | G27: ='સત્રાંત વિષયવાર,જાતિવાર ગ્રેડ '!AS14 -> 0 | H27: ='સત્રાંત વિષયવાર,જાતિવાર ગ્રેડ '!AU14 -> 0 | I27: =G27+H27 -> 0 | J27: ='સત્રાંત વિષયવાર,જાતિવાર ગ્રેડ '!AS15 -> 0 | K27: ='સત્રાંત વિષયવાર,જાતિવાર ગ્રેડ '!AU15 -> 0 | L27: =J27+K27 -> 0 | M27: ='સત્રાંત વિષયવાર,જાતિવાર ગ્રેડ '!AS16 -> 0 | N27: ='સત્રાંત વિષયવાર,જાતિવાર ગ્રેડ '!AU16 -> 0 | O27: =M27+N27 -> 0 | P27: ='સત્રાંત વિષયવાર,જાતિવાર ગ્રેડ '!AS17 -> 0 | Q27: ='સત્રાંત વિષયવાર,જાતિવાર ગ્રેડ '!AU17 -> 0 | R27: =P27+Q27 -> 0 | S27: ='સત્રાંત વિષયવાર,જાતિવાર ગ્રેડ '!AS18 -> 0 | T27: ='સત્રાંત વિષયવાર,જાતિવાર ગ્રેડ '!AU18 -> 0 | U27: =S27+T27 -> 0
C28: VPHPHFlT | D28: ='સત્રાંત પરિણામ પત્રક '!B83 -> 0 | E28: ='સત્રાંત પરિણામ પત્રક '!D83 -> 0 | F28: =D28+E28 -> 0 | G28: ='સત્રાંત વિષયવાર,જાતિવાર ગ્રેડ '!AS20 -> 0 | H28: ='સત્રાંત વિષયવાર,જાતિવાર ગ્રેડ '!AU20 -> 0 | I28: =G28+H28 -> 0 | J28: ='સત્રાંત વિષયવાર,જાતિવાર ગ્રેડ '!AS21 -> 0 | K28: ='સત્રાંત વિષયવાર,જાતિવાર ગ્રેડ '!AU21 -> 0 | L28: =J28+K28 -> 0 | M28: ='સત્રાંત વિષયવાર,જાતિવાર ગ્રેડ '!AS22 -> 0 | N28: ='સત્રાંત વિષયવાર,જાતિવાર ગ્રેડ '!AU22 -> 0 | O28: =M28+N28 -> 0 | P28: ='સત્રાંત વિષયવાર,જાતિવાર ગ્રેડ '!AS23 -> 0 | Q28: ='સત્રાંત વિષયવાર,જાતિવાર ગ્રેડ '!AU23 -> 0 | R28: =P28+Q28 -> 0 | S28: ='સત્રાંત વિષયવાર,જાતિવાર ગ્રેડ '!AS24 -> 0 | T28: ='સત્રાંત વિષયવાર,જાતિવાર ગ્રેડ '!AU24 -> 0 | U28: =S28+T28 -> 0
C29: A1FL5\R | D29: ='સત્રાંત પરિણામ પત્રક '!B81 -> 0 | E29: ='સત્રાંત પરિણામ પત્રક '!D81 -> 0 | F29: =D29+E29 -> 0 | G29: ='સત્રાંત વિષયવાર,જાતિવાર ગ્રેડ '!AS8 -> 0 | H29: ='સત્રાંત વિષયવાર,જાતિવાર ગ્રેડ '!AU8 -> 0 | I29: =G29+H29 -> 0 | J29: ='સત્રાંત વિષયવાર,જાતિવાર ગ્રેડ '!AS9 -> 0 | K29: ='સત્રાંત વિષયવાર,જાતિવાર ગ્રેડ '!AU9 -> 0 | L29: =J29+K29 -> 0 | M29: ='સત્રાંત વિષયવાર,જાતિવાર ગ્રેડ '!AS10 -> 0 | N29: ='સત્રાંત વિષયવાર,જાતિવાર ગ્રેડ '!AU10 -> 0 | O29: =M29+N29 -> 0 | P29: ='સત્રાંત વિષયવાર,જાતિવાર ગ્રેડ '!AS11 -> 0 | Q29: ='સત્રાંત વિષયવાર,જાતિવાર ગ્રેડ '!AU11 -> 0 | R29: =P29+Q29 -> 0 | S29: ='સત્રાંત વિષયવાર,જાતિવાર ગ્રેડ '!AS12 -> 0 | T29: ='સત્રાંત વિષયવાર,જાતિવાર ગ્રેડ '!AU12 -> 0 | U29: =S29+T29 -> 0
C30: VgI | D30: ='સત્રાંત પરિણામ પત્રક '!B84 -> 0 | E30: ='સત્રાંત પરિણામ પત્રક '!D84 -> 0 | F30: =D30+E30 -> 0 | G30: ='સત્રાંત વિષયવાર,જાતિવાર ગ્રેડ '!AS26 -> 0 | H30: ='સત્રાંત વિષયવાર,જાતિવાર ગ્રેડ '!AU26 -> 0 | I30: =G30+H30 -> 0 | J30: ='સત્રાંત વિષયવાર,જાતિવાર ગ્રેડ '!AS27 -> 0 | K30: ='સત્રાંત વિષયવાર,જાતિવાર ગ્રેડ '!AU27 -> 0 | L30: =J30+K30 -> 0 | M30: ='સત્રાંત વિષયવાર,જાતિવાર ગ્રેડ '!AS28 -> 0 | N30: ='સત્રાંત વિષયવાર,જાતિવાર ગ્રેડ '!AU28 -> 0 | O30: =M30+N30 -> 0 | P30: ='સત્રાંત વિષયવાર,જાતિવાર ગ્રેડ '!AS29 -> 0 | Q30: ='સત્રાંત વિષયવાર,જાતિવાર ગ્રેડ '!AU29 -> 0 | R30: =P30+Q30 -> 0 | S30: ='સત્રાંત વિષયવાર,જાતિવાર ગ્રેડ '!AS30 -> 0 | T30: ='સત્રાંત વિષયવાર,જાતિવાર ગ્રેડ '!AU30 -> 0 | U30: =S30+T30 -> 0
C31: S], | D31: =D27+D28+D29+D30 -> 0 | E31: =E27+E28+E29+E30 -> 0 | F31: =F27+F28+F29+F30 -> 0 | G31: =G27+G28+G29+G30 -> 0 | H31: =H27+H28+H29+H30 -> 0 | I31: =I27+I28+I29+I30 -> 0 | J31: =J27+J28+J29+J30 -> 0 | K31: =K27+K28+K29+K30 -> 0 | ... U31: =U27+U28+U29+U30 -> 0
C32: JU"lX1FSGL ;CL | S32: VFRFI"GL ;CL
C33: http://vinodpateltalodgam.blogspot.com

Sheet સત્રાંત પરિણામ પત્રક 
C2: http://vinodpateltalodgam.blogspot.com
D3: WMZ6v | E3: =IF('વાર્ષિક ટાઇટલ પેઇઝ '!$M11="","",'વાર્ષિક ટાઇટલ પેઇઝ '!M11) -> 6 | F3: =IF('વાર્ષિક ટાઇટલ પેઇઝ '!$O11="","",'વાર્ષિક ટાઇટલ પેઇઝ '!O11) -> - | J3: JQF" v | L3: =IF('DATA ENTRY'!$AM11="","",'DATA ENTRY'!AM11) -> 2026/2027
B4: BOY GIRL | C4: S|D | D4: lJnFYL"G]\ GFD | E4: U]HZFTL | J4: Ul6T | Q4: S|D | R4: lCgNL | W4: ;FDFlHS lJ7FG | AB4: V\U[|HL | AG4: S|D | AH4: lJ7FG | AM4: ;\:S'T | AR4: ;DU| jIlSTlJSF; s5|YD ;+f | AT4: VeIFl;S T[DH ;CVeIFl;S lJQFIMGF V[S\NZ S], U]6 | AU4: V[S\NZ S], U]6 8SFDF\ | AV4: ;Z[ZFX U|[0
E5: 5|YD ;+ | H5: S], U]6 100 DF\YL D[/J[, U]6 | I5: U[|0 | J5: 5|YD ;+ | M5: S], U]6 100 DF\YL D[/J[, U]6 | N5: U[|0 | R5: 5|YD ;+ | U5: S], U]6 100 DF\YL D[/J[, U]6 | V5: U[|0 | W5: 5|YD ;+ | Z5: S], U]6 100 DF\YL D[/J[, U]6 | AA5: U[|0 | AB5: 5|YD ;+ | AE5: S], U]6 100 DF\YL D[/J[, U]6 | AF5: U[|0 | AH5: 5|YD ;+ | AK5: S], U]6 100 DF\YL D[/J[, U]6 | AL5: U[|0 | AM5: 5|YD ;+ | AP5: S], U]6 100 DF\YL D[/J[, U]6 | AQ5: U[|0 | AS5: U[|0
A6: OBC SC ST OPEN | E6: l+DFl;S S;M8L D}<IF\SG | F6: ;+F\T[ D}<IF\SG | G6: :JVwIIGSFI"GF VFWFZ[ D}<IF\SG | J6: l+DFl;S S;M8L D}<IF\SG | K6: ;+F\T[ D}<IF\SG | L6: :JVwIIGSFI"GF VFWFZ[ D}<IF\SG | R6: l+DFl;S S;M8L D}<IF\SG | S6: ;+F\T[ D}<IF\SG | T6: :JVwIIGSFI"GF VFWFZ[ D}<IF\SG | W6: l+DFl;S S;M8L D}<IF\SG | X6: ;+F\T[ D}<IF\SG | Y6: :JVwIIGSFI"GF VFWFZ[ D}<IF\SG | AB6: l+DFl;S S;M8L D}<IF\SG | AC6: ;+F\T[ D}<IF\SG | AD6: :JVwIIGSFI"GF VFWFZ[ D}<IF\SG | AH6: l+DFl;S S;M8L D}<IF\SG | AI6: ;+F\T[ D}<IF\SG | AJ6: :JVwIIGSFI"GF VFWFZ[ D}<IF\SG | AM6: l+DFl;S S;M8L D}<IF\SG | AN6: ;+F\T[ D}<IF\SG | AO6: :JVwIIGSFI"GF VFWFZ[ D}<IF\SG
E7: 40 | F7: 40 | G7: 20 | J7: 40 | K7: 40 | L7: 20 | R7: 40 | S7: 40 | T7: 20 | W7: 40 | X7: 40 | Y7: 20 | AB7: 40 | AC7: 40 | AD7: 20 | AH7: 40 | AI7: 40 | AJ7: 20 | AM7: 40 | AN7: 40 | AO7: 20 | AR7: 400 | AT7: 1100
A8: =IF('વાર્ષિક પરિણામ પત્રક '!$A8="","",'વાર્ષિક પરિણામ પત્રક '!A8) | B8: =IF('વાર્ષિક પરિણામ પત્રક '!$B8="","",'વાર્ષિક પરિણામ પત્રક '!B8) | C8: =IF('વાર્ષિક પરિણામ પત્રક '!$C8="","",'વાર્ષિક પરિણામ પત્રક '!C8) -> 1 | D8: =IF('વાર્ષિક પરિણામ પત્રક '!$D8="","",'વાર્ષિક પરિણામ પત્રક '!D8) | H8: =SUM(E8:G8) -> 0 | I8: =IF(H8>79,"A",IF(H8>64,"B",IF(H8>49,"C",IF(H8>34,"D",IF(H8>0,"E",""))))) | M8: =SUM(J8:L8) -> 0 | N8: =IF(M8>79,"A",IF(M8>64,"B",IF(M8>49,"C",IF(M8>34,"D",IF(M8>0,"E",""))))) | Q8: =IF('વાર્ષિક પરિણામ પત્રક '!$C8="","",'વાર્ષિક પરિણામ પત્રક '!C8) -> 1 | U8: =SUM(R8:T8) -> 0 | V8: =IF(U8>79,"A",IF(U8>64,"B",IF(U8>49,"C",IF(U8>34,"D",IF(U8>0,"E",""))))) | Z8: =SUM(W8:Y8) -> 0 | AA8: =IF(Z8>79,"A",IF(Z8>64,"B",IF(Z8>49,"C",IF(Z8>34,"D",IF(Z8>0,"E",""))))) | AE8: =SUM(AB8:AD8) -> 0 | AF8: =IF(AE8>79,"A",IF(AE8>64,"B",IF(AE8>49,"C",IF(AE8>34,"D",IF(AE8>0,"E",""))))) | AG8: =IF('વાર્ષિક પરિણામ પત્રક '!$C8="","",'વાર્ષિક પરિણામ પત્રક '!C8) -> 1 | AK8: =SUM(AH8:AJ8) -> 0 | AL8: =IF(AK8>79,"A",IF(AK8>64,"B",IF(AK8>49,"C",IF(AK8>34,"D",IF(AK8>0,"E",""))))) | AP8: =SUM(AM8:AO8) -> 0 | AQ8: =IF(AP8>79,"A",IF(AP8>64,"B",IF(AP8>49,"C",IF(AP8>34,"D",IF(AP8>0,"E",""))))) | AS8: =IF(AR8>319,"A",IF(AR8>259,"B",IF(AR8>199,"C",IF(AR8>139,"D",IF(AR8>0,"E",""))))) | AT8: =H8+M8+U8+Z8+AE8+AK8+AP8+AR8 -> 0 | AU8: =AT8/11 -> 0 | AV8: =IF(AU8>79,"A",IF(AU8>64,"B",IF(AU8>49,"C",IF(AU8>34,"D",IF(AU8>0,"E","")))))
A9: =IF('વાર્ષિક પરિણામ પત્રક '!$A9="","",'વાર્ષિક પરિણામ પત્રક '!A9) | B9: =IF('વાર્ષિક પરિણામ પત્રક '!$B9="","",'વાર્ષિક પરિણામ પત્રક '!B9) | C9: =IF('વાર્ષિક પરિણામ પત્રક '!$C9="","",'વાર્ષિક પરિણામ પત્રક '!C9) -> 2 | D9: =IF('વાર્ષિક પરિણામ પત્રક '!$D9="","",'વાર્ષિક પરિણામ પત્રક '!D9) | H9: =SUM(E9:G9) -> 0 | I9: =IF(H9>79,"A",IF(H9>64,"B",IF(H9>49,"C",IF(H9>34,"D",IF(H9>0,"E",""))))) | M9: =SUM(J9:L9) -> 0 | N9: =IF(M9>79,"A",IF(M9>64,"B",IF(M9>49,"C",IF(M9>34,"D",IF(M9>0,"E",""))))) | Q9: =IF('વાર્ષિક પરિણામ પત્રક '!$C9="","",'વાર્ષિક પરિણામ પત્રક '!C9) -> 2 | U9: =SUM(R9:T9) -> 0 | V9: =IF(U9>79,"A",IF(U9>64,"B",IF(U9>49,"C",IF(U9>34,"D",IF(U9>0,"E",""))))) | Z9: =SUM(W9:Y9) -> 0 | AA9: =IF(Z9>79,"A",IF(Z9>64,"B",IF(Z9>49,"C",IF(Z9>34,"D",IF(Z9>0,"E",""))))) | AE9: =SUM(AB9:AD9) -> 0 | AF9: =IF(AE9>79,"A",IF(AE9>64,"B",IF(AE9>49,"C",IF(AE9>34,"D",IF(AE9>0,"E",""))))) | AG9: =IF('વાર્ષિક પરિણામ પત્રક '!$C9="","",'વાર્ષિક પરિણામ પત્રક '!C9) -> 2 | AK9: =SUM(AH9:AJ9) -> 0 | AL9: =IF(AK9>79,"A",IF(AK9>64,"B",IF(AK9>49,"C",IF(AK9>34,"D",IF(AK9>0,"E",""))))) | AP9: =SUM(AM9:AO9) -> 0 | AQ9: =IF(AP9>79,"A",IF(AP9>64,"B",IF(AP9>49,"C",IF(AP9>34,"D",IF(AP9>0,"E",""))))) | AS9: =IF(AR9>319,"A",IF(AR9>259,"B",IF(AR9>199,"C",IF(AR9>139,"D",IF(AR9>0,"E",""))))) | AT9: =H9+M9+U9+Z9+AE9+AK9+AP9+AR9 -> 0 | AU9: =AT9/11 -> 0 | AV9: =IF(AU9>79,"A",IF(AU9>64,"B",IF(AU9>49,"C",IF(AU9>34,"D",IF(AU9>0,"E","")))))
A10: =IF('વાર્ષિક પરિણામ પત્રક '!$A10="","",'વાર્ષિક પરિણામ પત્રક '!A10) | B10: =IF('વાર્ષિક પરિણામ પત્રક '!$B10="","",'વાર્ષિક પરિણામ પત્રક '!B10) | C10: =IF('વાર્ષિક પરિણામ પત્રક '!$C10="","",'વાર્ષિક પરિણામ પત્રક '!C10) -> 3 | D10: =IF('વાર્ષિક પરિણામ પત્રક '!$D10="","",'વાર્ષિક પરિણામ પત્રક '!D10) | H10: =SUM(E10:G10) -> 0 | I10: =IF(H10>79,"A",IF(H10>64,"B",IF(H10>49,"C",IF(H10>34,"D",IF(H10>0,"E",""))))) | M10: =SUM(J10:L10) -> 0 | N10: =IF(M10>79,"A",IF(M10>64,"B",IF(M10>49,"C",IF(M10>34,"D",IF(M10>0,"E",""))))) | Q10: =IF('વાર્ષિક પરિણામ પત્રક '!$C10="","",'વાર્ષિક પરિણામ પત્રક '!C10) -> 3 | U10: =SUM(R10:T10) -> 0 | V10: =IF(U10>79,"A",IF(U10>64,"B",IF(U10>49,"C",IF(U10>34,"D",IF(U10>0,"E",""))))) | Z10: =SUM(W10:Y10) -> 0 | AA10: =IF(Z10>79,"A",IF(Z10>64,"B",IF(Z10>49,"C",IF(Z10>34,"D",IF(Z10>0,"E",""))))) | AE10: =SUM(AB10:AD10) -> 0 | AF10: =IF(AE10>79,"A",IF(AE10>64,"B",IF(AE10>49,"C",IF(AE10>34,"D",IF(AE10>0,"E",""))))) | AG10: =IF('વાર્ષિક પરિણામ પત્રક '!$C10="","",'વાર્ષિક પરિણામ પત્રક '!C10) -> 3 | AK10: =SUM(AH10:AJ10) -> 0 | AL10: =IF(AK10>79,"A",IF(AK10>64,"B",IF(AK10>49,"C",IF(AK10>34,"D",IF(AK10>0,"E",""))))) | AP10: =SUM(AM10:AO10) -> 0 | AQ10: =IF(AP10>79,"A",IF(AP10>64,"B",IF(AP10>49,"C",IF(AP10>34,"D",IF(AP10>0,"E",""))))) | AS10: =IF(AR10>319,"A",IF(AR10>259,"B",IF(AR10>199,"C",IF(AR10>139,"D",IF(AR10>0,"E",""))))) | AT10: =H10+M10+U10+Z10+AE10+AK10+AP10+AR10 -> 0 | AU10: =AT10/11 -> 0 | AV10: =IF(AU10>79,"A",IF(AU10>64,"B",IF(AU10>49,"C",IF(AU10>34,"D",IF(AU10>0,"E","")))))
A11: =IF('વાર્ષિક પરિણામ પત્રક '!$A11="","",'વાર્ષિક પરિણામ પત્રક '!A11) | B11: =IF('વાર્ષિક પરિણામ પત્રક '!$B11="","",'વાર્ષિક પરિણામ પત્રક '!B11) | C11: =IF('વાર્ષિક પરિણામ પત્રક '!$C11="","",'વાર્ષિક પરિણામ પત્રક '!C11) -> 4 | D11: =IF('વાર્ષિક પરિણામ પત્રક '!$D11="","",'વાર્ષિક પરિણામ પત્રક '!D11) | H11: =SUM(E11:G11) -> 0 | I11: =IF(H11>79,"A",IF(H11>64,"B",IF(H11>49,"C",IF(H11>34,"D",IF(H11>0,"E",""))))) | M11: =SUM(J11:L11) -> 0 | N11: =IF(M11>79,"A",IF(M11>64,"B",IF(M11>49,"C",IF(M11>34,"D",IF(M11>0,"E",""))))) | Q11: =IF('વાર્ષિક પરિણામ પત્રક '!$C11="","",'વાર્ષિક પરિણામ પત્રક '!C11) -> 4 | U11: =SUM(R11:T11) -> 0 | V11: =IF(U11>79,"A",IF(U11>64,"B",IF(U11>49,"C",IF(U11>34,"D",IF(U11>0,"E",""))))) | Z11: =SUM(W11:Y11) -> 0 | AA11: =IF(Z11>79,"A",IF(Z11>64,"B",IF(Z11>49,"C",IF(Z11>34,"D",IF(Z11>0,"E",""))))) | AE11: =SUM(AB11:AD11) -> 0 | AF11: =IF(AE11>79,"A",IF(AE11>64,"B",IF(AE11>49,"C",IF(AE11>34,"D",IF(AE11>0,"E",""))))) | AG11: =IF('વાર્ષિક પરિણામ પત્રક '!$C11="","",'વાર્ષિક પરિણામ પત્રક '!C11) -> 4 | AK11: =SUM(AH11:AJ11) -> 0 | AL11: =IF(AK11>79,"A",IF(AK11>64,"B",IF(AK11>49,"C",IF(AK11>34,"D",IF(AK11>0,"E",""))))) | AP11: =SUM(AM11:AO11) -> 0 | AQ11: =IF(AP11>79,"A",IF(AP11>64,"B",IF(AP11>49,"C",IF(AP11>34,"D",IF(AP11>0,"E",""))))) | AS11: =IF(AR11>319,"A",IF(AR11>259,"B",IF(AR11>199,"C",IF(AR11>139,"D",IF(AR11>0,"E",""))))) | AT11: =H11+M11+U11+Z11+AE11+AK11+AP11+AR11 -> 0 | AU11: =AT11/11 -> 0 | AV11: =IF(AU11>79,"A",IF(AU11>64,"B",IF(AU11>49,"C",IF(AU11>34,"D",IF(AU11>0,"E","")))))
A12: =IF('વાર્ષિક પરિણામ પત્રક '!$A12="","",'વાર્ષિક પરિણામ પત્રક '!A12) | B12: =IF('વાર્ષિક પરિણામ પત્રક '!$B12="","",'વાર્ષિક પરિણામ પત્રક '!B12) | C12: =IF('વાર્ષિક પરિણામ પત્રક '!$C12="","",'વાર્ષિક પરિણામ પત્રક '!C12) -> 5 | D12: =IF('વાર્ષિક પરિણામ પત્રક '!$D12="","",'વાર્ષિક પરિણામ પત્રક '!D12) | H12: =SUM(E12:G12) -> 0 | I12: =IF(H12>79,"A",IF(H12>64,"B",IF(H12>49,"C",IF(H12>34,"D",IF(H12>0,"E",""))))) | M12: =SUM(J12:L12) -> 0 | N12: =IF(M12>79,"A",IF(M12>64,"B",IF(M12>49,"C",IF(M12>34,"D",IF(M12>0,"E",""))))) | Q12: =IF('વાર્ષિક પરિણામ પત્રક '!$C12="","",'વાર્ષિક પરિણામ પત્રક '!C12) -> 5 | U12: =SUM(R12:T12) -> 0 | V12: =IF(U12>79,"A",IF(U12>64,"B",IF(U12>49,"C",IF(U12>34,"D",IF(U12>0,"E",""))))) | Z12: =SUM(W12:Y12) -> 0 | AA12: =IF(Z12>79,"A",IF(Z12>64,"B",IF(Z12>49,"C",IF(Z12>34,"D",IF(Z12>0,"E",""))))) | AE12: =SUM(AB12:AD12) -> 0 | AF12: =IF(AE12>79,"A",IF(AE12>64,"B",IF(AE12>49,"C",IF(AE12>34,"D",IF(AE12>0,"E",""))))) | AG12: =IF('વાર્ષિક પરિણામ પત્રક '!$C12="","",'વાર્ષિક પરિણામ પત્રક '!C12) -> 5 | AK12: =SUM(AH12:AJ12) -> 0 | AL12: =IF(AK12>79,"A",IF(AK12>64,"B",IF(AK12>49,"C",IF(AK12>34,"D",IF(AK12>0,"E",""))))) | AP12: =SUM(AM12:AO12) -> 0 | AQ12: =IF(AP12>79,"A",IF(AP12>64,"B",IF(AP12>49,"C",IF(AP12>34,"D",IF(AP12>0,"E",""))))) | AS12: =IF(AR12>319,"A",IF(AR12>259,"B",IF(AR12>199,"C",IF(AR12>139,"D",IF(AR12>0,"E",""))))) | AT12: =H12+M12+U12+Z12+AE12+AK12+AP12+AR12 -> 0 | AU12: =AT12/11 -> 0 | AV12: =IF(AU12>79,"A",IF(AU12>64,"B",IF(AU12>49,"C",IF(AU12>34,"D",IF(AU12>0,"E","")))))
A13: =IF('વાર્ષિક પરિણામ પત્રક '!$A13="","",'વાર્ષિક પરિણામ પત્રક '!A13) | B13: =IF('વાર્ષિક પરિણામ પત્રક '!$B13="","",'વાર્ષિક પરિણામ પત્રક '!B13) | C13: =IF('વાર્ષિક પરિણામ પત્રક '!$C13="","",'વાર્ષિક પરિણામ પત્રક '!C13) -> 6 | D13: =IF('વાર્ષિક પરિણામ પત્રક '!$D13="","",'વાર્ષિક પરિણામ પત્રક '!D13) | H13: =SUM(E13:G13) -> 0 | I13: =IF(H13>79,"A",IF(H13>64,"B",IF(H13>49,"C",IF(H13>34,"D",IF(H13>0,"E",""))))) | M13: =SUM(J13:L13) -> 0 | N13: =IF(M13>79,"A",IF(M13>64,"B",IF(M13>49,"C",IF(M13>34,"D",IF(M13>0,"E",""))))) | Q13: =IF('વાર્ષિક પરિણામ પત્રક '!$C13="","",'વાર્ષિક પરિણામ પત્રક '!C13) -> 6 | U13: =SUM(R13:T13) -> 0 | V13: =IF(U13>79,"A",IF(U13>64,"B",IF(U13>49,"C",IF(U13>34,"D",IF(U13>0,"E",""))))) | Z13: =SUM(W13:Y13) -> 0 | AA13: =IF(Z13>79,"A",IF(Z13>64,"B",IF(Z13>49,"C",IF(Z13>34,"D",IF(Z13>0,"E",""))))) | AE13: =SUM(AB13:AD13) -> 0 | AF13: =IF(AE13>79,"A",IF(AE13>64,"B",IF(AE13>49,"C",IF(AE13>34,"D",IF(AE13>0,"E",""))))) | AG13: =IF('વાર્ષિક પરિણામ પત્રક '!$C13="","",'વાર્ષિક પરિણામ પત્રક '!C13) -> 6 | AK13: =SUM(AH13:AJ13) -> 0 | AL13: =IF(AK13>79,"A",IF(AK13>64,"B",IF(AK13>49,"C",IF(AK13>34,"D",IF(AK13>0,"E",""))))) | AP13: =SUM(AM13:AO13) -> 0 | AQ13: =IF(AP13>79,"A",IF(AP13>64,"B",IF(AP13>49,"C",IF(AP13>34,"D",IF(AP13>0,"E",""))))) | AS13: =IF(AR13>319,"A",IF(AR13>259,"B",IF(AR13>199,"C",IF(AR13>139,"D",IF(AR13>0,"E",""))))) | AT13: =H13+M13+U13+Z13+AE13+AK13+AP13+AR13 -> 0 | AU13: =AT13/11 -> 0 | AV13: =IF(AU13>79,"A",IF(AU13>64,"B",IF(AU13>49,"C",IF(AU13>34,"D",IF(AU13>0,"E","")))))
A14: =IF('વાર્ષિક પરિણામ પત્રક '!$A14="","",'વાર્ષિક પરિણામ પત્રક '!A14) | B14: =IF('વાર્ષિક પરિણામ પત્રક '!$B14="","",'વાર્ષિક પરિણામ પત્રક '!B14) | C14: =IF('વાર્ષિક પરિણામ પત્રક '!$C14="","",'વાર્ષિક પરિણામ પત્રક '!C14) -> 7 | D14: =IF('વાર્ષિક પરિણામ પત્રક '!$D14="","",'વાર્ષિક પરિણામ પત્રક '!D14) | H14: =SUM(E14:G14) -> 0 | I14: =IF(H14>79,"A",IF(H14>64,"B",IF(H14>49,"C",IF(H14>34,"D",IF(H14>0,"E",""))))) | M14: =SUM(J14:L14) -> 0 | N14: =IF(M14>79,"A",IF(M14>64,"B",IF(M14>49,"C",IF(M14>34,"D",IF(M14>0,"E",""))))) | Q14: =IF('વાર્ષિક પરિણામ પત્રક '!$C14="","",'વાર્ષિક પરિણામ પત્રક '!C14) -> 7 | U14: =SUM(R14:T14) -> 0 | V14: =IF(U14>79,"A",IF(U14>64,"B",IF(U14>49,"C",IF(U14>34,"D",IF(U14>0,"E",""))))) | Z14: =SUM(W14:Y14) -> 0 | AA14: =IF(Z14>79,"A",IF(Z14>64,"B",IF(Z14>49,"C",IF(Z14>34,"D",IF(Z14>0,"E",""))))) | AE14: =SUM(AB14:AD14) -> 0 | AF14: =IF(AE14>79,"A",IF(AE14>64,"B",IF(AE14>49,"C",IF(AE14>34,"D",IF(AE14>0,"E",""))))) | AG14: =IF('વાર્ષિક પરિણામ પત્રક '!$C14="","",'વાર્ષિક પરિણામ પત્રક '!C14) -> 7 | AK14: =SUM(AH14:AJ14) -> 0 | AL14: =IF(AK14>79,"A",IF(AK14>64,"B",IF(AK14>49,"C",IF(AK14>34,"D",IF(AK14>0,"E",""))))) | AP14: =SUM(AM14:AO14) -> 0 | AQ14: =IF(AP14>79,"A",IF(AP14>64,"B",IF(AP14>49,"C",IF(AP14>34,"D",IF(AP14>0,"E",""))))) | AS14: =IF(AR14>319,"A",IF(AR14>259,"B",IF(AR14>199,"C",IF(AR14>139,"D",IF(AR14>0,"E",""))))) | AT14: =H14+M14+U14+Z14+AE14+AK14+AP14+AR14 -> 0 | AU14: =AT14/11 -> 0 | AV14: =IF(AU14>79,"A",IF(AU14>64,"B",IF(AU14>49,"C",IF(AU14>34,"D",IF(AU14>0,"E","")))))
A15: =IF('વાર્ષિક પરિણામ પત્રક '!$A15="","",'વાર્ષિક પરિણામ પત્રક '!A15) | B15: =IF('વાર્ષિક પરિણામ પત્રક '!$B15="","",'વાર્ષિક પરિણામ પત્રક '!B15) | C15: =IF('વાર્ષિક પરિણામ પત્રક '!$C15="","",'વાર્ષિક પરિણામ પત્રક '!C15) -> 8 | D15: =IF('વાર્ષિક પરિણામ પત્રક '!$D15="","",'વાર્ષિક પરિણામ પત્રક '!D15) | H15: =SUM(E15:G15) -> 0 | I15: =IF(H15>79,"A",IF(H15>64,"B",IF(H15>49,"C",IF(H15>34,"D",IF(H15>0,"E",""))))) | M15: =SUM(J15:L15) -> 0 | N15: =IF(M15>79,"A",IF(M15>64,"B",IF(M15>49,"C",IF(M15>34,"D",IF(M15>0,"E",""))))) | Q15: =IF('વાર્ષિક પરિણામ પત્રક '!$C15="","",'વાર્ષિક પરિણામ પત્રક '!C15) -> 8 | U15: =SUM(R15:T15) -> 0 | V15: =IF(U15>79,"A",IF(U15>64,"B",IF(U15>49,"C",IF(U15>34,"D",IF(U15>0,"E",""))))) | Z15: =SUM(W15:Y15) -> 0 | AA15: =IF(Z15>79,"A",IF(Z15>64,"B",IF(Z15>49,"C",IF(Z15>34,"D",IF(Z15>0,"E",""))))) | AE15: =SUM(AB15:AD15) -> 0 | AF15: =IF(AE15>79,"A",IF(AE15>64,"B",IF(AE15>49,"C",IF(AE15>34,"D",IF(AE15>0,"E",""))))) | AG15: =IF('વાર્ષિક પરિણામ પત્રક '!$C15="","",'વાર્ષિક પરિણામ પત્રક '!C15) -> 8 | AK15: =SUM(AH15:AJ15) -> 0 | AL15: =IF(AK15>79,"A",IF(AK15>64,"B",IF(AK15>49,"C",IF(AK15>34,"D",IF(AK15>0,"E",""))))) | AP15: =SUM(AM15:AO15) -> 0 | AQ15: =IF(AP15>79,"A",IF(AP15>64,"B",IF(AP15>49,"C",IF(AP15>34,"D",IF(AP15>0,"E",""))))) | AS15: =IF(AR15>319,"A",IF(AR15>259,"B",IF(AR15>199,"C",IF(AR15>139,"D",IF(AR15>0,"E",""))))) | AT15: =H15+M15+U15+Z15+AE15+AK15+AP15+AR15 -> 0 | AU15: =AT15/11 -> 0 | AV15: =IF(AU15>79,"A",IF(AU15>64,"B",IF(AU15>49,"C",IF(AU15>34,"D",IF(AU15>0,"E","")))))
A16: =IF('વાર્ષિક પરિણામ પત્રક '!$A16="","",'વાર્ષિક પરિણામ પત્રક '!A16) | B16: =IF('વાર્ષિક પરિણામ પત્રક '!$B16="","",'વાર્ષિક પરિણામ પત્રક '!B16) | C16: =IF('વાર્ષિક પરિણામ પત્રક '!$C16="","",'વાર્ષિક પરિણામ પત્રક '!C16) -> 9 | D16: =IF('વાર્ષિક પરિણામ પત્રક '!$D16="","",'વાર્ષિક પરિણામ પત્રક '!D16) | H16: =SUM(E16:G16) -> 0 | I16: =IF(H16>79,"A",IF(H16>64,"B",IF(H16>49,"C",IF(H16>34,"D",IF(H16>0,"E",""))))) | M16: =SUM(J16:L16) -> 0 | N16: =IF(M16>79,"A",IF(M16>64,"B",IF(M16>49,"C",IF(M16>34,"D",IF(M16>0,"E",""))))) | Q16: =IF('વાર્ષિક પરિણામ પત્રક '!$C16="","",'વાર્ષિક પરિણામ પત્રક '!C16) -> 9 | U16: =SUM(R16:T16) -> 0 | V16: =IF(U16>79,"A",IF(U16>64,"B",IF(U16>49,"C",IF(U16>34,"D",IF(U16>0,"E",""))))) | Z16: =SUM(W16:Y16) -> 0 | AA16: =IF(Z16>79,"A",IF(Z16>64,"B",IF(Z16>49,"C",IF(Z16>34,"D",IF(Z16>0,"E",""))))) | AE16: =SUM(AB16:AD16) -> 0 | AF16: =IF(AE16>79,"A",IF(AE16>64,"B",IF(AE16>49,"C",IF(AE16>34,"D",IF(AE16>0,"E",""))))) | AG16: =IF('વાર્ષિક પરિણામ પત્રક '!$C16="","",'વાર્ષિક પરિણામ પત્રક '!C16) -> 9 | AK16: =SUM(AH16:AJ16) -> 0 | AL16: =IF(AK16>79,"A",IF(AK16>64,"B",IF(AK16>49,"C",IF(AK16>34,"D",IF(AK16>0,"E",""))))) | AP16: =SUM(AM16:AO16) -> 0 | AQ16: =IF(AP16>79,"A",IF(AP16>64,"B",IF(AP16>49,"C",IF(AP16>34,"D",IF(AP16>0,"E",""))))) | AS16: =IF(AR16>319,"A",IF(AR16>259,"B",IF(AR16>199,"C",IF(AR16>139,"D",IF(AR16>0,"E",""))))) | AT16: =H16+M16+U16+Z16+AE16+AK16+AP16+AR16 -> 0 | AU16: =AT16/11 -> 0 | AV16: =IF(AU16>79,"A",IF(AU16>64,"B",IF(AU16>49,"C",IF(AU16>34,"D",IF(AU16>0,"E","")))))
A17: =IF('વાર્ષિક પરિણામ પત્રક '!$A17="","",'વાર્ષિક પરિણામ પત્રક '!A17) | B17: =IF('વાર્ષિક પરિણામ પત્રક '!$B17="","",'વાર્ષિક પરિણામ પત્રક '!B17) | C17: =IF('વાર્ષિક પરિણામ પત્રક '!$C17="","",'વાર્ષિક પરિણામ પત્રક '!C17) -> 10 | D17: =IF('વાર્ષિક પરિણામ પત્રક '!$D17="","",'વાર્ષિક પરિણામ પત્રક '!D17) | H17: =SUM(E17:G17) -> 0 | I17: =IF(H17>79,"A",IF(H17>64,"B",IF(H17>49,"C",IF(H17>34,"D",IF(H17>0,"E",""))))) | M17: =SUM(J17:L17) -> 0 | N17: =IF(M17>79,"A",IF(M17>64,"B",IF(M17>49,"C",IF(M17>34,"D",IF(M17>0,"E",""))))) | Q17: =IF('વાર્ષિક પરિણામ પત્રક '!$C17="","",'વાર્ષિક પરિણામ પત્રક '!C17) -> 10 | U17: =SUM(R17:T17) -> 0 | V17: =IF(U17>79,"A",IF(U17>64,"B",IF(U17>49,"C",IF(U17>34,"D",IF(U17>0,"E",""))))) | Z17: =SUM(W17:Y17) -> 0 | AA17: =IF(Z17>79,"A",IF(Z17>64,"B",IF(Z17>49,"C",IF(Z17>34,"D",IF(Z17>0,"E",""))))) | AE17: =SUM(AB17:AD17) -> 0 | AF17: =IF(AE17>79,"A",IF(AE17>64,"B",IF(AE17>49,"C",IF(AE17>34,"D",IF(AE17>0,"E",""))))) | AG17: =IF('વાર્ષિક પરિણામ પત્રક '!$C17="","",'વાર્ષિક પરિણામ પત્રક '!C17) -> 10 | AK17: =SUM(AH17:AJ17) -> 0 | AL17: =IF(AK17>79,"A",IF(AK17>64,"B",IF(AK17>49,"C",IF(AK17>34,"D",IF(AK17>0,"E",""))))) | AP17: =SUM(AM17:AO17) -> 0 | AQ17: =IF(AP17>79,"A",IF(AP17>64,"B",IF(AP17>49,"C",IF(AP17>34,"D",IF(AP17>0,"E",""))))) | AS17: =IF(AR17>319,"A",IF(AR17>259,"B",IF(AR17>199,"C",IF(AR17>139,"D",IF(AR17>0,"E",""))))) | AT17: =H17+M17+U17+Z17+AE17+AK17+AP17+AR17 -> 0 | AU17: =AT17/11 -> 0 | AV17: =IF(AU17>79,"A",IF(AU17>64,"B",IF(AU17>49,"C",IF(AU17>34,"D",IF(AU17>0,"E","")))))
A18: =IF('વાર્ષિક પરિણામ પત્રક '!$A18="","",'વાર્ષિક પરિણામ પત્રક '!A18) | B18: =IF('વાર્ષિક પરિણામ પત્રક '!$B18="","",'વાર્ષિક પરિણામ પત્રક '!B18) | C18: =IF('વાર્ષિક પરિણામ પત્રક '!$C18="","",'વાર્ષિક પરિણામ પત્રક '!C18) -> 11 | D18: =IF('વાર્ષિક પરિણામ પત્રક '!$D18="","",'વાર્ષિક પરિણામ પત્રક '!D18) | H18: =SUM(E18:G18) -> 0 | I18: =IF(H18>79,"A",IF(H18>64,"B",IF(H18>49,"C",IF(H18>34,"D",IF(H18>0,"E",""))))) | M18: =SUM(J18:L18) -> 0 | N18: =IF(M18>79,"A",IF(M18>64,"B",IF(M18>49,"C",IF(M18>34,"D",IF(M18>0,"E",""))))) | Q18: =IF('વાર્ષિક પરિણામ પત્રક '!$C18="","",'વાર્ષિક પરિણામ પત્રક '!C18) -> 11 | U18: =SUM(R18:T18) -> 0 | V18: =IF(U18>79,"A",IF(U18>64,"B",IF(U18>49,"C",IF(U18>34,"D",IF(U18>0,"E",""))))) | Z18: =SUM(W18:Y18) -> 0 | AA18: =IF(Z18>79,"A",IF(Z18>64,"B",IF(Z18>49,"C",IF(Z18>34,"D",IF(Z18>0,"E",""))))) | AE18: =SUM(AB18:AD18) -> 0 | AF18: =IF(AE18>79,"A",IF(AE18>64,"B",IF(AE18>49,"C",IF(AE18>34,"D",IF(AE18>0,"E",""))))) | AG18: =IF('વાર્ષિક પરિણામ પત્રક '!$C18="","",'વાર્ષિક પરિણામ પત્રક '!C18) -> 11 | AK18: =SUM(AH18:AJ18) -> 0 | AL18: =IF(AK18>79,"A",IF(AK18>64,"B",IF(AK18>49,"C",IF(AK18>34,"D",IF(AK18>0,"E",""))))) | AP18: =SUM(AM18:AO18) -> 0 | AQ18: =IF(AP18>79,"A",IF(AP18>64,"B",IF(AP18>49,"C",IF(AP18>34,"D",IF(AP18>0,"E",""))))) | AS18: =IF(AR18>319,"A",IF(AR18>259,"B",IF(AR18>199,"C",IF(AR18>139,"D",IF(AR18>0,"E",""))))) | AT18: =H18+M18+U18+Z18+AE18+AK18+AP18+AR18 -> 0 | AU18: =AT18/11 -> 0 | AV18: =IF(AU18>79,"A",IF(AU18>64,"B",IF(AU18>49,"C",IF(AU18>34,"D",IF(AU18>0,"E","")))))
A19: =IF('વાર્ષિક પરિણામ પત્રક '!$A19="","",'વાર્ષિક પરિણામ પત્રક '!A19) | B19: =IF('વાર્ષિક પરિણામ પત્રક '!$B19="","",'વાર્ષિક પરિણામ પત્રક '!B19) | C19: =IF('વાર્ષિક પરિણામ પત્રક '!$C19="","",'વાર્ષિક પરિણામ પત્રક '!C19) -> 12 | D19: =IF('વાર્ષિક પરિણામ પત્રક '!$D19="","",'વાર્ષિક પરિણામ પત્રક '!D19) | H19: =SUM(E19:G19) -> 0 | I19: =IF(H19>79,"A",IF(H19>64,"B",IF(H19>49,"C",IF(H19>34,"D",IF(H19>0,"E",""))))) | M19: =SUM(J19:L19) -> 0 | N19: =IF(M19>79,"A",IF(M19>64,"B",IF(M19>49,"C",IF(M19>34,"D",IF(M19>0,"E",""))))) | Q19: =IF('વાર્ષિક પરિણામ પત્રક '!$C19="","",'વાર્ષિક પરિણામ પત્રક '!C19) -> 12 | U19: =SUM(R19:T19) -> 0 | V19: =IF(U19>79,"A",IF(U19>64,"B",IF(U19>49,"C",IF(U19>34,"D",IF(U19>0,"E",""))))) | Z19: =SUM(W19:Y19) -> 0 | AA19: =IF(Z19>79,"A",IF(Z19>64,"B",IF(Z19>49,"C",IF(Z19>34,"D",IF(Z19>0,"E",""))))) | AE19: =SUM(AB19:AD19) -> 0 | AF19: =IF(AE19>79,"A",IF(AE19>64,"B",IF(AE19>49,"C",IF(AE19>34,"D",IF(AE19>0,"E",""))))) | AG19: =IF('વાર્ષિક પરિણામ પત્રક '!$C19="","",'વાર્ષિક પરિણામ પત્રક '!C19) -> 12 | AK19: =SUM(AH19:AJ19) -> 0 | AL19: =IF(AK19>79,"A",IF(AK19>64,"B",IF(AK19>49,"C",IF(AK19>34,"D",IF(AK19>0,"E",""))))) | AP19: =SUM(AM19:AO19) -> 0 | AQ19: =IF(AP19>79,"A",IF(AP19>64,"B",IF(AP19>49,"C",IF(AP19>34,"D",IF(AP19>0,"E",""))))) | AS19: =IF(AR19>319,"A",IF(AR19>259,"B",IF(AR19>199,"C",IF(AR19>139,"D",IF(AR19>0,"E",""))))) | AT19: =H19+M19+U19+Z19+AE19+AK19+AP19+AR19 -> 0 | AU19: =AT19/11 -> 0 | AV19: =IF(AU19>79,"A",IF(AU19>64,"B",IF(AU19>49,"C",IF(AU19>34,"D",IF(AU19>0,"E","")))))
... A69: =IF('વાર્ષિક પરિણામ પત્રક '!$A69="","",'વાર્ષિક પરિણામ પત્રક '!A69) | B69: =IF('વાર્ષિક પરિણામ પત્રક '!$B69="","",'વાર્ષિક પરિણામ પત્રક '!B69) | C69: =IF('વાર્ષિક પરિણામ પત્રક '!$C69="","",'વાર્ષિક પરિણામ પત્રક '!C69) -> 62 | D69: =IF('વાર્ષિક પરિણામ પત્રક '!$D69="","",'વાર્ષિક પરિણામ પત્રક '!D69) | H69: =SUM(E69:G69) -> 0 | I69: =IF(H69>79,"A",IF(H69>64,"B",IF(H69>49,"C",IF(H69>34,"D",IF(H69>0,"E",""))))) | M69: =SUM(J69:L69) -> 0 | N69: =IF(M69>79,"A",IF(M69>64,"B",IF(M69>49,"C",IF(M69>34,"D",IF(M69>0,"E",""))))) | Q69: =IF('વાર્ષિક પરિણામ પત્રક '!$C69="","",'વાર્ષિક પરિણામ પત્રક '!C69) -> 62 | U69: =SUM(R69:T69) -> 0 | V69: =IF(U69>79,"A",IF(U69>64,"B",IF(U69>49,"C",IF(U69>34,"D",IF(U69>0,"E",""))))) | Z69: =SUM(W69:Y69) -> 0 | AA69: =IF(Z69>79,"A",IF(Z69>64,"B",IF(Z69>49,"C",IF(Z69>34,"D",IF(Z69>0,"E",""))))) | AE69: =SUM(AB69:AD69) -> 0 | AF69: =IF(AE69>79,"A",IF(AE69>64,"B",IF(AE69>49,"C",IF(AE69>34,"D",IF(AE69>0,"E",""))))) | AG69: =IF('વાર્ષિક પરિણામ પત્રક '!$C69="","",'વાર્ષિક પરિણામ પત્રક '!C69) -> 62 | AK69: =SUM(AH69:AJ69) -> 0 | AL69: =IF(AK69>79,"A",IF(AK69>64,"B",IF(AK69>49,"C",IF(AK69>34,"D",IF(AK69>0,"E",""))))) | AP69: =SUM(AM69:AO69) -> 0 | AQ69: =IF(AP69>79,"A",IF(AP69>64,"B",IF(AP69>49,"C",IF(AP69>34,"D",IF(AP69>0,"E",""))))) | AS69: =IF(AR69>319,"A",IF(AR69>259,"B",IF(AR69>199,"C",IF(AR69>139,"D",IF(AR69>0,"E",""))))) | AT69: =H69+M69+U69+Z69+AE69+AK69+AP69+AR69 -> 0 | AU69: =AT69/11 -> 0 | AV69: =IF(AU69>79,"A",IF(AU69>64,"B",IF(AU69>49,"C",IF(AU69>34,"D",IF(AU69>0,"E","")))))
C70: =IF('વાર્ષિક પરિણામ પત્રક '!$C70="","",'વાર્ષિક પરિણામ પત્રક '!C70) -> 63 | D70: =IF('વાર્ષિક પરિણામ પત્રક '!$D70="","",'વાર્ષિક પરિણામ પત્રક '!D70) | H70: =SUM(E70:G70) -> 0 | I70: =IF(H70>79,"A",IF(H70>64,"B",IF(H70>49,"C",IF(H70>34,"D",IF(H70>0,"E",""))))) | M70: =SUM(J70:L70) -> 0 | N70: =IF(M70>79,"A",IF(M70>64,"B",IF(M70>49,"C",IF(M70>34,"D",IF(M70>0,"E",""))))) | Q70: =IF('વાર્ષિક પરિણામ પત્રક '!$C70="","",'વાર્ષિક પરિણામ પત્રક '!C70) -> 63 | U70: =SUM(R70:T70) -> 0 | V70: =IF(U70>79,"A",IF(U70>64,"B",IF(U70>49,"C",IF(U70>34,"D",IF(U70>0,"E",""))))) | Z70: =SUM(W70:Y70) -> 0 | AA70: =IF(Z70>79,"A",IF(Z70>64,"B",IF(Z70>49,"C",IF(Z70>34,"D",IF(Z70>0,"E",""))))) | AE70: =SUM(AB70:AD70) -> 0 | AF70: =IF(AE70>79,"A",IF(AE70>64,"B",IF(AE70>49,"C",IF(AE70>34,"D",IF(AE70>0,"E",""))))) | AG70: =IF('વાર્ષિક પરિણામ પત્રક '!$C70="","",'વાર્ષિક પરિણામ પત્રક '!C70) -> 63 | AK70: =SUM(AH70:AJ70) -> 0 | AL70: =IF(AK70>79,"A",IF(AK70>64,"B",IF(AK70>49,"C",IF(AK70>34,"D",IF(AK70>0,"E",""))))) | AP70: =SUM(AM70:AO70) -> 0 | AQ70: =IF(AP70>79,"A",IF(AP70>64,"B",IF(AP70>49,"C",IF(AP70>34,"D",IF(AP70>0,"E",""))))) | AS70: =IF(AR70>319,"A",IF(AR70>259,"B",IF(AR70>199,"C",IF(AR70>139,"D",IF(AR70>0,"E",""))))) | AT70: =H70+M70+U70+Z70+AE70+AK70+AP70+AR70 -> 0 | AU70: =AT70/11 -> 0 | AV70: =IF(AU70>79,"A",IF(AU70>64,"B",IF(AU70>49,"C",IF(AU70>34,"D",IF(AU70>0,"E","")))))
C71: =IF('વાર્ષિક પરિણામ પત્રક '!$C71="","",'વાર્ષિક પરિણામ પત્રક '!C71) -> 64 | D71: =IF('વાર્ષિક પરિણામ પત્રક '!$D71="","",'વાર્ષિક પરિણામ પત્રક '!D71) | H71: =SUM(E71:G71) -> 0 | I71: =IF(H71>79,"A",IF(H71>64,"B",IF(H71>49,"C",IF(H71>34,"D",IF(H71>0,"E",""))))) | M71: =SUM(J71:L71) -> 0 | N71: =IF(M71>79,"A",IF(M71>64,"B",IF(M71>49,"C",IF(M71>34,"D",IF(M71>0,"E",""))))) | Q71: =IF('વાર્ષિક પરિણામ પત્રક '!$C71="","",'વાર્ષિક પરિણામ પત્રક '!C71) -> 64 | U71: =SUM(R71:T71) -> 0 | V71: =IF(U71>79,"A",IF(U71>64,"B",IF(U71>49,"C",IF(U71>34,"D",IF(U71>0,"E",""))))) | Z71: =SUM(W71:Y71) -> 0 | AA71: =IF(Z71>79,"A",IF(Z71>64,"B",IF(Z71>49,"C",IF(Z71>34,"D",IF(Z71>0,"E",""))))) | AE71: =SUM(AB71:AD71) -> 0 | AF71: =IF(AE71>79,"A",IF(AE71>64,"B",IF(AE71>49,"C",IF(AE71>34,"D",IF(AE71>0,"E",""))))) | AG71: =IF('વાર્ષિક પરિણામ પત્રક '!$C71="","",'વાર્ષિક પરિણામ પત્રક '!C71) -> 64 | AK71: =SUM(AH71:AJ71) -> 0 | AL71: =IF(AK71>79,"A",IF(AK71>64,"B",IF(AK71>49,"C",IF(AK71>34,"D",IF(AK71>0,"E",""))))) | AP71: =SUM(AM71:AO71) -> 0 | AQ71: =IF(AP71>79,"A",IF(AP71>64,"B",IF(AP71>49,"C",IF(AP71>34,"D",IF(AP71>0,"E",""))))) | AS71: =IF(AR71>319,"A",IF(AR71>259,"B",IF(AR71>199,"C",IF(AR71>139,"D",IF(AR71>0,"E",""))))) | AT71: =H71+M71+U71+Z71+AE71+AK71+AP71+AR71 -> 0 | AU71: =AT71/11 -> 0 | AV71: =IF(AU71>79,"A",IF(AU71>64,"B",IF(AU71>49,"C",IF(AU71>34,"D",IF(AU71>0,"E","")))))
C72: =IF('વાર્ષિક પરિણામ પત્રક '!$C72="","",'વાર્ષિક પરિણામ પત્રક '!C72) -> 65 | D72: =IF('વાર્ષિક પરિણામ પત્રક '!$D72="","",'વાર્ષિક પરિણામ પત્રક '!D72) | H72: =SUM(E72:G72) -> 0 | I72: =IF(H72>79,"A",IF(H72>64,"B",IF(H72>49,"C",IF(H72>34,"D",IF(H72>0,"E",""))))) | M72: =SUM(J72:L72) -> 0 | N72: =IF(M72>79,"A",IF(M72>64,"B",IF(M72>49,"C",IF(M72>34,"D",IF(M72>0,"E",""))))) | Q72: =IF('વાર્ષિક પરિણામ પત્રક '!$C72="","",'વાર્ષિક પરિણામ પત્રક '!C72) -> 65 | U72: =SUM(R72:T72) -> 0 | V72: =IF(U72>79,"A",IF(U72>64,"B",IF(U72>49,"C",IF(U72>34,"D",IF(U72>0,"E",""))))) | Z72: =SUM(W72:Y72) -> 0 | AA72: =IF(Z72>79,"A",IF(Z72>64,"B",IF(Z72>49,"C",IF(Z72>34,"D",IF(Z72>0,"E",""))))) | AE72: =SUM(AB72:AD72) -> 0 | AF72: =IF(AE72>79,"A",IF(AE72>64,"B",IF(AE72>49,"C",IF(AE72>34,"D",IF(AE72>0,"E",""))))) | AG72: =IF('વાર્ષિક પરિણામ પત્રક '!$C72="","",'વાર્ષિક પરિણામ પત્રક '!C72) -> 65 | AK72: =SUM(AH72:AJ72) -> 0 | AL72: =IF(AK72>79,"A",IF(AK72>64,"B",IF(AK72>49,"C",IF(AK72>34,"D",IF(AK72>0,"E",""))))) | AP72: =SUM(AM72:AO72) -> 0 | AQ72: =IF(AP72>79,"A",IF(AP72>64,"B",IF(AP72>49,"C",IF(AP72>34,"D",IF(AP72>0,"E",""))))) | AS72: =IF(AR72>319,"A",IF(AR72>259,"B",IF(AR72>199,"C",IF(AR72>139,"D",IF(AR72>0,"E",""))))) | AT72: =H72+M72+U72+Z72+AE72+AK72+AP72+AR72 -> 0 | AU72: =AT72/11 -> 0 | AV72: =IF(AU72>79,"A",IF(AU72>64,"B",IF(AU72>49,"C",IF(AU72>34,"D",IF(AU72>0,"E","")))))
C73: =IF('વાર્ષિક પરિણામ પત્રક '!$C73="","",'વાર્ષિક પરિણામ પત્રક '!C73) -> 66 | D73: =IF('વાર્ષિક પરિણામ પત્રક '!$D73="","",'વાર્ષિક પરિણામ પત્રક '!D73) | H73: =SUM(E73:G73) -> 0 | I73: =IF(H73>79,"A",IF(H73>64,"B",IF(H73>49,"C",IF(H73>34,"D",IF(H73>0,"E",""))))) | M73: =SUM(J73:L73) -> 0 | N73: =IF(M73>79,"A",IF(M73>64,"B",IF(M73>49,"C",IF(M73>34,"D",IF(M73>0,"E",""))))) | Q73: =IF('વાર્ષિક પરિણામ પત્રક '!$C73="","",'વાર્ષિક પરિણામ પત્રક '!C73) -> 66 | U73: =SUM(R73:T73) -> 0 | V73: =IF(U73>79,"A",IF(U73>64,"B",IF(U73>49,"C",IF(U73>34,"D",IF(U73>0,"E",""))))) | Z73: =SUM(W73:Y73) -> 0 | AA73: =IF(Z73>79,"A",IF(Z73>64,"B",IF(Z73>49,"C",IF(Z73>34,"D",IF(Z73>0,"E",""))))) | AE73: =SUM(AB73:AD73) -> 0 | AF73: =IF(AE73>79,"A",IF(AE73>64,"B",IF(AE73>49,"C",IF(AE73>34,"D",IF(AE73>0,"E",""))))) | AG73: =IF('વાર્ષિક પરિણામ પત્રક '!$C73="","",'વાર્ષિક પરિણામ પત્રક '!C73) -> 66 | AK73: =SUM(AH73:AJ73) -> 0 | AL73: =IF(AK73>79,"A",IF(AK73>64,"B",IF(AK73>49,"C",IF(AK73>34,"D",IF(AK73>0,"E",""))))) | AP73: =SUM(AM73:AO73) -> 0 | AQ73: =IF(AP73>79,"A",IF(AP73>64,"B",IF(AP73>49,"C",IF(AP73>34,"D",IF(AP73>0,"E",""))))) | AS73: =IF(AR73>319,"A",IF(AR73>259,"B",IF(AR73>199,"C",IF(AR73>139,"D",IF(AR73>0,"E",""))))) | AT73: =H73+M73+U73+Z73+AE73+AK73+AP73+AR73 -> 0 | AU73: =AT73/11 -> 0 | AV73: =IF(AU73>79,"A",IF(AU73>64,"B",IF(AU73>49,"C",IF(AU73>34,"D",IF(AU73>0,"E","")))))
C74: =IF('વાર્ષિક પરિણામ પત્રક '!$C74="","",'વાર્ષિક પરિણામ પત્રક '!C74) -> 67 | D74: =IF('વાર્ષિક પરિણામ પત્રક '!$D74="","",'વાર્ષિક પરિણામ પત્રક '!D74) | H74: =SUM(E74:G74) -> 0 | I74: =IF(H74>79,"A",IF(H74>64,"B",IF(H74>49,"C",IF(H74>34,"D",IF(H74>0,"E",""))))) | M74: =SUM(J74:L74) -> 0 | N74: =IF(M74>79,"A",IF(M74>64,"B",IF(M74>49,"C",IF(M74>34,"D",IF(M74>0,"E",""))))) | Q74: =IF('વાર્ષિક પરિણામ પત્રક '!$C74="","",'વાર્ષિક પરિણામ પત્રક '!C74) -> 67 | U74: =SUM(R74:T74) -> 0 | V74: =IF(U74>79,"A",IF(U74>64,"B",IF(U74>49,"C",IF(U74>34,"D",IF(U74>0,"E",""))))) | Z74: =SUM(W74:Y74) -> 0 | AA74: =IF(Z74>79,"A",IF(Z74>64,"B",IF(Z74>49,"C",IF(Z74>34,"D",IF(Z74>0,"E",""))))) | AE74: =SUM(AB74:AD74) -> 0 | AF74: =IF(AE74>79,"A",IF(AE74>64,"B",IF(AE74>49,"C",IF(AE74>34,"D",IF(AE74>0,"E",""))))) | AG74: =IF('વાર્ષિક પરિણામ પત્રક '!$C74="","",'વાર્ષિક પરિણામ પત્રક '!C74) -> 67 | AK74: =SUM(AH74:AJ74) -> 0 | AL74: =IF(AK74>79,"A",IF(AK74>64,"B",IF(AK74>49,"C",IF(AK74>34,"D",IF(AK74>0,"E",""))))) | AP74: =SUM(AM74:AO74) -> 0 | AQ74: =IF(AP74>79,"A",IF(AP74>64,"B",IF(AP74>49,"C",IF(AP74>34,"D",IF(AP74>0,"E",""))))) | AS74: =IF(AR74>319,"A",IF(AR74>259,"B",IF(AR74>199,"C",IF(AR74>139,"D",IF(AR74>0,"E",""))))) | AT74: =H74+M74+U74+Z74+AE74+AK74+AP74+AR74 -> 0 | AU74: =AT74/11 -> 0 | AV74: =IF(AU74>79,"A",IF(AU74>64,"B",IF(AU74>49,"C",IF(AU74>34,"D",IF(AU74>0,"E","")))))
C75: =IF('વાર્ષિક પરિણામ પત્રક '!$C75="","",'વાર્ષિક પરિણામ પત્રક '!C75) -> 68 | D75: =IF('વાર્ષિક પરિણામ પત્રક '!$D75="","",'વાર્ષિક પરિણામ પત્રક '!D75) | H75: =SUM(E75:G75) -> 0 | I75: =IF(H75>79,"A",IF(H75>64,"B",IF(H75>49,"C",IF(H75>34,"D",IF(H75>0,"E",""))))) | M75: =SUM(J75:L75) -> 0 | N75: =IF(M75>79,"A",IF(M75>64,"B",IF(M75>49,"C",IF(M75>34,"D",IF(M75>0,"E",""))))) | Q75: =IF('વાર્ષિક પરિણામ પત્રક '!$C75="","",'વાર્ષિક પરિણામ પત્રક '!C75) -> 68 | U75: =SUM(R75:T75) -> 0 | V75: =IF(U75>79,"A",IF(U75>64,"B",IF(U75>49,"C",IF(U75>34,"D",IF(U75>0,"E",""))))) | Z75: =SUM(W75:Y75) -> 0 | AA75: =IF(Z75>79,"A",IF(Z75>64,"B",IF(Z75>49,"C",IF(Z75>34,"D",IF(Z75>0,"E",""))))) | AE75: =SUM(AB75:AD75) -> 0 | AF75: =IF(AE75>79,"A",IF(AE75>64,"B",IF(AE75>49,"C",IF(AE75>34,"D",IF(AE75>0,"E",""))))) | AG75: =IF('વાર્ષિક પરિણામ પત્રક '!$C75="","",'વાર્ષિક પરિણામ પત્રક '!C75) -> 68 | AK75: =SUM(AH75:AJ75) -> 0 | AL75: =IF(AK75>79,"A",IF(AK75>64,"B",IF(AK75>49,"C",IF(AK75>34,"D",IF(AK75>0,"E",""))))) | AP75: =SUM(AM75:AO75) -> 0 | AQ75: =IF(AP75>79,"A",IF(AP75>64,"B",IF(AP75>49,"C",IF(AP75>34,"D",IF(AP75>0,"E",""))))) | AS75: =IF(AR75>319,"A",IF(AR75>259,"B",IF(AR75>199,"C",IF(AR75>139,"D",IF(AR75>0,"E",""))))) | AT75: =H75+M75+U75+Z75+AE75+AK75+AP75+AR75 -> 0 | AU75: =AT75/11 -> 0 | AV75: =IF(AU75>79,"A",IF(AU75>64,"B",IF(AU75>49,"C",IF(AU75>34,"D",IF(AU75>0,"E","")))))
C76: =IF('વાર્ષિક પરિણામ પત્રક '!$C76="","",'વાર્ષિક પરિણામ પત્રક '!C76) -> 69 | D76: =IF('વાર્ષિક પરિણામ પત્રક '!$D76="","",'વાર્ષિક પરિણામ પત્રક '!D76) | H76: =SUM(E76:G76) -> 0 | I76: =IF(H76>79,"A",IF(H76>64,"B",IF(H76>49,"C",IF(H76>34,"D",IF(H76>0,"E",""))))) | M76: =SUM(J76:L76) -> 0 | N76: =IF(M76>79,"A",IF(M76>64,"B",IF(M76>49,"C",IF(M76>34,"D",IF(M76>0,"E",""))))) | Q76: =IF('વાર્ષિક પરિણામ પત્રક '!$C76="","",'વાર્ષિક પરિણામ પત્રક '!C76) -> 69 | U76: =SUM(R76:T76) -> 0 | V76: =IF(U76>79,"A",IF(U76>64,"B",IF(U76>49,"C",IF(U76>34,"D",IF(U76>0,"E",""))))) | Z76: =SUM(W76:Y76) -> 0 | AA76: =IF(Z76>79,"A",IF(Z76>64,"B",IF(Z76>49,"C",IF(Z76>34,"D",IF(Z76>0,"E",""))))) | AE76: =SUM(AB76:AD76) -> 0 | AF76: =IF(AE76>79,"A",IF(AE76>64,"B",IF(AE76>49,"C",IF(AE76>34,"D",IF(AE76>0,"E",""))))) | AG76: =IF('વાર્ષિક પરિણામ પત્રક '!$C76="","",'વાર્ષિક પરિણામ પત્રક '!C76) -> 69 | AK76: =SUM(AH76:AJ76) -> 0 | AL76: =IF(AK76>79,"A",IF(AK76>64,"B",IF(AK76>49,"C",IF(AK76>34,"D",IF(AK76>0,"E",""))))) | AP76: =SUM(AM76:AO76) -> 0 | AQ76: =IF(AP76>79,"A",IF(AP76>64,"B",IF(AP76>49,"C",IF(AP76>34,"D",IF(AP76>0,"E",""))))) | AS76: =IF(AR76>319,"A",IF(AR76>259,"B",IF(AR76>199,"C",IF(AR76>139,"D",IF(AR76>0,"E",""))))) | AT76: =H76+M76+U76+Z76+AE76+AK76+AP76+AR76 -> 0 | AU76: =AT76/11 -> 0 | AV76: =IF(AU76>79,"A",IF(AU76>64,"B",IF(AU76>49,"C",IF(AU76>34,"D",IF(AU76>0,"E","")))))
A77: =IF('વાર્ષિક પરિણામ પત્રક '!$A70="","",'વાર્ષિક પરિણામ પત્રક '!A70) | B77: =IF('વાર્ષિક પરિણામ પત્રક '!$B70="","",'વાર્ષિક પરિણામ પત્રક '!B70) | C77: =IF('વાર્ષિક પરિણામ પત્રક '!$C77="","",'વાર્ષિક પરિણામ પત્રક '!C77) -> 70 | D77: =IF('વાર્ષિક પરિણામ પત્રક '!$D77="","",'વાર્ષિક પરિણામ પત્રક '!D77) | H77: =SUM(E77:G77) -> 0 | I77: =IF(H77>79,"A",IF(H77>64,"B",IF(H77>49,"C",IF(H77>34,"D",IF(H77>0,"E",""))))) | M77: =SUM(J77:L77) -> 0 | N77: =IF(M77>79,"A",IF(M77>64,"B",IF(M77>49,"C",IF(M77>34,"D",IF(M77>0,"E",""))))) | Q77: =IF('વાર્ષિક પરિણામ પત્રક '!$C77="","",'વાર્ષિક પરિણામ પત્રક '!C77) -> 70 | U77: =SUM(R77:T77) -> 0 | V77: =IF(U77>79,"A",IF(U77>64,"B",IF(U77>49,"C",IF(U77>34,"D",IF(U77>0,"E",""))))) | Z77: =SUM(W77:Y77) -> 0 | AA77: =IF(Z77>79,"A",IF(Z77>64,"B",IF(Z77>49,"C",IF(Z77>34,"D",IF(Z77>0,"E",""))))) | AE77: =SUM(AB77:AD77) -> 0 | AF77: =IF(AE77>79,"A",IF(AE77>64,"B",IF(AE77>49,"C",IF(AE77>34,"D",IF(AE77>0,"E",""))))) | AG77: =IF('વાર્ષિક પરિણામ પત્રક '!$C77="","",'વાર્ષિક પરિણામ પત્રક '!C77) -> 70 | AK77: =SUM(AH77:AJ77) -> 0 | AL77: =IF(AK77>79,"A",IF(AK77>64,"B",IF(AK77>49,"C",IF(AK77>34,"D",IF(AK77>0,"E",""))))) | AP77: =SUM(AM77:AO77) -> 0 | AQ77: =IF(AP77>79,"A",IF(AP77>64,"B",IF(AP77>49,"C",IF(AP77>34,"D",IF(AP77>0,"E",""))))) | AS77: =IF(AR77>319,"A",IF(AR77>259,"B",IF(AR77>199,"C",IF(AR77>139,"D",IF(AR77>0,"E",""))))) | AT77: =H77+M77+U77+Z77+AE77+AK77+AP77+AR77 -> 0 | AU77: =AT77/11 -> 0 | AV77: =IF(AU77>79,"A",IF(AU77>64,"B",IF(AU77>49,"C",IF(AU77>34,"D",IF(AU77>0,"E","")))))
B80: BOY | D80: GIRL | F80: TOTAL
A81: OBC | B81: =SUMPRODUCT(-(-(A8:A79="OBC")),-(-(B8:B79="BOY"))) -> 0 | D81: =SUMPRODUCT(-(-(A8:A79="OBC")),-(-(B8:B79="GIRL"))) -> 0 | F81: =B81+D81 -> 0
A82: SC | B82: =SUMPRODUCT(-(-(A8:A79="SC")),-(-(B8:B79="BOY"))) -> 0 | D82: =SUMPRODUCT(-(-(A8:A79="SC")),-(-(B8:B79="GIRL"))) -> 0 | F82: =B82+D82 -> 0
A83: ST | B83: =SUMPRODUCT(-(-(A8:A79="ST")),-(-(B8:B79="BOY"))) -> 0 | D83: =SUMPRODUCT(-(-(A8:A79="ST")),-(-(B8:B79="GIRL"))) -> 0 | F83: =B83+D83 -> 0
A84: OPEN | B84: =SUMPRODUCT(-(-(A8:A79="OPEN")),-(-(B8:B79="BOY"))) -> 0 | D84: =SUMPRODUCT(-(-(A8:A79="OPEN")),-(-(B8:B79="GIRL"))) -> 0 | F84: =B84+D84 -> 0
A85: TOTAL | B85: =SUM(B80:B84) -> 0 | D85: =SUM(D80:D84) -> 0 | F85: =B85+D85 -> 0

Sheet સત્રાંત વિષયવાર,જાતિવાર ગ્રેડ 
C2: ;+F\T lJQFIJFZ4 HFlTJFZ D[/J[, V[S\NZ[ U|[0 | AA2: ;+F\T lJQFIJFZ4 HFlTJFZ D[/J[, V[S\NZ[ U|[0
A4: WMZ6o | C4: ='વાર્ષિક ટાઇટલ પેઇઝ '!M11 -> 6 | T4: ;G[ov | W4: ='DATA ENTRY'!AM11 -> 2026/2027 | AA4: ='વાર્ષિક ટાઇટલ પેઇઝ '!M11 -> 6 | AR4: ;G[ov | AU4: ='વાર્ષિક ટાઇટલ પેઇઝ '!K8
C5: U]HZFTL | I5: Ul6T | O5: lCgNL | U5: ;FDFlHS lJ7FG | AA5: V\U[|HLÒ | AG5: lJ7FG | AM5: ;\:S'T | AS5: S],
C6: S]DFZ | E6: SgIF | G6: S], | I6: S]DFZ | K6: SgIF | M6: S], | O6: S]DFZ | Q6: SgIF | S6: S], | U6: S]DFZ | W6: SgIF | Y6: S], | AA6: S]DFZ | AC6: SgIF | AE6: S], | AG6: S]DFZ | AI6: SgIF | AK6: S], | AM6: S]DFZ | AO6: SgIF | AQ6: S], | AS6: S]DFZ | AU6: SgIF | AW6: S],
A7: HF lT | B7: U[| 0 | C7: ;\ bIF | D7: 8SF | E7: ;\ bIF | F7: 8SF | G7: ;\ bIF | H7: 8SF | I7: ;\ bIF | J7: 8SF | K7: ;\ bIF | L7: 8SF | M7: ;\ bIF | N7: 8SF | O7: ;\ bIF | P7: 8SF | Q7: ;\ bIF | R7: 8SF | S7: ;\ bIF | T7: 8SF | U7: ;\ bIF | V7: 8SF | W7: ;\ bIF | X7: 8SF | Y7: ;\ bIF | Z7: 8SF | AA7: ;\ bIF | AB7: 8SF | AC7: ;\ bIF | AD7: 8SF | AE7: ;\ bIF | AF7: 8SF | AG7: ;\ bIF | AH7: 8SF | AI7: ;\ bIF | AJ7: 8SF | AK7: ;\ bIF | AL7: 8SF | AM7: ;\ bIF | AN7: 8SF | AO7: ;\ bIF | AP7: 8SF | AQ7: ;\ bIF | AR7: 8SF | AS7: ;\ bIF | AT7: 8SF | AU7: ;\ bIF | AV7: 8SF | AW7: ;\ bIF | AX7: 8SF
A8: A 1FL | B8: A | C8: =SUMPRODUCT(-(-('સત્રાંત પરિણામ પત્રક '!A8:A79="OBC")),-(-('સત્રાંત પરિણામ પત્રક '!B8:B79="BOY")),-(-('સત્રાંત પરિણામ પત્રક '!I8:I79="A"))) -> 0 | D8: =ROUND(C8*100/'સત્રાંત પરિણામ પત્રક '!B81,0) -> #DIV/0! | E8: =SUMPRODUCT(-(-('સત્રાંત પરિણામ પત્રક '!A8:A79="OBC")),-(-('સત્રાંત પરિણામ પત્રક '!B8:B79="GIRL")),-(-('સત્રાંત પરિણામ પત્રક '!I8:I79="A"))) -> 0 | F8: =ROUND(E8*100/'સત્રાંત પરિણામ પત્રક '!D81,0) -> #DIV/0! | G8: =C8+E8 -> 0 | H8: =ROUND(G8*100/'સત્રાંત પરિણામ પત્રક '!F81,0) -> #DIV/0! | I8: =SUMPRODUCT(-(-('સત્રાંત પરિણામ પત્રક '!A8:A79="OBC")),-(-('સત્રાંત પરિણામ પત્રક '!B8:B79="BOY")),-(-('સત્રાંત પરિણામ પત્રક '!N8:N79="A"))) -> 0 | J8: =ROUND(I8*100/'સત્રાંત પરિણામ પત્રક '!B81,0) -> #DIV/0! | K8: =SUMPRODUCT(-(-('સત્રાંત પરિણામ પત્રક '!A8:A79="OBC")),-(-('સત્રાંત પરિણામ પત્રક '!B8:B79="GIRL")),-(-('સત્રાંત પરિણામ પત્રક '!N8:N79="A"))) -> 0 | L8: =ROUND(K8*100/'સત્રાંત પરિણામ પત્રક '!D81,0) -> #DIV/0! | M8: =I8+K8 -> 0 | N8: =ROUND(M8*100/'સત્રાંત પરિણામ પત્રક '!F81,0) -> #DIV/0! | O8: =SUMPRODUCT(-(-('સત્રાંત પરિણામ પત્રક '!A8:A79="OBC")),-(-('સત્રાંત પરિણામ પત્રક '!B8:B79="BOY")),-(-('સત્રાંત પરિણામ પત્રક '!V8:V79="A"))) -> 0 | P8: =ROUND(O8*100/'સત્રાંત પરિણામ પત્રક '!B81,0) -> #DIV/0! | Q8: =SUMPRODUCT(-(-('સત્રાંત પરિણામ પત્રક '!A8:A79="OBC")),-(-('સત્રાંત પરિણામ પત્રક '!B8:B79="GIRL")),-(-('સત્રાંત પરિણામ પત્રક '!V8:V79="A"))) -> 0 | R8: =ROUND(Q8*100/'સત્રાંત પરિણામ પત્રક '!D81,0) -> #DIV/0! | S8: =O8+Q8 -> 0 | T8: =ROUND(S8*100/'સત્રાંત પરિણામ પત્રક '!F81,0) -> #DIV/0! | U8: =SUMPRODUCT(-(-('સત્રાંત પરિણામ પત્રક '!A8:A79="OBC")),-(-('સત્રાંત પરિણામ પત્રક '!B8:B79="BOY")),-(-('સત્રાંત પરિણામ પત્રક '!AA8:AA79="A"))) -> 0 | V8: =ROUND(U8*100/'સત્રાંત પરિણામ પત્રક '!B81,0) -> #DIV/0! | W8: =SUMPRODUCT(-(-('સત્રાંત પરિણામ પત્રક '!A8:A79="OBC")),-(-('સત્રાંત પરિણામ પત્રક '!B8:B79="GIRL")),-(-('સત્રાંત પરિણામ પત્રક '!AA8:AA79="A"))) -> 0 | X8: =ROUND(W8*100/'સત્રાંત પરિણામ પત્રક '!D81,0) -> #DIV/0! | Y8: =U8+W8 -> 0 | Z8: =ROUND(Y8*100/'સત્રાંત પરિણામ પત્રક '!F81,0) -> #DIV/0! | AA8: =SUMPRODUCT(-(-('સત્રાંત પરિણામ પત્રક '!A8:A79="OBC")),-(-('સત્રાંત પરિણામ પત્રક '!B8:B79="BOY")),-(-('સત્રાંત પરિણામ પત્રક '!AF8:AF79="A"))) -> 0 | AB8: =ROUND(AA8*100/'સત્રાંત પરિણામ પત્રક '!B81,0) -> #DIV/0! | AC8: =SUMPRODUCT(-(-('સત્રાંત પરિણામ પત્રક '!A8:A79="OBC")),-(-('સત્રાંત પરિણામ પત્રક '!B8:B79="GIRL")),-(-('સત્રાંત પરિણામ પત્રક '!AF8:AF79="A"))) -> 0 | AD8: =ROUND(AC8*100/'સત્રાંત પરિણામ પત્રક '!D81,0) -> #DIV/0! | AE8: =AA8+AC8 -> 0 | AF8: =ROUND(AE8*100/'સત્રાંત પરિણામ પત્રક '!F81,0) -> #DIV/0! | AG8: =SUMPRODUCT(-(-('સત્રાંત પરિણામ પત્રક '!A8:A79="OBC")),-(-('સત્રાંત પરિણામ પત્રક '!B8:B79="BOY")),-(-('સત્રાંત પરિણામ પત્રક '!AL8:AL79="A"))) -> 0 | AH8: =ROUND(AG8*100/'સત્રાંત પરિણામ પત્રક '!B81,0) -> #DIV/0! | AI8: =SUMPRODUCT(-(-('સત્રાંત પરિણામ પત્રક '!A8:A79="OBC")),-(-('સત્રાંત પરિણામ પત્રક '!B8:B79="GIRL")),-(-('સત્રાંત પરિણામ પત્રક '!AL8:AL79="A"))) -> 0 | AJ8: =ROUND(AI8*100/'સત્રાંત પરિણામ પત્રક '!D81,0) -> #DIV/0! | AK8: =AG8+AI8 -> 0 | AL8: =ROUND(AK8*100/'સત્રાંત પરિણામ પત્રક '!F81,0) -> #DIV/0! | AM8: =SUMPRODUCT(-(-('સત્રાંત પરિણામ પત્રક '!A8:A79="OBC")),-(-('સત્રાંત પરિણામ પત્રક '!B8:B79="BOY")),-(-('સત્રાંત પરિણામ પત્રક '!AQ8:AQ79="A"))) -> 0 | AN8: =ROUND(AM8*100/'સત્રાંત પરિણામ પત્રક '!B81,0) -> #DIV/0! | AO8: =SUMPRODUCT(-(-('સત્રાંત પરિણામ પત્રક '!A8:A79="OBC")),-(-('સત્રાંત પરિણામ પત્રક '!B8:B79="GIRL")),-(-('સત્રાંત પરિણામ પત્રક '!AQ8:AQ79="A"))) -> 0 | AP8: =ROUND(AO8*100/'સત્રાંત પરિણામ પત્રક '!D81,0) -> #DIV/0! | AQ8: =AM8+AO8 -> 0 | AR8: =ROUND(AQ8*100/'સત્રાંત પરિણામ પત્રક '!F81,0) -> #DIV/0! | AS8: =SUMPRODUCT(-(-('સત્રાંત પરિણામ પત્રક '!A8:A79="OBC")),-(-('સત્રાંત પરિણામ પત્રક '!B8:B79="BOY")),-(-('સત્રાંત પરિણામ પત્રક '!AV8:AV79="A"))) -> 0 | AT8: =ROUND(AS8*100/'સત્રાંત પરિણામ પત્રક '!B81,0) -> #DIV/0! | AU8: =SUMPRODUCT(-(-('સત્રાંત પરિણામ પત્રક '!A8:A79="OBC")),-(-('સત્રાંત પરિણામ પત્રક '!B8:B79="GIRL")),-(-('સત્રાંત પરિણામ પત્રક '!AV8:AV79="A"))) -> 0 | AV8: =ROUND(AU8*100/'સત્રાંત પરિણામ પત્રક '!D81,0) -> #DIV/0! | AW8: =AS8+AU8 -> 0 | AX8: =ROUND(AW8*100/'સત્રાંત પરિણામ પત્રક '!F81,0) -> #DIV/0!
B9: B | C9: =SUMPRODUCT(-(-('સત્રાંત પરિણામ પત્રક '!A8:A79="OBC")),-(-('સત્રાંત પરિણામ પત્રક '!B8:B79="BOY")),-(-('સત્રાંત પરિણામ પત્રક '!I8:I79="B"))) -> 0 | D9: =ROUND(C9*100/'સત્રાંત પરિણામ પત્રક '!B81,0) -> #DIV/0! | E9: =SUMPRODUCT(-(-('સત્રાંત પરિણામ પત્રક '!A8:A79="OBC")),-(-('સત્રાંત પરિણામ પત્રક '!B8:B79="GIRL")),-(-('સત્રાંત પરિણામ પત્રક '!I8:I79="B"))) -> 0 | F9: =ROUND(E9*100/'સત્રાંત પરિણામ પત્રક '!D81,0) -> #DIV/0! | G9: =C9+E9 -> 0 | H9: =ROUND(G9*100/'સત્રાંત પરિણામ પત્રક '!F81,0) -> #DIV/0! | I9: =SUMPRODUCT(-(-('સત્રાંત પરિણામ પત્રક '!A8:A79="OBC")),-(-('સત્રાંત પરિણામ પત્રક '!B8:B79="BOY")),-(-('સત્રાંત પરિણામ પત્રક '!N8:N79="B"))) -> 0 | J9: =ROUND(I9*100/'સત્રાંત પરિણામ પત્રક '!B81,0) -> #DIV/0! | K9: =SUMPRODUCT(-(-('સત્રાંત પરિણામ પત્રક '!A8:A79="OBC")),-(-('સત્રાંત પરિણામ પત્રક '!B8:B79="GIRL")),-(-('સત્રાંત પરિણામ પત્રક '!N8:N79="B"))) -> 0 | L9: =ROUND(K9*100/'સત્રાંત પરિણામ પત્રક '!D81,0) -> #DIV/0! | M9: =I9+K9 -> 0 | N9: =ROUND(M9*100/'સત્રાંત પરિણામ પત્રક '!F81,0) -> #DIV/0! | O9: =SUMPRODUCT(-(-('સત્રાંત પરિણામ પત્રક '!A8:A79="OBC")),-(-('સત્રાંત પરિણામ પત્રક '!B8:B79="BOY")),-(-('સત્રાંત પરિણામ પત્રક '!V8:V79="B"))) -> 0 | P9: =ROUND(O9*100/'સત્રાંત પરિણામ પત્રક '!B81,0) -> #DIV/0! | Q9: =SUMPRODUCT(-(-('સત્રાંત પરિણામ પત્રક '!A8:A79="OBC")),-(-('સત્રાંત પરિણામ પત્રક '!B8:B79="GIRL")),-(-('સત્રાંત પરિણામ પત્રક '!V8:V79="B"))) -> 0 | R9: =ROUND(Q9*100/'સત્રાંત પરિણામ પત્રક '!D81,0) -> #DIV/0! | S9: =O9+Q9 -> 0 | T9: =ROUND(S9*100/'સત્રાંત પરિણામ પત્રક '!F81,0) -> #DIV/0! | U9: =SUMPRODUCT(-(-('સત્રાંત પરિણામ પત્રક '!A8:A79="OBC")),-(-('સત્રાંત પરિણામ પત્રક '!B8:B79="BOY")),-(-('સત્રાંત પરિણામ પત્રક '!AA8:AA79="B"))) -> 0 | V9: =ROUND(U9*100/'સત્રાંત પરિણામ પત્રક '!B81,0) -> #DIV/0! | W9: =SUMPRODUCT(-(-('સત્રાંત પરિણામ પત્રક '!A8:A79="OBC")),-(-('સત્રાંત પરિણામ પત્રક '!B8:B79="GIRL")),-(-('સત્રાંત પરિણામ પત્રક '!AA8:AA79="B"))) -> 0 | X9: =ROUND(W9*100/'સત્રાંત પરિણામ પત્રક '!D81,0) -> #DIV/0! | Y9: =U9+W9 -> 0 | Z9: =ROUND(Y9*100/'સત્રાંત પરિણામ પત્રક '!F81,0) -> #DIV/0! | AA9: =SUMPRODUCT(-(-('સત્રાંત પરિણામ પત્રક '!A8:A79="OBC")),-(-('સત્રાંત પરિણામ પત્રક '!B8:B79="BOY")),-(-('સત્રાંત પરિણામ પત્રક '!AF8:AF79="B"))) -> 0 | AB9: =ROUND(AA9*100/'સત્રાંત પરિણામ પત્રક '!B81,0) -> #DIV/0! | AC9: =SUMPRODUCT(-(-('સત્રાંત પરિણામ પત્રક '!A8:A79="OBC")),-(-('સત્રાંત પરિણામ પત્રક '!B8:B79="GIRL")),-(-('સત્રાંત પરિણામ પત્રક '!AF8:AF79="B"))) -> 0 | AD9: =ROUND(AC9*100/'સત્રાંત પરિણામ પત્રક '!D81,0) -> #DIV/0! | AE9: =AA9+AC9 -> 0 | AF9: =ROUND(AE9*100/'સત્રાંત પરિણામ પત્રક '!F81,0) -> #DIV/0! | AG9: =SUMPRODUCT(-(-('સત્રાંત પરિણામ પત્રક '!A8:A79="OBC")),-(-('સત્રાંત પરિણામ પત્રક '!B8:B79="BOY")),-(-('સત્રાંત પરિણામ પત્રક '!AL8:AL79="B"))) -> 0 | AH9: =ROUND(AG9*100/'સત્રાંત પરિણામ પત્રક '!B81,0) -> #DIV/0! | AI9: =SUMPRODUCT(-(-('સત્રાંત પરિણામ પત્રક '!A8:A79="OBC")),-(-('સત્રાંત પરિણામ પત્રક '!B8:B79="GIRL")),-(-('સત્રાંત પરિણામ પત્રક '!AL8:AL79="B"))) -> 0 | AJ9: =ROUND(AI9*100/'સત્રાંત પરિણામ પત્રક '!D81,0) -> #DIV/0! | AK9: =AG9+AI9 -> 0 | AL9: =ROUND(AK9*100/'સત્રાંત પરિણામ પત્રક '!F81,0) -> #DIV/0! | AM9: =SUMPRODUCT(-(-('સત્રાંત પરિણામ પત્રક '!A8:A79="OBC")),-(-('સત્રાંત પરિણામ પત્રક '!B8:B79="BOY")),-(-('સત્રાંત પરિણામ પત્રક '!AQ8:AQ79="B"))) -> 0 | AN9: =ROUND(AM9*100/'સત્રાંત પરિણામ પત્રક '!B81,0) -> #DIV/0! | AO9: =SUMPRODUCT(-(-('સત્રાંત પરિણામ પત્રક '!A8:A79="OBC")),-(-('સત્રાંત પરિણામ પત્રક '!B8:B79="GIRL")),-(-('સત્રાંત પરિણામ પત્રક '!AQ8:AQ79="B"))) -> 0 | AP9: =ROUND(AO9*100/'સત્રાંત પરિણામ પત્રક '!D81,0) -> #DIV/0! | AQ9: =AM9+AO9 -> 0 | AR9: =ROUND(AQ9*100/'સત્રાંત પરિણામ પત્રક '!F81,0) -> #DIV/0! | AS9: =SUMPRODUCT(-(-('સત્રાંત પરિણામ પત્રક '!A8:A79="OBC")),-(-('સત્રાંત પરિણામ પત્રક '!B8:B79="BOY")),-(-('સત્રાંત પરિણામ પત્રક '!AV8:AV79="B"))) -> 0 | AT9: =ROUND(AS9*100/'સત્રાંત પરિણામ પત્રક '!B81,0) -> #DIV/0! | AU9: =SUMPRODUCT(-(-('સત્રાંત પરિણામ પત્રક '!A8:A79="OBC")),-(-('સત્રાંત પરિણામ પત્રક '!B8:B79="GIRL")),-(-('સત્રાંત પરિણામ પત્રક '!AV8:AV79="B"))) -> 0 | AV9: =ROUND(AU9*100/'સત્રાંત પરિણામ પત્રક '!D81,0) -> #DIV/0! | AW9: =AS9+AU9 -> 0 | AX9: =ROUND(AW9*100/'સત્રાંત પરિણામ પત્રક '!F81,0) -> #DIV/0!
B10: C | C10: =SUMPRODUCT(-(-('સત્રાંત પરિણામ પત્રક '!A8:A79="OBC")),-(-('સત્રાંત પરિણામ પત્રક '!B8:B79="BOY")),-(-('સત્રાંત પરિણામ પત્રક '!I8:I79="C"))) -> 0 | D10: =ROUND(C10*100/'સત્રાંત પરિણામ પત્રક '!B81,0) -> #DIV/0! | E10: =SUMPRODUCT(-(-('સત્રાંત પરિણામ પત્રક '!A8:A79="OBC")),-(-('સત્રાંત પરિણામ પત્રક '!B8:B79="GIRL")),-(-('સત્રાંત પરિણામ પત્રક '!I8:I79="C"))) -> 0 | F10: =ROUND(E10*100/'સત્રાંત પરિણામ પત્રક '!D81,0) -> #DIV/0! | G10: =C10+E10 -> 0 | H10: =ROUND(G10*100/'સત્રાંત પરિણામ પત્રક '!F81,0) -> #DIV/0! | I10: =SUMPRODUCT(-(-('સત્રાંત પરિણામ પત્રક '!A8:A79="OBC")),-(-('સત્રાંત પરિણામ પત્રક '!B8:B79="BOY")),-(-('સત્રાંત પરિણામ પત્રક '!N8:N79="C"))) -> 0 | J10: =ROUND(I10*100/'સત્રાંત પરિણામ પત્રક '!B81,0) -> #DIV/0! | K10: =SUMPRODUCT(-(-('સત્રાંત પરિણામ પત્રક '!A8:A79="OBC")),-(-('સત્રાંત પરિણામ પત્રક '!B8:B79="GIRL")),-(-('સત્રાંત પરિણામ પત્રક '!N8:N79="C"))) -> 0 | L10: =ROUND(K10*100/'સત્રાંત પરિણામ પત્રક '!D81,0) -> #DIV/0! | M10: =I10+K10 -> 0 | N10: =ROUND(M10*100/'સત્રાંત પરિણામ પત્રક '!F81,0) -> #DIV/0! | O10: =SUMPRODUCT(-(-('સત્રાંત પરિણામ પત્રક '!A8:A79="OBC")),-(-('સત્રાંત પરિણામ પત્રક '!B8:B79="BOY")),-(-('સત્રાંત પરિણામ પત્રક '!V8:V79="C"))) -> 0 | P10: =ROUND(O10*100/'સત્રાંત પરિણામ પત્રક '!B81,0) -> #DIV/0! | Q10: =SUMPRODUCT(-(-('સત્રાંત પરિણામ પત્રક '!A8:A79="OBC")),-(-('સત્રાંત પરિણામ પત્રક '!B8:B79="GIRL")),-(-('સત્રાંત પરિણામ પત્રક '!V8:V79="C"))) -> 0 | R10: =ROUND(Q10*100/'સત્રાંત પરિણામ પત્રક '!D81,0) -> #DIV/0! | S10: =O10+Q10 -> 0 | T10: =ROUND(S10*100/'સત્રાંત પરિણામ પત્રક '!F81,0) -> #DIV/0! | U10: =SUMPRODUCT(-(-('સત્રાંત પરિણામ પત્રક '!A8:A79="OBC")),-(-('સત્રાંત પરિણામ પત્રક '!B8:B79="BOY")),-(-('સત્રાંત પરિણામ પત્રક '!AA8:AA79="C"))) -> 0 | V10: =ROUND(U10*100/'સત્રાંત પરિણામ પત્રક '!B81,0) -> #DIV/0! | W10: =SUMPRODUCT(-(-('સત્રાંત પરિણામ પત્રક '!A8:A79="OBC")),-(-('સત્રાંત પરિણામ પત્રક '!B8:B79="GIRL")),-(-('સત્રાંત પરિણામ પત્રક '!AA8:AA79="C"))) -> 0 | X10: =ROUND(W10*100/'સત્રાંત પરિણામ પત્રક '!D81,0) -> #DIV/0! | Y10: =U10+W10 -> 0 | Z10: =ROUND(Y10*100/'સત્રાંત પરિણામ પત્રક '!F81,0) -> #DIV/0! | AA10: =SUMPRODUCT(-(-('સત્રાંત પરિણામ પત્રક '!A8:A79="OBC")),-(-('સત્રાંત પરિણામ પત્રક '!B8:B79="BOY")),-(-('સત્રાંત પરિણામ પત્રક '!AF8:AF79="C"))) -> 0 | AB10: =ROUND(AA10*100/'સત્રાંત પરિણામ પત્રક '!B81,0) -> #DIV/0! | AC10: =SUMPRODUCT(-(-('સત્રાંત પરિણામ પત્રક '!A8:A79="OBC")),-(-('સત્રાંત પરિણામ પત્રક '!B8:B79="GIRL")),-(-('સત્રાંત પરિણામ પત્રક '!AF8:AF79="C"))) -> 0 | AD10: =ROUND(AC10*100/'સત્રાંત પરિણામ પત્રક '!D81,0) -> #DIV/0! | AE10: =AA10+AC10 -> 0 | AF10: =ROUND(AE10*100/'સત્રાંત પરિણામ પત્રક '!F81,0) -> #DIV/0! | AG10: =SUMPRODUCT(-(-('સત્રાંત પરિણામ પત્રક '!A8:A79="OBC")),-(-('સત્રાંત પરિણામ પત્રક '!B8:B79="BOY")),-(-('સત્રાંત પરિણામ પત્રક '!AL8:AL79="C"))) -> 0 | AH10: =ROUND(AG10*100/'સત્રાંત પરિણામ પત્રક '!B81,0) -> #DIV/0! | AI10: =SUMPRODUCT(-(-('સત્રાંત પરિણામ પત્રક '!A8:A79="OBC")),-(-('સત્રાંત પરિણામ પત્રક '!B8:B79="GIRL")),-(-('સત્રાંત પરિણામ પત્રક '!AL8:AL79="C"))) -> 0 | AJ10: =ROUND(AI10*100/'સત્રાંત પરિણામ પત્રક '!D81,0) -> #DIV/0! | AK10: =AG10+AI10 -> 0 | AL10: =ROUND(AK10*100/'સત્રાંત પરિણામ પત્રક '!F81,0) -> #DIV/0! | AM10: =SUMPRODUCT(-(-('સત્રાંત પરિણામ પત્રક '!A8:A79="OBC")),-(-('સત્રાંત પરિણામ પત્રક '!B8:B79="BOY")),-(-('સત્રાંત પરિણામ પત્રક '!AQ8:AQ79="C"))) -> 0 | AN10: =ROUND(AM10*100/'સત્રાંત પરિણામ પત્રક '!B81,0) -> #DIV/0! | AO10: =SUMPRODUCT(-(-('સત્રાંત પરિણામ પત્રક '!A8:A79="OBC")),-(-('સત્રાંત પરિણામ પત્રક '!B8:B79="GIRL")),-(-('સત્રાંત પરિણામ પત્રક '!AQ8:AQ79="C"))) -> 0 | AP10: =ROUND(AO10*100/'સત્રાંત પરિણામ પત્રક '!D81,0) -> #DIV/0! | AQ10: =AM10+AO10 -> 0 | AR10: =ROUND(AQ10*100/'સત્રાંત પરિણામ પત્રક '!F81,0) -> #DIV/0! | AS10: =SUMPRODUCT(-(-('સત્રાંત પરિણામ પત્રક '!A8:A79="OBC")),-(-('સત્રાંત પરિણામ પત્રક '!B8:B79="BOY")),-(-('સત્રાંત પરિણામ પત્રક '!AV8:AV79="C"))) -> 0 | AT10: =ROUND(AS10*100/'સત્રાંત પરિણામ પત્રક '!B81,0) -> #DIV/0! | AU10: =SUMPRODUCT(-(-('સત્રાંત પરિણામ પત્રક '!A8:A79="OBC")),-(-('સત્રાંત પરિણામ પત્રક '!B8:B79="GIRL")),-(-('સત્રાંત પરિણામ પત્રક '!AV8:AV79="C"))) -> 0 | AV10: =ROUND(AU10*100/'સત્રાંત પરિણામ પત્રક '!D81,0) -> #DIV/0! | AW10: =AS10+AU10 -> 0 | AX10: =ROUND(AW10*100/'સત્રાંત પરિણામ પત્રક '!F81,0) -> #DIV/0!
B11: D | C11: =SUMPRODUCT(-(-('સત્રાંત પરિણામ પત્રક '!A8:A79="OBC")),-(-('સત્રાંત પરિણામ પત્રક '!B8:B79="BOY")),-(-('સત્રાંત પરિણામ પત્રક '!I8:I79="D"))) -> 0 | D11: =ROUND(C11*100/'સત્રાંત પરિણામ પત્રક '!B81,0) -> #DIV/0! | E11: =SUMPRODUCT(-(-('સત્રાંત પરિણામ પત્રક '!A8:A79="OBC")),-(-('સત્રાંત પરિણામ પત્રક '!B8:B79="GIRL")),-(-('સત્રાંત પરિણામ પત્રક '!I8:I79="D"))) -> 0 | F11: =ROUND(E11*100/'સત્રાંત પરિણામ પત્રક '!D81,0) -> #DIV/0! | G11: =C11+E11 -> 0 | H11: =ROUND(G11*100/'સત્રાંત પરિણામ પત્રક '!F81,0) -> #DIV/0! | I11: =SUMPRODUCT(-(-('સત્રાંત પરિણામ પત્રક '!A8:A79="OBC")),-(-('સત્રાંત પરિણામ પત્રક '!B8:B79="BOY")),-(-('સત્રાંત પરિણામ પત્રક '!N8:N79="D"))) -> 0 | J11: =ROUND(I11*100/'સત્રાંત પરિણામ પત્રક '!B81,0) -> #DIV/0! | K11: =SUMPRODUCT(-(-('સત્રાંત પરિણામ પત્રક '!A8:A79="OBC")),-(-('સત્રાંત પરિણામ પત્રક '!B8:B79="GIRL")),-(-('સત્રાંત પરિણામ પત્રક '!N8:N79="D"))) -> 0 | L11: =ROUND(K11*100/'સત્રાંત પરિણામ પત્રક '!D81,0) -> #DIV/0! | M11: =I11+K11 -> 0 | N11: =ROUND(M11*100/'સત્રાંત પરિણામ પત્રક '!F81,0) -> #DIV/0! | O11: =SUMPRODUCT(-(-('સત્રાંત પરિણામ પત્રક '!A8:A79="OBC")),-(-('સત્રાંત પરિણામ પત્રક '!B8:B79="BOY")),-(-('સત્રાંત પરિણામ પત્રક '!V8:V79="D"))) -> 0 | P11: =ROUND(O11*100/'સત્રાંત પરિણામ પત્રક '!B81,0) -> #DIV/0! | Q11: =SUMPRODUCT(-(-('સત્રાંત પરિણામ પત્રક '!A8:A79="OBC")),-(-('સત્રાંત પરિણામ પત્રક '!B8:B79="GIRL")),-(-('સત્રાંત પરિણામ પત્રક '!V8:V79="D"))) -> 0 | R11: =ROUND(Q11*100/'સત્રાંત પરિણામ પત્રક '!D81,0) -> #DIV/0! | S11: =O11+Q11 -> 0 | T11: =ROUND(S11*100/'સત્રાંત પરિણામ પત્રક '!F81,0) -> #DIV/0! | U11: =SUMPRODUCT(-(-('સત્રાંત પરિણામ પત્રક '!A8:A79="OBC")),-(-('સત્રાંત પરિણામ પત્રક '!B8:B79="BOY")),-(-('સત્રાંત પરિણામ પત્રક '!AA8:AA79="D"))) -> 0 | V11: =ROUND(U11*100/'સત્રાંત પરિણામ પત્રક '!B81,0) -> #DIV/0! | W11: =SUMPRODUCT(-(-('સત્રાંત પરિણામ પત્રક '!A8:A79="OBC")),-(-('સત્રાંત પરિણામ પત્રક '!B8:B79="GIRL")),-(-('સત્રાંત પરિણામ પત્રક '!AA8:AA79="D"))) -> 0 | X11: =ROUND(W11*100/'સત્રાંત પરિણામ પત્રક '!D81,0) -> #DIV/0! | Y11: =U11+W11 -> 0 | Z11: =ROUND(Y11*100/'સત્રાંત પરિણામ પત્રક '!F81,0) -> #DIV/0! | AA11: =SUMPRODUCT(-(-('સત્રાંત પરિણામ પત્રક '!A8:A79="OBC")),-(-('સત્રાંત પરિણામ પત્રક '!B8:B79="BOY")),-(-('સત્રાંત પરિણામ પત્રક '!AF8:AF79="D"))) -> 0 | AB11: =ROUND(AA11*100/'સત્રાંત પરિણામ પત્રક '!B81,0) -> #DIV/0! | AC11: =SUMPRODUCT(-(-('સત્રાંત પરિણામ પત્રક '!A8:A79="OBC")),-(-('સત્રાંત પરિણામ પત્રક '!B8:B79="GIRL")),-(-('સત્રાંત પરિણામ પત્રક '!AF8:AF79="D"))) -> 0 | AD11: =ROUND(AC11*100/'સત્રાંત પરિણામ પત્રક '!D81,0) -> #DIV/0! | AE11: =AA11+AC11 -> 0 | AF11: =ROUND(AE11*100/'સત્રાંત પરિણામ પત્રક '!F81,0) -> #DIV/0! | AG11: =SUMPRODUCT(-(-('સત્રાંત પરિણામ પત્રક '!A8:A79="OBC")),-(-('સત્રાંત પરિણામ પત્રક '!B8:B79="BOY")),-(-('સત્રાંત પરિણામ પત્રક '!AL8:AL79="D"))) -> 0 | AH11: =ROUND(AG11*100/'સત્રાંત પરિણામ પત્રક '!B81,0) -> #DIV/0! | AI11: =SUMPRODUCT(-(-('સત્રાંત પરિણામ પત્રક '!A8:A79="OBC")),-(-('સત્રાંત પરિણામ પત્રક '!B8:B79="GIRL")),-(-('સત્રાંત પરિણામ પત્રક '!AL8:AL79="D"))) -> 0 | AJ11: =ROUND(AI11*100/'સત્રાંત પરિણામ પત્રક '!D81,0) -> #DIV/0! | AK11: =AG11+AI11 -> 0 | AL11: =ROUND(AK11*100/'સત્રાંત પરિણામ પત્રક '!F81,0) -> #DIV/0! | AM11: =SUMPRODUCT(-(-('સત્રાંત પરિણામ પત્રક '!A8:A79="OBC")),-(-('સત્રાંત પરિણામ પત્રક '!B8:B79="BOY")),-(-('સત્રાંત પરિણામ પત્રક '!AQ8:AQ79="D"))) -> 0 | AN11: =ROUND(AM11*100/'સત્રાંત પરિણામ પત્રક '!B81,0) -> #DIV/0! | AO11: =SUMPRODUCT(-(-('સત્રાંત પરિણામ પત્રક '!A8:A79="OBC")),-(-('સત્રાંત પરિણામ પત્રક '!B8:B79="GIRL")),-(-('સત્રાંત પરિણામ પત્રક '!AQ8:AQ79="D"))) -> 0 | AP11: =ROUND(AO11*100/'સત્રાંત પરિણામ પત્રક '!D81,0) -> #DIV/0! | AQ11: =AM11+AO11 -> 0 | AR11: =ROUND(AQ11*100/'સત્રાંત પરિણામ પત્રક '!F81,0) -> #DIV/0! | AS11: =SUMPRODUCT(-(-('સત્રાંત પરિણામ પત્રક '!A8:A79="OBC")),-(-('સત્રાંત પરિણામ પત્રક '!B8:B79="BOY")),-(-('સત્રાંત પરિણામ પત્રક '!AV8:AV79="D"))) -> 0 | AT11: =ROUND(AS11*100/'સત્રાંત પરિણામ પત્રક '!B81,0) -> #DIV/0! | AU11: =SUMPRODUCT(-(-('સત્રાંત પરિણામ પત્રક '!A8:A79="OBC")),-(-('સત્રાંત પરિણામ પત્રક '!B8:B79="GIRL")),-(-('સત્રાંત પરિણામ પત્રક '!AV8:AV79="D"))) -> 0 | AV11: =ROUND(AU11*100/'સત્રાંત પરિણામ પત્રક '!D81,0) -> #DIV/0! | AW11: =AS11+AU11 -> 0 | AX11: =ROUND(AW11*100/'સત્રાંત પરિણામ પત્રક '!F81,0) -> #DIV/0!
B12: E | C12: =SUMPRODUCT(-(-('સત્રાંત પરિણામ પત્રક '!A8:A79="OBC")),-(-('સત્રાંત પરિણામ પત્રક '!B8:B79="BOY")),-(-('સત્રાંત પરિણામ પત્રક '!I8:I79="E"))) -> 0 | D12: =ROUND(C12*100/'સત્રાંત પરિણામ પત્રક '!B81,0) -> #DIV/0! | E12: =SUMPRODUCT(-(-('સત્રાંત પરિણામ પત્રક '!A8:A79="OBC")),-(-('સત્રાંત પરિણામ પત્રક '!B8:B79="GIRL")),-(-('સત્રાંત પરિણામ પત્રક '!I8:I79="E"))) -> 0 | F12: =ROUND(E12*100/'સત્રાંત પરિણામ પત્રક '!D81,0) -> #DIV/0! | G12: =C12+E12 -> 0 | H12: =ROUND(G12*100/'સત્રાંત પરિણામ પત્રક '!F81,0) -> #DIV/0! | I12: =SUMPRODUCT(-(-('સત્રાંત પરિણામ પત્રક '!A8:A79="OBC")),-(-('સત્રાંત પરિણામ પત્રક '!B8:B79="BOY")),-(-('સત્રાંત પરિણામ પત્રક '!N8:N79="E"))) -> 0 | J12: =ROUND(I12*100/'સત્રાંત પરિણામ પત્રક '!B81,0) -> #DIV/0! | K12: =SUMPRODUCT(-(-('સત્રાંત પરિણામ પત્રક '!A8:A79="OBC")),-(-('સત્રાંત પરિણામ પત્રક '!B8:B79="GIRL")),-(-('સત્રાંત પરિણામ પત્રક '!N8:N79="E"))) -> 0 | L12: =ROUND(K12*100/'સત્રાંત પરિણામ પત્રક '!D81,0) -> #DIV/0! | M12: =I12+K12 -> 0 | N12: =ROUND(M12*100/'સત્રાંત પરિણામ પત્રક '!F81,0) -> #DIV/0! | O12: =SUMPRODUCT(-(-('સત્રાંત પરિણામ પત્રક '!A8:A79="OBC")),-(-('સત્રાંત પરિણામ પત્રક '!B8:B79="BOY")),-(-('સત્રાંત પરિણામ પત્રક '!V8:V79="E"))) -> 0 | P12: =ROUND(O12*100/'સત્રાંત પરિણામ પત્રક '!B81,0) -> #DIV/0! | Q12: =SUMPRODUCT(-(-('સત્રાંત પરિણામ પત્રક '!A8:A79="OBC")),-(-('સત્રાંત પરિણામ પત્રક '!B8:B79="GIRL")),-(-('સત્રાંત પરિણામ પત્રક '!V8:V79="E"))) -> 0 | R12: =ROUND(Q12*100/'સત્રાંત પરિણામ પત્રક '!D81,0) -> #DIV/0! | S12: =O12+Q12 -> 0 | T12: =ROUND(S12*100/'સત્રાંત પરિણામ પત્રક '!F81,0) -> #DIV/0! | U12: =SUMPRODUCT(-(-('સત્રાંત પરિણામ પત્રક '!A8:A79="OBC")),-(-('સત્રાંત પરિણામ પત્રક '!B8:B79="BOY")),-(-('સત્રાંત પરિણામ પત્રક '!AA8:AA79="E"))) -> 0 | V12: =ROUND(U12*100/'સત્રાંત પરિણામ પત્રક '!B81,0) -> #DIV/0! | W12: =SUMPRODUCT(-(-('સત્રાંત પરિણામ પત્રક '!A8:A79="OBC")),-(-('સત્રાંત પરિણામ પત્રક '!B8:B79="GIRL")),-(-('સત્રાંત પરિણામ પત્રક '!AA8:AA79="E"))) -> 0 | X12: =ROUND(W12*100/'સત્રાંત પરિણામ પત્રક '!D81,0) -> #DIV/0! | Y12: =U12+W12 -> 0 | Z12: =ROUND(Y12*100/'સત્રાંત પરિણામ પત્રક '!F81,0) -> #DIV/0! | AA12: =SUMPRODUCT(-(-('સત્રાંત પરિણામ પત્રક '!A8:A79="OBC")),-(-('સત્રાંત પરિણામ પત્રક '!B8:B79="BOY")),-(-('સત્રાંત પરિણામ પત્રક '!AF8:AF79="E"))) -> 0 | AB12: =ROUND(AA12*100/'સત્રાંત પરિણામ પત્રક '!B81,0) -> #DIV/0! | AC12: =SUMPRODUCT(-(-('સત્રાંત પરિણામ પત્રક '!A8:A79="OBC")),-(-('સત્રાંત પરિણામ પત્રક '!B8:B79="GIRL")),-(-('સત્રાંત પરિણામ પત્રક '!AF8:AF79="E"))) -> 0 | AD12: =ROUND(AC12*100/'સત્રાંત પરિણામ પત્રક '!D81,0) -> #DIV/0! | AE12: =AA12+AC12 -> 0 | AF12: =ROUND(AE12*100/'સત્રાંત પરિણામ પત્રક '!F81,0) -> #DIV/0! | AG12: =SUMPRODUCT(-(-('સત્રાંત પરિણામ પત્રક '!A8:A79="OBC")),-(-('સત્રાંત પરિણામ પત્રક '!B8:B79="BOY")),-(-('સત્રાંત પરિણામ પત્રક '!AL8:AL79="E"))) -> 0 | AH12: =ROUND(AG12*100/'સત્રાંત પરિણામ પત્રક '!B81,0) -> #DIV/0! | AI12: =SUMPRODUCT(-(-('સત્રાંત પરિણામ પત્રક '!A8:A79="OBC")),-(-('સત્રાંત પરિણામ પત્રક '!B8:B79="GIRL")),-(-('સત્રાંત પરિણામ પત્રક '!AL8:AL79="E"))) -> 0 | AJ12: =ROUND(AI12*100/'સત્રાંત પરિણામ પત્રક '!D81,0) -> #DIV/0! | AK12: =AG12+AI12 -> 0 | AL12: =ROUND(AK12*100/'સત્રાંત પરિણામ પત્રક '!F81,0) -> #DIV/0! | AM12: =SUMPRODUCT(-(-('સત્રાંત પરિણામ પત્રક '!A8:A79="OBC")),-(-('સત્રાંત પરિણામ પત્રક '!B8:B79="BOY")),-(-('સત્રાંત પરિણામ પત્રક '!AQ8:AQ79="E"))) -> 0 | AN12: =ROUND(AM12*100/'સત્રાંત પરિણામ પત્રક '!B81,0) -> #DIV/0! | AO12: =SUMPRODUCT(-(-('સત્રાંત પરિણામ પત્રક '!A8:A79="OBC")),-(-('સત્રાંત પરિણામ પત્રક '!B8:B79="GIRL")),-(-('સત્રાંત પરિણામ પત્રક '!AQ8:AQ79="E"))) -> 0 | AP12: =ROUND(AO12*100/'સત્રાંત પરિણામ પત્રક '!D81,0) -> #DIV/0! | AQ12: =AM12+AO12 -> 0 | AR12: =ROUND(AQ12*100/'સત્રાંત પરિણામ પત્રક '!F81,0) -> #DIV/0! | AS12: =SUMPRODUCT(-(-('સત્રાંત પરિણામ પત્રક '!A8:A79="OBC")),-(-('સત્રાંત પરિણામ પત્રક '!B8:B79="BOY")),-(-('સત્રાંત પરિણામ પત્રક '!AV8:AV79="E"))) -> 0 | AT12: =ROUND(AS12*100/'સત્રાંત પરિણામ પત્રક '!B81,0) -> #DIV/0! | AU12: =SUMPRODUCT(-(-('સત્રાંત પરિણામ પત્રક '!A8:A79="OBC")),-(-('સત્રાંત પરિણામ પત્રક '!B8:B79="GIRL")),-(-('સત્રાંત પરિણામ પત્રક '!AV8:AV79="E"))) -> 0 | AV12: =ROUND(AU12*100/'સત્રાંત પરિણામ પત્રક '!D81,0) -> #DIV/0! | AW12: =AS12+AU12 -> 0 | AX12: =ROUND(AW12*100/'સત્રાંત પરિણામ પત્રક '!F81,0) -> #DIV/0!
A13: S], | C13: =SUM(C8:C12) -> 0 | D13: =ROUND(C13*100/'સત્રાંત પરિણામ પત્રક '!B81,0) -> #DIV/0! | E13: =SUM(E8:E12) -> 0 | F13: =ROUND(E13*100/'સત્રાંત પરિણામ પત્રક '!D81,0) -> #DIV/0! | G13: =SUM(G8:G12) -> 0 | H13: =ROUND(G13*100/'સત્રાંત પરિણામ પત્રક '!F81,0) -> #DIV/0! | I13: =SUM(I8:I12) -> 0 | J13: =ROUND(I13*100/'સત્રાંત પરિણામ પત્રક '!B81,0) -> #DIV/0! | K13: =SUM(K8:K12) -> 0 | L13: =ROUND(K13*100/'સત્રાંત પરિણામ પત્રક '!D81,0) -> #DIV/0! | M13: =SUM(M8:M12) -> 0 | N13: =ROUND(M13*100/'સત્રાંત પરિણામ પત્રક '!F81,0) -> #DIV/0! | O13: =SUM(O8:O12) -> 0 | P13: =ROUND(O13*100/'સત્રાંત પરિણામ પત્રક '!B81,0) -> #DIV/0! | Q13: =SUM(Q8:Q12) -> 0 | R13: =ROUND(Q13*100/'સત્રાંત પરિણામ પત્રક '!D81,0) -> #DIV/0! | S13: =SUM(S8:S12) -> 0 | T13: =ROUND(S13*100/'સત્રાંત પરિણામ પત્રક '!F81,0) -> #DIV/0! | U13: =SUM(U8:U12) -> 0 | V13: =ROUND(U13*100/'સત્રાંત પરિણામ પત્રક '!B81,0) -> #DIV/0! | W13: =SUM(W8:W12) -> 0 | X13: =ROUND(W13*100/'સત્રાંત પરિણામ પત્રક '!D81,0) -> #DIV/0! | Y13: =SUM(Y8:Y12) -> 0 | Z13: =ROUND(Y13*100/'સત્રાંત પરિણામ પત્રક '!F81,0) -> #DIV/0! | AA13: =SUM(AA8:AA12) -> 0 | AB13: =ROUND(AA13*100/'સત્રાંત પરિણામ પત્રક '!B81,0) -> #DIV/0! | AC13: =SUM(AC8:AC12) -> 0 | AD13: =ROUND(AC13*100/'સત્રાંત પરિણામ પત્રક '!D81,0) -> #DIV/0! | AE13: =SUM(AE8:AE12) -> 0 | AF13: =ROUND(AE13*100/'સત્રાંત પરિણામ પત્રક '!F81,0) -> #DIV/0! | AG13: =SUM(AG8:AG12) -> 0 | AH13: =ROUND(AG13*100/'સત્રાંત પરિણામ પત્રક '!B81,0) -> #DIV/0! | AI13: =SUM(AI8:AI12) -> 0 | AJ13: =ROUND(AI13*100/'સત્રાંત પરિણામ પત્રક '!D81,0) -> #DIV/0! | AK13: =SUM(AK8:AK12) -> 0 | AL13: =ROUND(AK13*100/'સત્રાંત પરિણામ પત્રક '!F81,0) -> #DIV/0! | AM13: =SUM(AM8:AM12) -> 0 | AN13: =ROUND(AM13*100/'સત્રાંત પરિણામ પત્રક '!B81,0) -> #DIV/0! | AO13: =SUM(AO8:AO12) -> 0 | AP13: =ROUND(AO13*100/'સત્રાંત પરિણામ પત્રક '!D81,0) -> #DIV/0! | AQ13: =SUM(AQ8:AQ12) -> 0 | AR13: =ROUND(AQ13*100/'સત્રાંત પરિણામ પત્રક '!F81,0) -> #DIV/0! | AS13: =SUM(AS8:AS12) -> 0 | AT13: =ROUND(AS13*100/'સત્રાંત પરિણામ પત્રક '!B81,0) -> #DIV/0! | AU13: =SUM(AU8:AU12) -> 0 | AV13: =ROUND(AU13*100/'સત્રાંત પરિણામ પત્રક '!D81,0) -> #DIV/0! | AW13: =SUM(AW8:AW12) -> 0 | AX13: =ROUND(AW13*100/'સત્રાંત પરિણામ પત્રક '!F81,0) -> #DIV/0!
A14: VP HF | B14: A | C14: =SUMPRODUCT(-(-('સત્રાંત પરિણામ પત્રક '!A8:A79="SC")),-(-('સત્રાંત પરિણામ પત્રક '!B8:B79="BOY")),-(-('સત્રાંત પરિણામ પત્રક '!I8:I79="A"))) -> 0 | D14: =ROUND(C14*100/'સત્રાંત પરિણામ પત્રક '!B82,0) -> #DIV/0! | E14: =SUMPRODUCT(-(-('સત્રાંત પરિણામ પત્રક '!A8:A79="SC")),-(-('સત્રાંત પરિણામ પત્રક '!B8:B79="GIRL")),-(-('સત્રાંત પરિણામ પત્રક '!I8:I79="A"))) -> 0 | F14: =ROUND(E14*100/'સત્રાંત પરિણામ પત્રક '!D82,0) -> #DIV/0! | G14: =C14+E14 -> 0 | H14: =ROUND(G14*100/'સત્રાંત પરિણામ પત્રક '!F82,0) -> #DIV/0! | I14: =SUMPRODUCT(-(-('સત્રાંત પરિણામ પત્રક '!A8:A79="SC")),-(-('સત્રાંત પરિણામ પત્રક '!B8:B79="BOY")),-(-('સત્રાંત પરિણામ પત્રક '!N8:N79="A"))) -> 0 | J14: =ROUND(I14*100/'સત્રાંત પરિણામ પત્રક '!B82,0) -> #DIV/0! | K14: =SUMPRODUCT(-(-('સત્રાંત પરિણામ પત્રક '!A8:A79="SC")),-(-('સત્રાંત પરિણામ પત્રક '!B8:B79="GIRL")),-(-('સત્રાંત પરિણામ પત્રક '!N8:N79="A"))) -> 0 | L14: =ROUND(K14*100/'સત્રાંત પરિણામ પત્રક '!D82,0) -> #DIV/0! | M14: =I14+K14 -> 0 | N14: =ROUND(M14*100/'સત્રાંત પરિણામ પત્રક '!F82,0) -> #DIV/0! | O14: =SUMPRODUCT(-(-('સત્રાંત પરિણામ પત્રક '!A8:A79="SC")),-(-('સત્રાંત પરિણામ પત્રક '!B8:B79="BOY")),-(-('સત્રાંત પરિણામ પત્રક '!V8:V79="A"))) -> 0 | P14: =ROUND(O14*100/'સત્રાંત પરિણામ પત્રક '!B82,0) -> #DIV/0! | Q14: =SUMPRODUCT(-(-('સત્રાંત પરિણામ પત્રક '!A8:A79="SC")),-(-('સત્રાંત પરિણામ પત્રક '!B8:B79="GIRL")),-(-('સત્રાંત પરિણામ પત્રક '!V8:V79="A"))) -> 0 | R14: =ROUND(Q14*100/'સત્રાંત પરિણામ પત્રક '!D82,0) -> #DIV/0! | S14: =O14+Q14 -> 0 | T14: =ROUND(S14*100/'સત્રાંત પરિણામ પત્રક '!F82,0) -> #DIV/0! | U14: =SUMPRODUCT(-(-('સત્રાંત પરિણામ પત્રક '!A8:A79="SC")),-(-('સત્રાંત પરિણામ પત્રક '!B8:B79="BOY")),-(-('સત્રાંત પરિણામ પત્રક '!AA8:AA79="A"))) -> 0 | V14: =ROUND(U14*100/'સત્રાંત પરિણામ પત્રક '!B82,0) -> #DIV/0! | W14: =SUMPRODUCT(-(-('સત્રાંત પરિણામ પત્રક '!A8:A79="SC")),-(-('સત્રાંત પરિણામ પત્રક '!B8:B79="GIRL")),-(-('સત્રાંત પરિણામ પત્રક '!AA8:AA79="A"))) -> 0 | X14: =ROUND(W14*100/'સત્રાંત પરિણામ પત્રક '!D82,0) -> #DIV/0! | Y14: =U14+W14 -> 0 | Z14: =ROUND(Y14*100/'સત્રાંત પરિણામ પત્રક '!F82,0) -> #DIV/0! | AA14: =SUMPRODUCT(-(-('સત્રાંત પરિણામ પત્રક '!A8:A79="SC")),-(-('સત્રાંત પરિણામ પત્રક '!B8:B79="BOY")),-(-('સત્રાંત પરિણામ પત્રક '!AF8:AF79="A"))) -> 0 | AB14: =ROUND(AA14*100/'સત્રાંત પરિણામ પત્રક '!B82,0) -> #DIV/0! | AC14: =SUMPRODUCT(-(-('સત્રાંત પરિણામ પત્રક '!A8:A79="SC")),-(-('સત્રાંત પરિણામ પત્રક '!B8:B79="GIRL")),-(-('સત્રાંત પરિણામ પત્રક '!AF8:AF79="A"))) -> 0 | AD14: =ROUND(AC14*100/'સત્રાંત પરિણામ પત્રક '!D82,0) -> #DIV/0! | AE14: =AA14+AC14 -> 0 | AF14: =ROUND(AE14*100/'સત્રાંત પરિણામ પત્રક '!F82,0) -> #DIV/0! | AG14: =SUMPRODUCT(-(-('સત્રાંત પરિણામ પત્રક '!A8:A79="SC")),-(-('સત્રાંત પરિણામ પત્રક '!B8:B79="BOY")),-(-('સત્રાંત પરિણામ પત્રક '!AL8:AL79="A"))) -> 0 | AH14: =ROUND(AG14*100/'સત્રાંત પરિણામ પત્રક '!B82,0) -> #DIV/0! | AI14: =SUMPRODUCT(-(-('સત્રાંત પરિણામ પત્રક '!A8:A79="SC")),-(-('સત્રાંત પરિણામ પત્રક '!B8:B79="GIRL")),-(-('સત્રાંત પરિણામ પત્રક '!AL8:AL79="A"))) -> 0 | AJ14: =ROUND(AI14*100/'સત્રાંત પરિણામ પત્રક '!D82,0) -> #DIV/0! | AK14: =AG14+AI14 -> 0 | AL14: =ROUND(AK14*100/'સત્રાંત પરિણામ પત્રક '!F82,0) -> #DIV/0! | AM14: =SUMPRODUCT(-(-('સત્રાંત પરિણામ પત્રક '!A8:A79="SC")),-(-('સત્રાંત પરિણામ પત્રક '!B8:B79="BOY")),-(-('સત્રાંત પરિણામ પત્રક '!AQ8:AQ79="A"))) -> 0 | AN14: =ROUND(AM14*100/'સત્રાંત પરિણામ પત્રક '!B82,0) -> #DIV/0! | AO14: =SUMPRODUCT(-(-('સત્રાંત પરિણામ પત્રક '!A8:A79="SC")),-(-('સત્રાંત પરિણામ પત્રક '!B8:B79="GIRL")),-(-('સત્રાંત પરિણામ પત્રક '!AQ8:AQ79="A"))) -> 0 | AP14: =ROUND(AO14*100/'સત્રાંત પરિણામ પત્રક '!D82,0) -> #DIV/0! | AQ14: =AM14+AO14 -> 0 | AR14: =ROUND(AQ14*100/'સત્રાંત પરિણામ પત્રક '!F82,0) -> #DIV/0! | AS14: =SUMPRODUCT(-(-('સત્રાંત પરિણામ પત્રક '!A8:A79="SC")),-(-('સત્રાંત પરિણામ પત્રક '!B8:B79="BOY")),-(-('સત્રાંત પરિણામ પત્રક '!AV8:AV79="A"))) -> 0 | AT14: =ROUND(AS14*100/'સત્રાંત પરિણામ પત્રક '!B82,0) -> #DIV/0! | AU14: =SUMPRODUCT(-(-('સત્રાંત પરિણામ પત્રક '!A8:A79="SC")),-(-('સત્રાંત પરિણામ પત્રક '!B8:B79="GIRL")),-(-('સત્રાંત પરિણામ પત્રક '!AV8:AV79="A"))) -> 0 | AV14: =ROUND(AU14*100/'સત્રાંત પરિણામ પત્રક '!D82,0) -> #DIV/0! | AW14: =AS14+AU14 -> 0 | AX14: =ROUND(AW14*100/'સત્રાંત પરિણામ પત્રક '!F82,0) -> #DIV/0!
B15: B | C15: =SUMPRODUCT(-(-('સત્રાંત પરિણામ પત્રક '!A8:A79="SC")),-(-('સત્રાંત પરિણામ પત્રક '!B8:B79="BOY")),-(-('સત્રાંત પરિણામ પત્રક '!I8:I79="B"))) -> 0 | D15: =ROUND(C15*100/'સત્રાંત પરિણામ પત્રક '!B82,0) -> #DIV/0! | E15: =SUMPRODUCT(-(-('સત્રાંત પરિણામ પત્રક '!A8:A79="SC")),-(-('સત્રાંત પરિણામ પત્રક '!B8:B79="GIRL")),-(-('સત્રાંત પરિણામ પત્રક '!I8:I79="B"))) -> 0 | F15: =ROUND(E15*100/'સત્રાંત પરિણામ પત્રક '!D82,0) -> #DIV/0! | G15: =C15+E15 -> 0 | H15: =ROUND(G15*100/'સત્રાંત પરિણામ પત્રક '!F82,0) -> #DIV/0! | I15: =SUMPRODUCT(-(-('સત્રાંત પરિણામ પત્રક '!A8:A79="SC")),-(-('સત્રાંત પરિણામ પત્રક '!B8:B79="BOY")),-(-('સત્રાંત પરિણામ પત્રક '!N8:N79="B"))) -> 0 | J15: =ROUND(I15*100/'સત્રાંત પરિણામ પત્રક '!B82,0) -> #DIV/0! | K15: =SUMPRODUCT(-(-('સત્રાંત પરિણામ પત્રક '!A8:A79="SC")),-(-('સત્રાંત પરિણામ પત્રક '!B8:B79="GIRL")),-(-('સત્રાંત પરિણામ પત્રક '!N8:N79="B"))) -> 0 | L15: =ROUND(K15*100/'સત્રાંત પરિણામ પત્રક '!D82,0) -> #DIV/0! | M15: =I15+K15 -> 0 | N15: =ROUND(M15*100/'સત્રાંત પરિણામ પત્રક '!F82,0) -> #DIV/0! | O15: =SUMPRODUCT(-(-('સત્રાંત પરિણામ પત્રક '!A8:A79="SC")),-(-('સત્રાંત પરિણામ પત્રક '!B8:B79="BOY")),-(-('સત્રાંત પરિણામ પત્રક '!V8:V79="B"))) -> 0 | P15: =ROUND(O15*100/'સત્રાંત પરિણામ પત્રક '!B82,0) -> #DIV/0! | Q15: =SUMPRODUCT(-(-('સત્રાંત પરિણામ પત્રક '!A8:A79="SC")),-(-('સત્રાંત પરિણામ પત્રક '!B8:B79="GIRL")),-(-('સત્રાંત પરિણામ પત્રક '!V8:V79="B"))) -> 0 | R15: =ROUND(Q15*100/'સત્રાંત પરિણામ પત્રક '!D82,0) -> #DIV/0! | S15: =O15+Q15 -> 0 | T15: =ROUND(S15*100/'સત્રાંત પરિણામ પત્રક '!F82,0) -> #DIV/0! | U15: =SUMPRODUCT(-(-('સત્રાંત પરિણામ પત્રક '!A8:A79="SC")),-(-('સત્રાંત પરિણામ પત્રક '!B8:B79="BOY")),-(-('સત્રાંત પરિણામ પત્રક '!AA8:AA79="B"))) -> 0 | V15: =ROUND(U15*100/'સત્રાંત પરિણામ પત્રક '!B82,0) -> #DIV/0! | W15: =SUMPRODUCT(-(-('સત્રાંત પરિણામ પત્રક '!A8:A79="SC")),-(-('સત્રાંત પરિણામ પત્રક '!B8:B79="GIRL")),-(-('સત્રાંત પરિણામ પત્રક '!AA8:AA79="B"))) -> 0 | X15: =ROUND(W15*100/'સત્રાંત પરિણામ પત્રક '!D82,0) -> #DIV/0! | Y15: =U15+W15 -> 0 | Z15: =ROUND(Y15*100/'સત્રાંત પરિણામ પત્રક '!F82,0) -> #DIV/0! | AA15: =SUMPRODUCT(-(-('સત્રાંત પરિણામ પત્રક '!A8:A79="SC")),-(-('સત્રાંત પરિણામ પત્રક '!B8:B79="BOY")),-(-('સત્રાંત પરિણામ પત્રક '!AF8:AF79="B"))) -> 0 | AB15: =ROUND(AA15*100/'સત્રાંત પરિણામ પત્રક '!B82,0) -> #DIV/0! | AC15: =SUMPRODUCT(-(-('સત્રાંત પરિણામ પત્રક '!A8:A79="SC")),-(-('સત્રાંત પરિણામ પત્રક '!B8:B79="GIRL")),-(-('સત્રાંત પરિણામ પત્રક '!AF8:AF79="B"))) -> 0 | AD15: =ROUND(AC15*100/'સત્રાંત પરિણામ પત્રક '!D82,0) -> #DIV/0! | AE15: =AA15+AC15 -> 0 | AF15: =ROUND(AE15*100/'સત્રાંત પરિણામ પત્રક '!F82,0) -> #DIV/0! | AG15: =SUMPRODUCT(-(-('સત્રાંત પરિણામ પત્રક '!A8:A79="SC")),-(-('સત્રાંત પરિણામ પત્રક '!B8:B79="BOY")),-(-('સત્રાંત પરિણામ પત્રક '!AL8:AL79="B"))) -> 0 | AH15: =ROUND(AG15*100/'સત્રાંત પરિણામ પત્રક '!B82,0) -> #DIV/0! | AI15: =SUMPRODUCT(-(-('સત્રાંત પરિણામ પત્રક '!A8:A79="SC")),-(-('સત્રાંત પરિણામ પત્રક '!B8:B79="GIRL")),-(-('સત્રાંત પરિણામ પત્રક '!AL8:AL79="B"))) -> 0 | AJ15: =ROUND(AI15*100/'સત્રાંત પરિણામ પત્રક '!D82,0) -> #DIV/0! | AK15: =AG15+AI15 -> 0 | AL15: =ROUND(AK15*100/'સત્રાંત પરિણામ પત્રક '!F82,0) -> #DIV/0! | AM15: =SUMPRODUCT(-(-('સત્રાંત પરિણામ પત્રક '!A8:A79="SC")),-(-('સત્રાંત પરિણામ પત્રક '!B8:B79="BOY")),-(-('સત્રાંત પરિણામ પત્રક '!AQ8:AQ79="B"))) -> 0 | AN15: =ROUND(AM15*100/'સત્રાંત પરિણામ પત્રક '!B82,0) -> #DIV/0! | AO15: =SUMPRODUCT(-(-('સત્રાંત પરિણામ પત્રક '!A8:A79="SC")),-(-('સત્રાંત પરિણામ પત્રક '!B8:B79="GIRL")),-(-('સત્રાંત પરિણામ પત્રક '!AQ8:AQ79="B"))) -> 0 | AP15: =ROUND(AO15*100/'સત્રાંત પરિણામ પત્રક '!D82,0) -> #DIV/0! | AQ15: =AM15+AO15 -> 0 | AR15: =ROUND(AQ15*100/'સત્રાંત પરિણામ પત્રક '!F82,0) -> #DIV/0! | AS15: =SUMPRODUCT(-(-('સત્રાંત પરિણામ પત્રક '!A8:A79="SC")),-(-('સત્રાંત પરિણામ પત્રક '!B8:B79="BOY")),-(-('સત્રાંત પરિણામ પત્રક '!AV8:AV79="B"))) -> 0 | AT15: =ROUND(AS15*100/'સત્રાંત પરિણામ પત્રક '!B82,0) -> #DIV/0! | AU15: =SUMPRODUCT(-(-('સત્રાંત પરિણામ પત્રક '!A8:A79="SC")),-(-('સત્રાંત પરિણામ પત્રક '!B8:B79="GIRL")),-(-('સત્રાંત પરિણામ પત્રક '!AV8:AV79="B"))) -> 0 | AV15: =ROUND(AU15*100/'સત્રાંત પરિણામ પત્રક '!D82,0) -> #DIV/0! | AW15: =AS15+AU15 -> 0 | AX15: =ROUND(AW15*100/'સત્રાંત પરિણામ પત્રક '!F82,0) -> #DIV/0!
B16: C | C16: =SUMPRODUCT(-(-('સત્રાંત પરિણામ પત્રક '!A8:A79="SC")),-(-('સત્રાંત પરિણામ પત્રક '!B8:B79="BOY")),-(-('સત્રાંત પરિણામ પત્રક '!I8:I79="C"))) -> 0 | D16: =ROUND(C16*100/'સત્રાંત પરિણામ પત્રક '!B82,0) -> #DIV/0! | E16: =SUMPRODUCT(-(-('સત્રાંત પરિણામ પત્રક '!A8:A79="SC")),-(-('સત્રાંત પરિણામ પત્રક '!B8:B79="GIRL")),-(-('સત્રાંત પરિણામ પત્રક '!I8:I79="C"))) -> 0 | F16: =ROUND(E16*100/'સત્રાંત પરિણામ પત્રક '!D82,0) -> #DIV/0! | G16: =C16+E16 -> 0 | H16: =ROUND(G16*100/'સત્રાંત પરિણામ પત્રક '!F82,0) -> #DIV/0! | I16: =SUMPRODUCT(-(-('સત્રાંત પરિણામ પત્રક '!A8:A79="SC")),-(-('સત્રાંત પરિણામ પત્રક '!B8:B79="BOY")),-(-('સત્રાંત પરિણામ પત્રક '!N8:N79="C"))) -> 0 | J16: =ROUND(I16*100/'સત્રાંત પરિણામ પત્રક '!B82,0) -> #DIV/0! | K16: =SUMPRODUCT(-(-('સત્રાંત પરિણામ પત્રક '!A8:A79="SC")),-(-('સત્રાંત પરિણામ પત્રક '!B8:B79="GIRL")),-(-('સત્રાંત પરિણામ પત્રક '!N8:N79="C"))) -> 0 | L16: =ROUND(K16*100/'સત્રાંત પરિણામ પત્રક '!D82,0) -> #DIV/0! | M16: =I16+K16 -> 0 | N16: =ROUND(M16*100/'સત્રાંત પરિણામ પત્રક '!F82,0) -> #DIV/0! | O16: =SUMPRODUCT(-(-('સત્રાંત પરિણામ પત્રક '!A8:A79="SC")),-(-('સત્રાંત પરિણામ પત્રક '!B8:B79="BOY")),-(-('સત્રાંત પરિણામ પત્રક '!V8:V79="C"))) -> 0 | P16: =ROUND(O16*100/'સત્રાંત પરિણામ પત્રક '!B82,0) -> #DIV/0! | Q16: =SUMPRODUCT(-(-('સત્રાંત પરિણામ પત્રક '!A8:A79="SC")),-(-('સત્રાંત પરિણામ પત્રક '!B8:B79="GIRL")),-(-('સત્રાંત પરિણામ પત્રક '!V8:V79="C"))) -> 0 | R16: =ROUND(Q16*100/'સત્રાંત પરિણામ પત્રક '!D82,0) -> #DIV/0! | S16: =O16+Q16 -> 0 | T16: =ROUND(S16*100/'સત્રાંત પરિણામ પત્રક '!F82,0) -> #DIV/0! | U16: =SUMPRODUCT(-(-('સત્રાંત પરિણામ પત્રક '!A8:A79="SC")),-(-('સત્રાંત પરિણામ પત્રક '!B8:B79="BOY")),-(-('સત્રાંત પરિણામ પત્રક '!AA8:AA79="C"))) -> 0 | V16: =ROUND(U16*100/'સત્રાંત પરિણામ પત્રક '!B82,0) -> #DIV/0! | W16: =SUMPRODUCT(-(-('સત્રાંત પરિણામ પત્રક '!A8:A79="SC")),-(-('સત્રાંત પરિણામ પત્રક '!B8:B79="GIRL")),-(-('સત્રાંત પરિણામ પત્રક '!AA8:AA79="C"))) -> 0 | X16: =ROUND(W16*100/'સત્રાંત પરિણામ પત્રક '!D82,0) -> #DIV/0! | Y16: =U16+W16 -> 0 | Z16: =ROUND(Y16*100/'સત્રાંત પરિણામ પત્રક '!F82,0) -> #DIV/0! | AA16: =SUMPRODUCT(-(-('સત્રાંત પરિણામ પત્રક '!A8:A79="SC")),-(-('સત્રાંત પરિણામ પત્રક '!B8:B79="BOY")),-(-('સત્રાંત પરિણામ પત્રક '!AF8:AF79="C"))) -> 0 | AB16: =ROUND(AA16*100/'સત્રાંત પરિણામ પત્રક '!B82,0) -> #DIV/0! | AC16: =SUMPRODUCT(-(-('સત્રાંત પરિણામ પત્રક '!A8:A79="SC")),-(-('સત્રાંત પરિણામ પત્રક '!B8:B79="GIRL")),-(-('સત્રાંત પરિણામ પત્રક '!AF8:AF79="C"))) -> 0 | AD16: =ROUND(AC16*100/'સત્રાંત પરિણામ પત્રક '!D82,0) -> #DIV/0! | AE16: =AA16+AC16 -> 0 | AF16: =ROUND(AE16*100/'સત્રાંત પરિણામ પત્રક '!F82,0) -> #DIV/0! | AG16: =SUMPRODUCT(-(-('સત્રાંત પરિણામ પત્રક '!A8:A79="SC")),-(-('સત્રાંત પરિણામ પત્રક '!B8:B79="BOY")),-(-('સત્રાંત પરિણામ પત્રક '!AL8:AL79="C"))) -> 0 | AH16: =ROUND(AG16*100/'સત્રાંત પરિણામ પત્રક '!B82,0) -> #DIV/0! | AI16: =SUMPRODUCT(-(-('સત્રાંત પરિણામ પત્રક '!A8:A79="SC")),-(-('સત્રાંત પરિણામ પત્રક '!B8:B79="GIRL")),-(-('સત્રાંત પરિણામ પત્રક '!AL8:AL79="C"))) -> 0 | AJ16: =ROUND(AI16*100/'સત્રાંત પરિણામ પત્રક '!D82,0) -> #DIV/0! | AK16: =AG16+AI16 -> 0 | AL16: =ROUND(AK16*100/'સત્રાંત પરિણામ પત્રક '!F82,0) -> #DIV/0! | AM16: =SUMPRODUCT(-(-('સત્રાંત પરિણામ પત્રક '!A8:A79="SC")),-(-('સત્રાંત પરિણામ પત્રક '!B8:B79="BOY")),-(-('સત્રાંત પરિણામ પત્રક '!AQ8:AQ79="C"))) -> 0 | AN16: =ROUND(AM16*100/'સત્રાંત પરિણામ પત્રક '!B82,0) -> #DIV/0! | AO16: =SUMPRODUCT(-(-('સત્રાંત પરિણામ પત્રક '!A8:A79="SC")),-(-('સત્રાંત પરિણામ પત્રક '!B8:B79="GIRL")),-(-('સત્રાંત પરિણામ પત્રક '!AQ8:AQ79="C"))) -> 0 | AP16: =ROUND(AO16*100/'સત્રાંત પરિણામ પત્રક '!D82,0) -> #DIV/0! | AQ16: =AM16+AO16 -> 0 | AR16: =ROUND(AQ16*100/'સત્રાંત પરિણામ પત્રક '!F82,0) -> #DIV/0! | AS16: =SUMPRODUCT(-(-('સત્રાંત પરિણામ પત્રક '!A8:A79="SC")),-(-('સત્રાંત પરિણામ પત્રક '!B8:B79="BOY")),-(-('સત્રાંત પરિણામ પત્રક '!AV8:AV79="C"))) -> 0 | AT16: =ROUND(AS16*100/'સત્રાંત પરિણામ પત્રક '!B82,0) -> #DIV/0! | AU16: =SUMPRODUCT(-(-('સત્રાંત પરિણામ પત્રક '!A8:A79="SC")),-(-('સત્રાંત પરિણામ પત્રક '!B8:B79="GIRL")),-(-('સત્રાંત પરિણામ પત્રક '!AV8:AV79="C"))) -> 0 | AV16: =ROUND(AU16*100/'સત્રાંત પરિણામ પત્રક '!D82,0) -> #DIV/0! | AW16: =AS16+AU16 -> 0 | AX16: =ROUND(AW16*100/'સત્રાંત પરિણામ પત્રક '!F82,0) -> #DIV/0!
B17: D | C17: =SUMPRODUCT(-(-('સત્રાંત પરિણામ પત્રક '!A8:A79="SC")),-(-('સત્રાંત પરિણામ પત્રક '!B8:B79="BOY")),-(-('સત્રાંત પરિણામ પત્રક '!I8:I79="D"))) -> 0 | D17: =ROUND(C17*100/'સત્રાંત પરિણામ પત્રક '!B82,0) -> #DIV/0! | E17: =SUMPRODUCT(-(-('સત્રાંત પરિણામ પત્રક '!A8:A79="SC")),-(-('સત્રાંત પરિણામ પત્રક '!B8:B79="GIRL")),-(-('સત્રાંત પરિણામ પત્રક '!I8:I79="D"))) -> 0 | F17: =ROUND(E17*100/'સત્રાંત પરિણામ પત્રક '!D82,0) -> #DIV/0! | G17: =C17+E17 -> 0 | H17: =ROUND(G17*100/'સત્રાંત પરિણામ પત્રક '!F82,0) -> #DIV/0! | I17: =SUMPRODUCT(-(-('સત્રાંત પરિણામ પત્રક '!A8:A79="SC")),-(-('સત્રાંત પરિણામ પત્રક '!B8:B79="BOY")),-(-('સત્રાંત પરિણામ પત્રક '!N8:N79="D"))) -> 0 | J17: =ROUND(I17*100/'સત્રાંત પરિણામ પત્રક '!B82,0) -> #DIV/0! | K17: =SUMPRODUCT(-(-('સત્રાંત પરિણામ પત્રક '!A8:A79="SC")),-(-('સત્રાંત પરિણામ પત્રક '!B8:B79="GIRL")),-(-('સત્રાંત પરિણામ પત્રક '!N8:N79="D"))) -> 0 | L17: =ROUND(K17*100/'સત્રાંત પરિણામ પત્રક '!D82,0) -> #DIV/0! | M17: =I17+K17 -> 0 | N17: =ROUND(M17*100/'સત્રાંત પરિણામ પત્રક '!F82,0) -> #DIV/0! | O17: =SUMPRODUCT(-(-('સત્રાંત પરિણામ પત્રક '!A8:A79="SC")),-(-('સત્રાંત પરિણામ પત્રક '!B8:B79="BOY")),-(-('સત્રાંત પરિણામ પત્રક '!V8:V79="D"))) -> 0 | P17: =ROUND(O17*100/'સત્રાંત પરિણામ પત્રક '!B82,0) -> #DIV/0! | Q17: =SUMPRODUCT(-(-('સત્રાંત પરિણામ પત્રક '!A8:A79="SC")),-(-('સત્રાંત પરિણામ પત્રક '!B8:B79="GIRL")),-(-('સત્રાંત પરિણામ પત્રક '!V8:V79="D"))) -> 0 | R17: =ROUND(Q17*100/'સત્રાંત પરિણામ પત્રક '!D82,0) -> #DIV/0! | S17: =O17+Q17 -> 0 | T17: =ROUND(S17*100/'સત્રાંત પરિણામ પત્રક '!F82,0) -> #DIV/0! | U17: =SUMPRODUCT(-(-('સત્રાંત પરિણામ પત્રક '!A8:A79="SC")),-(-('સત્રાંત પરિણામ પત્રક '!B8:B79="BOY")),-(-('સત્રાંત પરિણામ પત્રક '!AA8:AA79="D"))) -> 0 | V17: =ROUND(U17*100/'સત્રાંત પરિણામ પત્રક '!B82,0) -> #DIV/0! | W17: =SUMPRODUCT(-(-('સત્રાંત પરિણામ પત્રક '!A8:A79="SC")),-(-('સત્રાંત પરિણામ પત્રક '!B8:B79="GIRL")),-(-('સત્રાંત પરિણામ પત્રક '!AA8:AA79="D"))) -> 0 | X17: =ROUND(W17*100/'સત્રાંત પરિણામ પત્રક '!D82,0) -> #DIV/0! | Y17: =U17+W17 -> 0 | Z17: =ROUND(Y17*100/'સત્રાંત પરિણામ પત્રક '!F82,0) -> #DIV/0! | AA17: =SUMPRODUCT(-(-('સત્રાંત પરિણામ પત્રક '!A8:A79="SC")),-(-('સત્રાંત પરિણામ પત્રક '!B8:B79="BOY")),-(-('સત્રાંત પરિણામ પત્રક '!AF8:AF79="D"))) -> 0 | AB17: =ROUND(AA17*100/'સત્રાંત પરિણામ પત્રક '!B82,0) -> #DIV/0! | AC17: =SUMPRODUCT(-(-('સત્રાંત પરિણામ પત્રક '!A8:A79="SC")),-(-('સત્રાંત પરિણામ પત્રક '!B8:B79="GIRL")),-(-('સત્રાંત પરિણામ પત્રક '!AF8:AF79="D"))) -> 0 | AD17: =ROUND(AC17*100/'સત્રાંત પરિણામ પત્રક '!D82,0) -> #DIV/0! | AE17: =AA17+AC17 -> 0 | AF17: =ROUND(AE17*100/'સત્રાંત પરિણામ પત્રક '!F82,0) -> #DIV/0! | AG17: =SUMPRODUCT(-(-('સત્રાંત પરિણામ પત્રક '!A8:A79="SC")),-(-('સત્રાંત પરિણામ પત્રક '!B8:B79="BOY")),-(-('સત્રાંત પરિણામ પત્રક '!AL8:AL79="D"))) -> 0 | AH17: =ROUND(AG17*100/'સત્રાંત પરિણામ પત્રક '!B82,0) -> #DIV/0! | AI17: =SUMPRODUCT(-(-('સત્રાંત પરિણામ પત્રક '!A8:A79="SC")),-(-('સત્રાંત પરિણામ પત્રક '!B8:B79="GIRL")),-(-('સત્રાંત પરિણામ પત્રક '!AL8:AL79="D"))) -> 0 | AJ17: =ROUND(AI17*100/'સત્રાંત પરિણામ પત્રક '!D82,0) -> #DIV/0! | AK17: =AG17+AI17 -> 0 | AL17: =ROUND(AK17*100/'સત્રાંત પરિણામ પત્રક '!F82,0) -> #DIV/0! | AM17: =SUMPRODUCT(-(-('સત્રાંત પરિણામ પત્રક '!A8:A79="SC")),-(-('સત્રાંત પરિણામ પત્રક '!B8:B79="BOY")),-(-('સત્રાંત પરિણામ પત્રક '!AQ8:AQ79="D"))) -> 0 | AN17: =ROUND(AM17*100/'સત્રાંત પરિણામ પત્રક '!B82,0) -> #DIV/0! | AO17: =SUMPRODUCT(-(-('સત્રાંત પરિણામ પત્રક '!A8:A79="SC")),-(-('સત્રાંત પરિણામ પત્રક '!B8:B79="GIRL")),-(-('સત્રાંત પરિણામ પત્રક '!AQ8:AQ79="D"))) -> 0 | AP17: =ROUND(AO17*100/'સત્રાંત પરિણામ પત્રક '!D82,0) -> #DIV/0! | AQ17: =AM17+AO17 -> 0 | AR17: =ROUND(AQ17*100/'સત્રાંત પરિણામ પત્રક '!F82,0) -> #DIV/0! | AS17: =SUMPRODUCT(-(-('સત્રાંત પરિણામ પત્રક '!A8:A79="SC")),-(-('સત્રાંત પરિણામ પત્રક '!B8:B79="BOY")),-(-('સત્રાંત પરિણામ પત્રક '!AV8:AV79="D"))) -> 0 | AT17: =ROUND(AS17*100/'સત્રાંત પરિણામ પત્રક '!B82,0) -> #DIV/0! | AU17: =SUMPRODUCT(-(-('સત્રાંત પરિણામ પત્રક '!A8:A79="SC")),-(-('સત્રાંત પરિણામ પત્રક '!B8:B79="GIRL")),-(-('સત્રાંત પરિણામ પત્રક '!AV8:AV79="D"))) -> 0 | AV17: =ROUND(AU17*100/'સત્રાંત પરિણામ પત્રક '!D82,0) -> #DIV/0! | AW17: =AS17+AU17 -> 0 | AX17: =ROUND(AW17*100/'સત્રાંત પરિણામ પત્રક '!F82,0) -> #DIV/0!
B18: E | C18: =SUMPRODUCT(-(-('સત્રાંત પરિણામ પત્રક '!A8:A79="SC")),-(-('સત્રાંત પરિણામ પત્રક '!B8:B79="BOY")),-(-('સત્રાંત પરિણામ પત્રક '!I8:I79="E"))) -> 0 | D18: =ROUND(C18*100/'સત્રાંત પરિણામ પત્રક '!B82,0) -> #DIV/0! | E18: =SUMPRODUCT(-(-('સત્રાંત પરિણામ પત્રક '!A8:A79="SC")),-(-('સત્રાંત પરિણામ પત્રક '!B8:B79="GIRL")),-(-('સત્રાંત પરિણામ પત્રક '!I8:I79="E"))) -> 0 | F18: =ROUND(E18*100/'સત્રાંત પરિણામ પત્રક '!D82,0) -> #DIV/0! | G18: =C18+E18 -> 0 | H18: =ROUND(G18*100/'સત્રાંત પરિણામ પત્રક '!F82,0) -> #DIV/0! | I18: =SUMPRODUCT(-(-('સત્રાંત પરિણામ પત્રક '!A8:A79="SC")),-(-('સત્રાંત પરિણામ પત્રક '!B8:B79="BOY")),-(-('સત્રાંત પરિણામ પત્રક '!N8:N79="E"))) -> 0 | J18: =ROUND(I18*100/'સત્રાંત પરિણામ પત્રક '!B82,0) -> #DIV/0! | K18: =SUMPRODUCT(-(-('સત્રાંત પરિણામ પત્રક '!A8:A79="SC")),-(-('સત્રાંત પરિણામ પત્રક '!B8:B79="GIRL")),-(-('સત્રાંત પરિણામ પત્રક '!N8:N79="E"))) -> 0 | L18: =ROUND(K18*100/'સત્રાંત પરિણામ પત્રક '!D82,0) -> #DIV/0! | M18: =I18+K18 -> 0 | N18: =ROUND(M18*100/'સત્રાંત પરિણામ પત્રક '!F82,0) -> #DIV/0! | O18: =SUMPRODUCT(-(-('સત્રાંત પરિણામ પત્રક '!A8:A79="SC")),-(-('સત્રાંત પરિણામ પત્રક '!B8:B79="BOY")),-(-('સત્રાંત પરિણામ પત્રક '!V8:V79="E"))) -> 0 | P18: =ROUND(O18*100/'સત્રાંત પરિણામ પત્રક '!B82,0) -> #DIV/0! | Q18: =SUMPRODUCT(-(-('સત્રાંત પરિણામ પત્રક '!A8:A79="SC")),-(-('સત્રાંત પરિણામ પત્રક '!B8:B79="GIRL")),-(-('સત્રાંત પરિણામ પત્રક '!V8:V79="E"))) -> 0 | R18: =ROUND(Q18*100/'સત્રાંત પરિણામ પત્રક '!D82,0) -> #DIV/0! | S18: =O18+Q18 -> 0 | T18: =ROUND(S18*100/'સત્રાંત પરિણામ પત્રક '!F82,0) -> #DIV/0! | U18: =SUMPRODUCT(-(-('સત્રાંત પરિણામ પત્રક '!A8:A79="SC")),-(-('સત્રાંત પરિણામ પત્રક '!B8:B79="BOY")),-(-('સત્રાંત પરિણામ પત્રક '!AA8:AA79="E"))) -> 0 | V18: =ROUND(U18*100/'સત્રાંત પરિણામ પત્રક '!B82,0) -> #DIV/0! | W18: =SUMPRODUCT(-(-('સત્રાંત પરિણામ પત્રક '!A8:A79="SC")),-(-('સત્રાંત પરિણામ પત્રક '!B8:B79="GIRL")),-(-('સત્રાંત પરિણામ પત્રક '!AA8:AA79="E"))) -> 0 | X18: =ROUND(W18*100/'સત્રાંત પરિણામ પત્રક '!D82,0) -> #DIV/0! | Y18: =U18+W18 -> 0 | Z18: =ROUND(Y18*100/'સત્રાંત પરિણામ પત્રક '!F82,0) -> #DIV/0! | AA18: =SUMPRODUCT(-(-('સત્રાંત પરિણામ પત્રક '!A8:A79="SC")),-(-('સત્રાંત પરિણામ પત્રક '!B8:B79="BOY")),-(-('સત્રાંત પરિણામ પત્રક '!AF8:AF79="E"))) -> 0 | AB18: =ROUND(AA18*100/'સત્રાંત પરિણામ પત્રક '!B82,0) -> #DIV/0! | AC18: =SUMPRODUCT(-(-('સત્રાંત પરિણામ પત્રક '!A8:A79="SC")),-(-('સત્રાંત પરિણામ પત્રક '!B8:B79="GIRL")),-(-('સત્રાંત પરિણામ પત્રક '!AF8:AF79="E"))) -> 0 | AD18: =ROUND(AC18*100/'સત્રાંત પરિણામ પત્રક '!D82,0) -> #DIV/0! | AE18: =AA18+AC18 -> 0 | AF18: =ROUND(AE18*100/'સત્રાંત પરિણામ પત્રક '!F82,0) -> #DIV/0! | AG18: =SUMPRODUCT(-(-('સત્રાંત પરિણામ પત્રક '!A8:A79="SC")),-(-('સત્રાંત પરિણામ પત્રક '!B8:B79="BOY")),-(-('સત્રાંત પરિણામ પત્રક '!AL8:AL79="E"))) -> 0 | AH18: =ROUND(AG18*100/'સત્રાંત પરિણામ પત્રક '!B82,0) -> #DIV/0! | AI18: =SUMPRODUCT(-(-('સત્રાંત પરિણામ પત્રક '!A8:A79="SC")),-(-('સત્રાંત પરિણામ પત્રક '!B8:B79="GIRL")),-(-('સત્રાંત પરિણામ પત્રક '!AL8:AL79="E"))) -> 0 | AJ18: =ROUND(AI18*100/'સત્રાંત પરિણામ પત્રક '!D82,0) -> #DIV/0! | AK18: =AG18+AI18 -> 0 | AL18: =ROUND(AK18*100/'સત્રાંત પરિણામ પત્રક '!F82,0) -> #DIV/0! | AM18: =SUMPRODUCT(-(-('સત્રાંત પરિણામ પત્રક '!A8:A79="SC")),-(-('સત્રાંત પરિણામ પત્રક '!B8:B79="BOY")),-(-('સત્રાંત પરિણામ પત્રક '!AQ8:AQ79="E"))) -> 0 | AN18: =ROUND(AM18*100/'સત્રાંત પરિણામ પત્રક '!B82,0) -> #DIV/0! | AO18: =SUMPRODUCT(-(-('સત્રાંત પરિણામ પત્રક '!A8:A79="SC")),-(-('સત્રાંત પરિણામ પત્રક '!B8:B79="GIRL")),-(-('સત્રાંત પરિણામ પત્રક '!AQ8:AQ79="E"))) -> 0 | AP18: =ROUND(AO18*100/'સત્રાંત પરિણામ પત્રક '!D82,0) -> #DIV/0! | AQ18: =AM18+AO18 -> 0 | AR18: =ROUND(AQ18*100/'સત્રાંત પરિણામ પત્રક '!F82,0) -> #DIV/0! | AS18: =SUMPRODUCT(-(-('સત્રાંત પરિણામ પત્રક '!A8:A79="SC")),-(-('સત્રાંત પરિણામ પત્રક '!B8:B79="BOY")),-(-('સત્રાંત પરિણામ પત્રક '!AV8:AV79="E"))) -> 0 | AT18: =ROUND(AS18*100/'સત્રાંત પરિણામ પત્રક '!B82,0) -> #DIV/0! | AU18: =SUMPRODUCT(-(-('સત્રાંત પરિણામ પત્રક '!A8:A79="SC")),-(-('સત્રાંત પરિણામ પત્રક '!B8:B79="GIRL")),-(-('સત્રાંત પરિણામ પત્રક '!AV8:AV79="E"))) -> 0 | AV18: =ROUND(AU18*100/'સત્રાંત પરિણામ પત્રક '!D82,0) -> #DIV/0! | AW18: =AS18+AU18 -> 0 | AX18: =ROUND(AW18*100/'સત્રાંત પરિણામ પત્રક '!F82,0) -> #DIV/0!
A19: S], | C19: =SUM(C14:C18) -> 0 | D19: =ROUND(C19*100/'સત્રાંત પરિણામ પત્રક '!B82,0) -> #DIV/0! | E19: =SUM(E14:E18) -> 0 | F19: =ROUND(E19*100/'સત્રાંત પરિણામ પત્રક '!D82,0) -> #DIV/0! | G19: =SUM(G14:G18) -> 0 | H19: =ROUND(G19*100/'સત્રાંત પરિણામ પત્રક '!F82,0) -> #DIV/0! | I19: =SUM(I14:I18) -> 0 | J19: =ROUND(I19*100/'સત્રાંત પરિણામ પત્રક '!B82,0) -> #DIV/0! | K19: =SUM(K14:K18) -> 0 | L19: =ROUND(K19*100/'સત્રાંત પરિણામ પત્રક '!D82,0) -> #DIV/0! | M19: =SUM(M14:M18) -> 0 | N19: =ROUND(M19*100/'સત્રાંત પરિણામ પત્રક '!F82,0) -> #DIV/0! | O19: =SUM(O14:O18) -> 0 | P19: =ROUND(O19*100/'સત્રાંત પરિણામ પત્રક '!B82,0) -> #DIV/0! | Q19: =SUM(Q14:Q18) -> 0 | R19: =ROUND(Q19*100/'સત્રાંત પરિણામ પત્રક '!D82,0) -> #DIV/0! | S19: =SUM(S14:S18) -> 0 | T19: =ROUND(S19*100/'સત્રાંત પરિણામ પત્રક '!F82,0) -> #DIV/0! | U19: =SUM(U14:U18) -> 0 | V19: =ROUND(U19*100/'સત્રાંત પરિણામ પત્રક '!B82,0) -> #DIV/0! | W19: =SUM(W14:W18) -> 0 | X19: =ROUND(W19*100/'સત્રાંત પરિણામ પત્રક '!D82,0) -> #DIV/0! | Y19: =SUM(Y14:Y18) -> 0 | Z19: =ROUND(Y19*100/'સત્રાંત પરિણામ પત્રક '!F82,0) -> #DIV/0! | AA19: =SUM(AA14:AA18) -> 0 | AB19: =ROUND(AA19*100/'સત્રાંત પરિણામ પત્રક '!B82,0) -> #DIV/0! | AC19: =SUM(AC14:AC18) -> 0 | AD19: =ROUND(AC19*100/'સત્રાંત પરિણામ પત્રક '!D82,0) -> #DIV/0! | AE19: =SUM(AE14:AE18) -> 0 | AF19: =ROUND(AE19*100/'સત્રાંત પરિણામ પત્રક '!F82,0) -> #DIV/0! | AG19: =SUM(AG14:AG18) -> 0 | AH19: =ROUND(AG19*100/'સત્રાંત પરિણામ પત્રક '!B82,0) -> #DIV/0! | AI19: =SUM(AI14:AI18) -> 0 | AJ19: =ROUND(AI19*100/'સત્રાંત પરિણામ પત્રક '!D82,0) -> #DIV/0! | AK19: =SUM(AK14:AK18) -> 0 | AL19: =ROUND(AK19*100/'સત્રાંત પરિણામ પત્રક '!F82,0) -> #DIV/0! | AM19: =SUM(AM14:AM18) -> 0 | AN19: =ROUND(AM19*100/'સત્રાંત પરિણામ પત્રક '!B82,0) -> #DIV/0! | AO19: =SUM(AO14:AO18) -> 0 | AP19: =ROUND(AO19*100/'સત્રાંત પરિણામ પત્રક '!D82,0) -> #DIV/0! | AQ19: =SUM(AQ14:AQ18) -> 0 | AR19: =ROUND(AQ19*100/'સત્રાંત પરિણામ પત્રક '!F82,0) -> #DIV/0! | AS19: =SUM(AS14:AS18) -> 0 | AT19: =ROUND(AS19*100/'સત્રાંત પરિણામ પત્રક '!B82,0) -> #DIV/0! | AU19: =SUM(AU14:AU18) -> 0 | AV19: =ROUND(AU19*100/'સત્રાંત પરિણામ પત્રક '!D82,0) -> #DIV/0! | AW19: =SUM(AW14:AW18) -> 0 | AX19: =ROUND(AW19*100/'સત્રાંત પરિણામ પત્રક '!F82,0) -> #DIV/0!
A20: VP HP HFP | B20: A | C20: =SUMPRODUCT(-(-('સત્રાંત પરિણામ પત્રક '!A8:A79="ST")),-(-('સત્રાંત પરિણામ પત્રક '!B8:B79="BOY")),-(-('સત્રાંત પરિણામ પત્રક '!I8:I79="A"))) -> 0 | D20: =ROUND(C20*100/'સત્રાંત પરિણામ પત્રક '!B83,0) -> #DIV/0! | E20: =SUMPRODUCT(-(-('સત્રાંત પરિણામ પત્રક '!A8:A79="ST")),-(-('સત્રાંત પરિણામ પત્રક '!B8:B79="GIRL")),-(-('સત્રાંત પરિણામ પત્રક '!I8:I79="A"))) -> 0 | F20: =ROUND(E20*100/'સત્રાંત પરિણામ પત્રક '!D83,0) -> #DIV/0! | G20: =C20+E20 -> 0 | H20: =ROUND(G20*100/'સત્રાંત પરિણામ પત્રક '!F83,0) -> #DIV/0! | I20: =SUMPRODUCT(-(-('સત્રાંત પરિણામ પત્રક '!A8:A79="ST")),-(-('સત્રાંત પરિણામ પત્રક '!B8:B79="BOY")),-(-('સત્રાંત પરિણામ પત્રક '!N8:N79="A"))) -> 0 | J20: =ROUND(I20*100/'સત્રાંત પરિણામ પત્રક '!B83,0) -> #DIV/0! | K20: =SUMPRODUCT(-(-('સત્રાંત પરિણામ પત્રક '!A8:A79="ST")),-(-('સત્રાંત પરિણામ પત્રક '!B8:B79="GIRL")),-(-('સત્રાંત પરિણામ પત્રક '!N8:N79="A"))) -> 0 | L20: =ROUND(K20*100/'સત્રાંત પરિણામ પત્રક '!D83,0) -> #DIV/0! | M20: =I20+K20 -> 0 | N20: =ROUND(M20*100/'સત્રાંત પરિણામ પત્રક '!F83,0) -> #DIV/0! | O20: =SUMPRODUCT(-(-('સત્રાંત પરિણામ પત્રક '!A8:A79="ST")),-(-('સત્રાંત પરિણામ પત્રક '!B8:B79="BOY")),-(-('સત્રાંત પરિણામ પત્રક '!V8:V79="A"))) -> 0 | P20: =ROUND(O20*100/'સત્રાંત પરિણામ પત્રક '!B83,0) -> #DIV/0! | Q20: =SUMPRODUCT(-(-('સત્રાંત પરિણામ પત્રક '!A8:A79="ST")),-(-('સત્રાંત પરિણામ પત્રક '!B8:B79="GIRL")),-(-('સત્રાંત પરિણામ પત્રક '!V8:V79="A"))) -> 0 | R20: =ROUND(Q20*100/'સત્રાંત પરિણામ પત્રક '!D83,0) -> #DIV/0! | S20: =O20+Q20 -> 0 | T20: =ROUND(S20*100/'સત્રાંત પરિણામ પત્રક '!F83,0) -> #DIV/0! | U20: =SUMPRODUCT(-(-('સત્રાંત પરિણામ પત્રક '!A8:A79="ST")),-(-('સત્રાંત પરિણામ પત્રક '!B8:B79="BOY")),-(-('સત્રાંત પરિણામ પત્રક '!AA8:AA79="A"))) -> 0 | V20: =ROUND(U20*100/'સત્રાંત પરિણામ પત્રક '!B83,0) -> #DIV/0! | W20: =SUMPRODUCT(-(-('સત્રાંત પરિણામ પત્રક '!A8:A79="ST")),-(-('સત્રાંત પરિણામ પત્રક '!B8:B79="GIRL")),-(-('સત્રાંત પરિણામ પત્રક '!AA8:AA79="A"))) -> 0 | X20: =ROUND(W20*100/'સત્રાંત પરિણામ પત્રક '!D83,0) -> #DIV/0! | Y20: =U20+W20 -> 0 | Z20: =ROUND(Y20*100/'સત્રાંત પરિણામ પત્રક '!F83,0) -> #DIV/0! | AA20: =SUMPRODUCT(-(-('સત્રાંત પરિણામ પત્રક '!A8:A79="ST")),-(-('સત્રાંત પરિણામ પત્રક '!B8:B79="BOY")),-(-('સત્રાંત પરિણામ પત્રક '!AF8:AF79="A"))) -> 0 | AB20: =ROUND(AA20*100/'સત્રાંત પરિણામ પત્રક '!B83,0) -> #DIV/0! | AC20: =SUMPRODUCT(-(-('સત્રાંત પરિણામ પત્રક '!A8:A79="ST")),-(-('સત્રાંત પરિણામ પત્રક '!B8:B79="GIRL")),-(-('સત્રાંત પરિણામ પત્રક '!AF8:AF79="A"))) -> 0 | AD20: =ROUND(AC20*100/'સત્રાંત પરિણામ પત્રક '!D83,0) -> #DIV/0! | AE20: =AA20+AC20 -> 0 | AF20: =ROUND(AE20*100/'સત્રાંત પરિણામ પત્રક '!F83,0) -> #DIV/0! | AG20: =SUMPRODUCT(-(-('સત્રાંત પરિણામ પત્રક '!A8:A79="ST")),-(-('સત્રાંત પરિણામ પત્રક '!B8:B79="BOY")),-(-('સત્રાંત પરિણામ પત્રક '!AL8:AL79="A"))) -> 0 | AH20: =ROUND(AG20*100/'સત્રાંત પરિણામ પત્રક '!B83,0) -> #DIV/0! | AI20: =SUMPRODUCT(-(-('સત્રાંત પરિણામ પત્રક '!A8:A79="ST")),-(-('સત્રાંત પરિણામ પત્રક '!B8:B79="GIRL")),-(-('સત્રાંત પરિણામ પત્રક '!AL8:AL79="A"))) -> 0 | AJ20: =ROUND(AI20*100/'સત્રાંત પરિણામ પત્રક '!D83,0) -> #DIV/0! | AK20: =AG20+AI20 -> 0 | AL20: =ROUND(AK20*100/'સત્રાંત પરિણામ પત્રક '!F83,0) -> #DIV/0! | AM20: =SUMPRODUCT(-(-('સત્રાંત પરિણામ પત્રક '!A8:A79="ST")),-(-('સત્રાંત પરિણામ પત્રક '!B8:B79="BOY")),-(-('સત્રાંત પરિણામ પત્રક '!AQ8:AQ79="A"))) -> 0 | AN20: =ROUND(AM20*100/'સત્રાંત પરિણામ પત્રક '!B83,0) -> #DIV/0! | AO20: =SUMPRODUCT(-(-('સત્રાંત પરિણામ પત્રક '!A8:A79="ST")),-(-('સત્રાંત પરિણામ પત્રક '!B8:B79="GIRL")),-(-('સત્રાંત પરિણામ પત્રક '!AQ8:AQ79="A"))) -> 0 | AP20: =ROUND(AO20*100/'સત્રાંત પરિણામ પત્રક '!D83,0) -> #DIV/0! | AQ20: =AM20+AO20 -> 0 | AR20: =ROUND(AQ20*100/'સત્રાંત પરિણામ પત્રક '!F83,0) -> #DIV/0! | AS20: =SUMPRODUCT(-(-('સત્રાંત પરિણામ પત્રક '!A8:A79="ST")),-(-('સત્રાંત પરિણામ પત્રક '!B8:B79="BOY")),-(-('સત્રાંત પરિણામ પત્રક '!AV8:AV79="A"))) -> 0 | AT20: =ROUND(AS20*100/'સત્રાંત પરિણામ પત્રક '!B83,0) -> #DIV/0! | AU20: =SUMPRODUCT(-(-('સત્રાંત પરિણામ પત્રક '!A8:A79="ST")),-(-('સત્રાંત પરિણામ પત્રક '!B8:B79="GIRL")),-(-('સત્રાંત પરિણામ પત્રક '!AV8:AV79="A"))) -> 0 | AV20: =ROUND(AU20*100/'સત્રાંત પરિણામ પત્રક '!D83,0) -> #DIV/0! | AW20: =AS20+AU20 -> 0 | AX20: =ROUND(AW20*100/'સત્રાંત પરિણામ પત્રક '!F83,0) -> #DIV/0!
B21: B | C21: =SUMPRODUCT(-(-('સત્રાંત પરિણામ પત્રક '!A8:A79="ST")),-(-('સત્રાંત પરિણામ પત્રક '!B8:B79="BOY")),-(-('સત્રાંત પરિણામ પત્રક '!I8:I79="B"))) -> 0 | D21: =ROUND(C21*100/'સત્રાંત પરિણામ પત્રક '!B83,0) -> #DIV/0! | E21: =SUMPRODUCT(-(-('સત્રાંત પરિણામ પત્રક '!A8:A79="ST")),-(-('સત્રાંત પરિણામ પત્રક '!B8:B79="GIRL")),-(-('સત્રાંત પરિણામ પત્રક '!I8:I79="B"))) -> 0 | F21: =ROUND(E21*100/'સત્રાંત પરિણામ પત્રક '!D83,0) -> #DIV/0! | G21: =C21+E21 -> 0 | H21: =ROUND(G21*100/'સત્રાંત પરિણામ પત્રક '!F83,0) -> #DIV/0! | I21: =SUMPRODUCT(-(-('સત્રાંત પરિણામ પત્રક '!A8:A79="ST")),-(-('સત્રાંત પરિણામ પત્રક '!B8:B79="BOY")),-(-('સત્રાંત પરિણામ પત્રક '!N8:N79="B"))) -> 0 | J21: =ROUND(I21*100/'સત્રાંત પરિણામ પત્રક '!B83,0) -> #DIV/0! | K21: =SUMPRODUCT(-(-('સત્રાંત પરિણામ પત્રક '!A8:A79="ST")),-(-('સત્રાંત પરિણામ પત્રક '!B8:B79="GIRL")),-(-('સત્રાંત પરિણામ પત્રક '!N8:N79="B"))) -> 0 | L21: =ROUND(K21*100/'સત્રાંત પરિણામ પત્રક '!D83,0) -> #DIV/0! | M21: =I21+K21 -> 0 | N21: =ROUND(M21*100/'સત્રાંત પરિણામ પત્રક '!F83,0) -> #DIV/0! | O21: =SUMPRODUCT(-(-('સત્રાંત પરિણામ પત્રક '!A8:A79="ST")),-(-('સત્રાંત પરિણામ પત્રક '!B8:B79="BOY")),-(-('સત્રાંત પરિણામ પત્રક '!V8:V79="B"))) -> 0 | P21: =ROUND(O21*100/'સત્રાંત પરિણામ પત્રક '!B83,0) -> #DIV/0! | Q21: =SUMPRODUCT(-(-('સત્રાંત પરિણામ પત્રક '!A8:A79="ST")),-(-('સત્રાંત પરિણામ પત્રક '!B8:B79="GIRL")),-(-('સત્રાંત પરિણામ પત્રક '!V8:V79="B"))) -> 0 | R21: =ROUND(Q21*100/'સત્રાંત પરિણામ પત્રક '!D83,0) -> #DIV/0! | S21: =O21+Q21 -> 0 | T21: =ROUND(S21*100/'સત્રાંત પરિણામ પત્રક '!F83,0) -> #DIV/0! | U21: =SUMPRODUCT(-(-('સત્રાંત પરિણામ પત્રક '!A8:A79="ST")),-(-('સત્રાંત પરિણામ પત્રક '!B8:B79="BOY")),-(-('સત્રાંત પરિણામ પત્રક '!AA8:AA79="B"))) -> 0 | V21: =ROUND(U21*100/'સત્રાંત પરિણામ પત્રક '!B83,0) -> #DIV/0! | W21: =SUMPRODUCT(-(-('સત્રાંત પરિણામ પત્રક '!A8:A79="ST")),-(-('સત્રાંત પરિણામ પત્રક '!B8:B79="GIRL")),-(-('સત્રાંત પરિણામ પત્રક '!AA8:AA79="B"))) -> 0 | X21: =ROUND(W21*100/'સત્રાંત પરિણામ પત્રક '!D83,0) -> #DIV/0! | Y21: =U21+W21 -> 0 | Z21: =ROUND(Y21*100/'સત્રાંત પરિણામ પત્રક '!F83,0) -> #DIV/0! | AA21: =SUMPRODUCT(-(-('સત્રાંત પરિણામ પત્રક '!A8:A79="ST")),-(-('સત્રાંત પરિણામ પત્રક '!B8:B79="BOY")),-(-('સત્રાંત પરિણામ પત્રક '!AF8:AF79="B"))) -> 0 | AB21: =ROUND(AA21*100/'સત્રાંત પરિણામ પત્રક '!B83,0) -> #DIV/0! | AC21: =SUMPRODUCT(-(-('સત્રાંત પરિણામ પત્રક '!A8:A79="ST")),-(-('સત્રાંત પરિણામ પત્રક '!B8:B79="GIRL")),-(-('સત્રાંત પરિણામ પત્રક '!AF8:AF79="B"))) -> 0 | AD21: =ROUND(AC21*100/'સત્રાંત પરિણામ પત્રક '!D83,0) -> #DIV/0! | AE21: =AA21+AC21 -> 0 | AF21: =ROUND(AE21*100/'સત્રાંત પરિણામ પત્રક '!F83,0) -> #DIV/0! | AG21: =SUMPRODUCT(-(-('સત્રાંત પરિણામ પત્રક '!A8:A79="ST")),-(-('સત્રાંત પરિણામ પત્રક '!B8:B79="BOY")),-(-('સત્રાંત પરિણામ પત્રક '!AL8:AL79="B"))) -> 0 | AH21: =ROUND(AG21*100/'સત્રાંત પરિણામ પત્રક '!B83,0) -> #DIV/0! | AI21: =SUMPRODUCT(-(-('સત્રાંત પરિણામ પત્રક '!A8:A79="ST")),-(-('સત્રાંત પરિણામ પત્રક '!B8:B79="GIRL")),-(-('સત્રાંત પરિણામ પત્રક '!AL8:AL79="B"))) -> 0 | AJ21: =ROUND(AI21*100/'સત્રાંત પરિણામ પત્રક '!D83,0) -> #DIV/0! | AK21: =AG21+AI21 -> 0 | AL21: =ROUND(AK21*100/'સત્રાંત પરિણામ પત્રક '!F83,0) -> #DIV/0! | AM21: =SUMPRODUCT(-(-('સત્રાંત પરિણામ પત્રક '!A8:A79="ST")),-(-('સત્રાંત પરિણામ પત્રક '!B8:B79="BOY")),-(-('સત્રાંત પરિણામ પત્રક '!AQ8:AQ79="B"))) -> 0 | AN21: =ROUND(AM21*100/'સત્રાંત પરિણામ પત્રક '!B83,0) -> #DIV/0! | AO21: =SUMPRODUCT(-(-('સત્રાંત પરિણામ પત્રક '!A8:A79="ST")),-(-('સત્રાંત પરિણામ પત્રક '!B8:B79="GIRL")),-(-('સત્રાંત પરિણામ પત્રક '!AQ8:AQ79="B"))) -> 0 | AP21: =ROUND(AO21*100/'સત્રાંત પરિણામ પત્રક '!D83,0) -> #DIV/0! | AQ21: =AM21+AO21 -> 0 | AR21: =ROUND(AQ21*100/'સત્રાંત પરિણામ પત્રક '!F83,0) -> #DIV/0! | AS21: =SUMPRODUCT(-(-('સત્રાંત પરિણામ પત્રક '!A8:A79="ST")),-(-('સત્રાંત પરિણામ પત્રક '!B8:B79="BOY")),-(-('સત્રાંત પરિણામ પત્રક '!AV8:AV79="B"))) -> 0 | AT21: =ROUND(AS21*100/'સત્રાંત પરિણામ પત્રક '!B83,0) -> #DIV/0! | AU21: =SUMPRODUCT(-(-('સત્રાંત પરિણામ પત્રક '!A8:A79="ST")),-(-('સત્રાંત પરિણામ પત્રક '!B8:B79="GIRL")),-(-('સત્રાંત પરિણામ પત્રક '!AV8:AV79="B"))) -> 0 | AV21: =ROUND(AU21*100/'સત્રાંત પરિણામ પત્રક '!D83,0) -> #DIV/0! | AW21: =AS21+AU21 -> 0 | AX21: =ROUND(AW21*100/'સત્રાંત પરિણામ પત્રક '!F83,0) -> #DIV/0!
B22: C | C22: =SUMPRODUCT(-(-('સત્રાંત પરિણામ પત્રક '!A8:A79="ST")),-(-('સત્રાંત પરિણામ પત્રક '!B8:B79="BOY")),-(-('સત્રાંત પરિણામ પત્રક '!I8:I79="C"))) -> 0 | D22: =ROUND(C22*100/'સત્રાંત પરિણામ પત્રક '!B83,0) -> #DIV/0! | E22: =SUMPRODUCT(-(-('સત્રાંત પરિણામ પત્રક '!A8:A79="ST")),-(-('સત્રાંત પરિણામ પત્રક '!B8:B79="GIRL")),-(-('સત્રાંત પરિણામ પત્રક '!I8:I79="C"))) -> 0 | F22: =ROUND(E22*100/'સત્રાંત પરિણામ પત્રક '!D83,0) -> #DIV/0! | G22: =C22+E22 -> 0 | H22: =ROUND(G22*100/'સત્રાંત પરિણામ પત્રક '!F83,0) -> #DIV/0! | I22: =SUMPRODUCT(-(-('સત્રાંત પરિણામ પત્રક '!A8:A79="ST")),-(-('સત્રાંત પરિણામ પત્રક '!B8:B79="BOY")),-(-('સત્રાંત પરિણામ પત્રક '!N8:N79="C"))) -> 0 | J22: =ROUND(I22*100/'સત્રાંત પરિણામ પત્રક '!B83,0) -> #DIV/0! | K22: =SUMPRODUCT(-(-('સત્રાંત પરિણામ પત્રક '!A8:A79="ST")),-(-('સત્રાંત પરિણામ પત્રક '!B8:B79="GIRL")),-(-('સત્રાંત પરિણામ પત્રક '!N8:N79="C"))) -> 0 | L22: =ROUND(K22*100/'સત્રાંત પરિણામ પત્રક '!D83,0) -> #DIV/0! | M22: =I22+K22 -> 0 | N22: =ROUND(M22*100/'સત્રાંત પરિણામ પત્રક '!F83,0) -> #DIV/0! | O22: =SUMPRODUCT(-(-('સત્રાંત પરિણામ પત્રક '!A8:A79="ST")),-(-('સત્રાંત પરિણામ પત્રક '!B8:B79="BOY")),-(-('સત્રાંત પરિણામ પત્રક '!V8:V79="C"))) -> 0 | P22: =ROUND(O22*100/'સત્રાંત પરિણામ પત્રક '!B83,0) -> #DIV/0! | Q22: =SUMPRODUCT(-(-('સત્રાંત પરિણામ પત્રક '!A8:A79="ST")),-(-('સત્રાંત પરિણામ પત્રક '!B8:B79="GIRL")),-(-('સત્રાંત પરિણામ પત્રક '!V8:V79="C"))) -> 0 | R22: =ROUND(Q22*100/'સત્રાંત પરિણામ પત્રક '!D83,0) -> #DIV/0! | S22: =O22+Q22 -> 0 | T22: =ROUND(S22*100/'સત્રાંત પરિણામ પત્રક '!F83,0) -> #DIV/0! | U22: =SUMPRODUCT(-(-('સત્રાંત પરિણામ પત્રક '!A8:A79="ST")),-(-('સત્રાંત પરિણામ પત્રક '!B8:B79="BOY")),-(-('સત્રાંત પરિણામ પત્રક '!AA8:AA79="C"))) -> 0 | V22: =ROUND(U22*100/'સત્રાંત પરિણામ પત્રક '!B83,0) -> #DIV/0! | W22: =SUMPRODUCT(-(-('સત્રાંત પરિણામ પત્રક '!A8:A79="ST")),-(-('સત્રાંત પરિણામ પત્રક '!B8:B79="GIRL")),-(-('સત્રાંત પરિણામ પત્રક '!AA8:AA79="C"))) -> 0 | X22: =ROUND(W22*100/'સત્રાંત પરિણામ પત્રક '!D83,0) -> #DIV/0! | Y22: =U22+W22 -> 0 | Z22: =ROUND(Y22*100/'સત્રાંત પરિણામ પત્રક '!F83,0) -> #DIV/0! | AA22: =SUMPRODUCT(-(-('સત્રાંત પરિણામ પત્રક '!A8:A79="ST")),-(-('સત્રાંત પરિણામ પત્રક '!B8:B79="BOY")),-(-('સત્રાંત પરિણામ પત્રક '!AF8:AF79="C"))) -> 0 | AB22: =ROUND(AA22*100/'સત્રાંત પરિણામ પત્રક '!B83,0) -> #DIV/0! | AC22: =SUMPRODUCT(-(-('સત્રાંત પરિણામ પત્રક '!A8:A79="ST")),-(-('સત્રાંત પરિણામ પત્રક '!B8:B79="GIRL")),-(-('સત્રાંત પરિણામ પત્રક '!AF8:AF79="C"))) -> 0 | AD22: =ROUND(AC22*100/'સત્રાંત પરિણામ પત્રક '!D83,0) -> #DIV/0! | AE22: =AA22+AC22 -> 0 | AF22: =ROUND(AE22*100/'સત્રાંત પરિણામ પત્રક '!F83,0) -> #DIV/0! | AG22: =SUMPRODUCT(-(-('સત્રાંત પરિણામ પત્રક '!A8:A79="ST")),-(-('સત્રાંત પરિણામ પત્રક '!B8:B79="BOY")),-(-('સત્રાંત પરિણામ પત્રક '!AL8:AL79="C"))) -> 0 | AH22: =ROUND(AG22*100/'સત્રાંત પરિણામ પત્રક '!B83,0) -> #DIV/0! | AI22: =SUMPRODUCT(-(-('સત્રાંત પરિણામ પત્રક '!A8:A79="ST")),-(-('સત્રાંત પરિણામ પત્રક '!B8:B79="GIRL")),-(-('સત્રાંત પરિણામ પત્રક '!AL8:AL79="C"))) -> 0 | AJ22: =ROUND(AI22*100/'સત્રાંત પરિણામ પત્રક '!D83,0) -> #DIV/0! | AK22: =AG22+AI22 -> 0 | AL22: =ROUND(AK22*100/'સત્રાંત પરિણામ પત્રક '!F83,0) -> #DIV/0! | AM22: =SUMPRODUCT(-(-('સત્રાંત પરિણામ પત્રક '!A8:A79="ST")),-(-('સત્રાંત પરિણામ પત્રક '!B8:B79="BOY")),-(-('સત્રાંત પરિણામ પત્રક '!AQ8:AQ79="C"))) -> 0 | AN22: =ROUND(AM22*100/'સત્રાંત પરિણામ પત્રક '!B83,0) -> #DIV/0! | AO22: =SUMPRODUCT(-(-('સત્રાંત પરિણામ પત્રક '!A8:A79="ST")),-(-('સત્રાંત પરિણામ પત્રક '!B8:B79="GIRL")),-(-('સત્રાંત પરિણામ પત્રક '!AQ8:AQ79="C"))) -> 0 | AP22: =ROUND(AO22*100/'સત્રાંત પરિણામ પત્રક '!D83,0) -> #DIV/0! | AQ22: =AM22+AO22 -> 0 | AR22: =ROUND(AQ22*100/'સત્રાંત પરિણામ પત્રક '!F83,0) -> #DIV/0! | AS22: =SUMPRODUCT(-(-('સત્રાંત પરિણામ પત્રક '!A8:A79="ST")),-(-('સત્રાંત પરિણામ પત્રક '!B8:B79="BOY")),-(-('સત્રાંત પરિણામ પત્રક '!AV8:AV79="C"))) -> 0 | AT22: =ROUND(AS22*100/'સત્રાંત પરિણામ પત્રક '!B83,0) -> #DIV/0! | AU22: =SUMPRODUCT(-(-('સત્રાંત પરિણામ પત્રક '!A8:A79="ST")),-(-('સત્રાંત પરિણામ પત્રક '!B8:B79="GIRL")),-(-('સત્રાંત પરિણામ પત્રક '!AV8:AV79="C"))) -> 0 | AV22: =ROUND(AU22*100/'સત્રાંત પરિણામ પત્રક '!D83,0) -> #DIV/0! | AW22: =AS22+AU22 -> 0 | AX22: =ROUND(AW22*100/'સત્રાંત પરિણામ પત્રક '!F83,0) -> #DIV/0!
B23: D | C23: =SUMPRODUCT(-(-('સત્રાંત પરિણામ પત્રક '!A8:A79="ST")),-(-('સત્રાંત પરિણામ પત્રક '!B8:B79="BOY")),-(-('સત્રાંત પરિણામ પત્રક '!I8:I79="D"))) -> 0 | D23: =ROUND(C23*100/'સત્રાંત પરિણામ પત્રક '!B83,0) -> #DIV/0! | E23: =SUMPRODUCT(-(-('સત્રાંત પરિણામ પત્રક '!A8:A79="ST")),-(-('સત્રાંત પરિણામ પત્રક '!B8:B79="GIRL")),-(-('સત્રાંત પરિણામ પત્રક '!I8:I79="D"))) -> 0 | F23: =ROUND(E23*100/'સત્રાંત પરિણામ પત્રક '!D83,0) -> #DIV/0! | G23: =C23+E23 -> 0 | H23: =ROUND(G23*100/'સત્રાંત પરિણામ પત્રક '!F83,0) -> #DIV/0! | I23: =SUMPRODUCT(-(-('સત્રાંત પરિણામ પત્રક '!A8:A79="ST")),-(-('સત્રાંત પરિણામ પત્રક '!B8:B79="BOY")),-(-('સત્રાંત પરિણામ પત્રક '!N8:N79="D"))) -> 0 | J23: =ROUND(I23*100/'સત્રાંત પરિણામ પત્રક '!B83,0) -> #DIV/0! | K23: =SUMPRODUCT(-(-('સત્રાંત પરિણામ પત્રક '!A8:A79="ST")),-(-('સત્રાંત પરિણામ પત્રક '!B8:B79="GIRL")),-(-('સત્રાંત પરિણામ પત્રક '!N8:N79="D"))) -> 0 | L23: =ROUND(K23*100/'સત્રાંત પરિણામ પત્રક '!D83,0) -> #DIV/0! | M23: =I23+K23 -> 0 | N23: =ROUND(M23*100/'સત્રાંત પરિણામ પત્રક '!F83,0) -> #DIV/0! | O23: =SUMPRODUCT(-(-('સત્રાંત પરિણામ પત્રક '!A8:A79="ST")),-(-('સત્રાંત પરિણામ પત્રક '!B8:B79="BOY")),-(-('સત્રાંત પરિણામ પત્રક '!V8:V79="D"))) -> 0 | P23: =ROUND(O23*100/'સત્રાંત પરિણામ પત્રક '!B83,0) -> #DIV/0! | Q23: =SUMPRODUCT(-(-('સત્રાંત પરિણામ પત્રક '!A8:A79="ST")),-(-('સત્રાંત પરિણામ પત્રક '!B8:B79="GIRL")),-(-('સત્રાંત પરિણામ પત્રક '!V8:V79="D"))) -> 0 | R23: =ROUND(Q23*100/'સત્રાંત પરિણામ પત્રક '!D83,0) -> #DIV/0! | S23: =O23+Q23 -> 0 | T23: =ROUND(S23*100/'સત્રાંત પરિણામ પત્રક '!F83,0) -> #DIV/0! | U23: =SUMPRODUCT(-(-('સત્રાંત પરિણામ પત્રક '!A8:A79="ST")),-(-('સત્રાંત પરિણામ પત્રક '!B8:B79="BOY")),-(-('સત્રાંત પરિણામ પત્રક '!AA8:AA79="D"))) -> 0 | V23: =ROUND(U23*100/'સત્રાંત પરિણામ પત્રક '!B83,0) -> #DIV/0! | W23: =SUMPRODUCT(-(-('સત્રાંત પરિણામ પત્રક '!A8:A79="ST")),-(-('સત્રાંત પરિણામ પત્રક '!B8:B79="GIRL")),-(-('સત્રાંત પરિણામ પત્રક '!AA8:AA79="D"))) -> 0 | X23: =ROUND(W23*100/'સત્રાંત પરિણામ પત્રક '!D83,0) -> #DIV/0! | Y23: =U23+W23 -> 0 | Z23: =ROUND(Y23*100/'સત્રાંત પરિણામ પત્રક '!F83,0) -> #DIV/0! | AA23: =SUMPRODUCT(-(-('સત્રાંત પરિણામ પત્રક '!A8:A79="ST")),-(-('સત્રાંત પરિણામ પત્રક '!B8:B79="BOY")),-(-('સત્રાંત પરિણામ પત્રક '!AF8:AF79="D"))) -> 0 | AB23: =ROUND(AA23*100/'સત્રાંત પરિણામ પત્રક '!B83,0) -> #DIV/0! | AC23: =SUMPRODUCT(-(-('સત્રાંત પરિણામ પત્રક '!A8:A79="ST")),-(-('સત્રાંત પરિણામ પત્રક '!B8:B79="GIRL")),-(-('સત્રાંત પરિણામ પત્રક '!AF8:AF79="D"))) -> 0 | AD23: =ROUND(AC23*100/'સત્રાંત પરિણામ પત્રક '!D83,0) -> #DIV/0! | AE23: =AA23+AC23 -> 0 | AF23: =ROUND(AE23*100/'સત્રાંત પરિણામ પત્રક '!F83,0) -> #DIV/0! | AG23: =SUMPRODUCT(-(-('સત્રાંત પરિણામ પત્રક '!A8:A79="ST")),-(-('સત્રાંત પરિણામ પત્રક '!B8:B79="BOY")),-(-('સત્રાંત પરિણામ પત્રક '!AL8:AL79="D"))) -> 0 | AH23: =ROUND(AG23*100/'સત્રાંત પરિણામ પત્રક '!B83,0) -> #DIV/0! | AI23: =SUMPRODUCT(-(-('સત્રાંત પરિણામ પત્રક '!A8:A79="ST")),-(-('સત્રાંત પરિણામ પત્રક '!B8:B79="GIRL")),-(-('સત્રાંત પરિણામ પત્રક '!AL8:AL79="D"))) -> 0 | AJ23: =ROUND(AI23*100/'સત્રાંત પરિણામ પત્રક '!D83,0) -> #DIV/0! | AK23: =AG23+AI23 -> 0 | AL23: =ROUND(AK23*100/'સત્રાંત પરિણામ પત્રક '!F83,0) -> #DIV/0! | AM23: =SUMPRODUCT(-(-('સત્રાંત પરિણામ પત્રક '!A8:A79="ST")),-(-('સત્રાંત પરિણામ પત્રક '!B8:B79="BOY")),-(-('સત્રાંત પરિણામ પત્રક '!AQ8:AQ79="D"))) -> 0 | AN23: =ROUND(AM23*100/'સત્રાંત પરિણામ પત્રક '!B83,0) -> #DIV/0! | AO23: =SUMPRODUCT(-(-('સત્રાંત પરિણામ પત્રક '!A8:A79="ST")),-(-('સત્રાંત પરિણામ પત્રક '!B8:B79="GIRL")),-(-('સત્રાંત પરિણામ પત્રક '!AQ8:AQ79="D"))) -> 0 | AP23: =ROUND(AO23*100/'સત્રાંત પરિણામ પત્રક '!D83,0) -> #DIV/0! | AQ23: =AM23+AO23 -> 0 | AR23: =ROUND(AQ23*100/'સત્રાંત પરિણામ પત્રક '!F83,0) -> #DIV/0! | AS23: =SUMPRODUCT(-(-('સત્રાંત પરિણામ પત્રક '!A8:A79="ST")),-(-('સત્રાંત પરિણામ પત્રક '!B8:B79="BOY")),-(-('સત્રાંત પરિણામ પત્રક '!AV8:AV79="D"))) -> 0 | AT23: =ROUND(AS23*100/'સત્રાંત પરિણામ પત્રક '!B83,0) -> #DIV/0! | AU23: =SUMPRODUCT(-(-('સત્રાંત પરિણામ પત્રક '!A8:A79="ST")),-(-('સત્રાંત પરિણામ પત્રક '!B8:B79="GIRL")),-(-('સત્રાંત પરિણામ પત્રક '!AV8:AV79="D"))) -> 0 | AV23: =ROUND(AU23*100/'સત્રાંત પરિણામ પત્રક '!D83,0) -> #DIV/0! | AW23: =AS23+AU23 -> 0 | AX23: =ROUND(AW23*100/'સત્રાંત પરિણામ પત્રક '!F83,0) -> #DIV/0!
B24: E | C24: =SUMPRODUCT(-(-('સત્રાંત પરિણામ પત્રક '!A8:A79="ST")),-(-('સત્રાંત પરિણામ પત્રક '!B8:B79="BOY")),-(-('સત્રાંત પરિણામ પત્રક '!I8:I79="E"))) -> 0 | D24: =ROUND(C24*100/'સત્રાંત પરિણામ પત્રક '!B83,0) -> #DIV/0! | E24: =SUMPRODUCT(-(-('સત્રાંત પરિણામ પત્રક '!A8:A79="ST")),-(-('સત્રાંત પરિણામ પત્રક '!B8:B79="GIRL")),-(-('સત્રાંત પરિણામ પત્રક '!I8:I79="E"))) -> 0 | F24: =ROUND(E24*100/'સત્રાંત પરિણામ પત્રક '!D83,0) -> #DIV/0! | G24: =C24+E24 -> 0 | H24: =ROUND(G24*100/'સત્રાંત પરિણામ પત્રક '!F83,0) -> #DIV/0! | I24: =SUMPRODUCT(-(-('સત્રાંત પરિણામ પત્રક '!A8:A79="ST")),-(-('સત્રાંત પરિણામ પત્રક '!B8:B79="BOY")),-(-('સત્રાંત પરિણામ પત્રક '!N8:N79="E"))) -> 0 | J24: =ROUND(I24*100/'સત્રાંત પરિણામ પત્રક '!B83,0) -> #DIV/0! | K24: =SUMPRODUCT(-(-('સત્રાંત પરિણામ પત્રક '!A8:A79="ST")),-(-('સત્રાંત પરિણામ પત્રક '!B8:B79="GIRL")),-(-('સત્રાંત પરિણામ પત્રક '!N8:N79="E"))) -> 0 | L24: =ROUND(K24*100/'સત્રાંત પરિણામ પત્રક '!D83,0) -> #DIV/0! | M24: =I24+K24 -> 0 | N24: =ROUND(M24*100/'સત્રાંત પરિણામ પત્રક '!F83,0) -> #DIV/0! | O24: =SUMPRODUCT(-(-('સત્રાંત પરિણામ પત્રક '!A8:A79="ST")),-(-('સત્રાંત પરિણામ પત્રક '!B8:B79="BOY")),-(-('સત્રાંત પરિણામ પત્રક '!V8:V79="E"))) -> 0 | P24: =ROUND(O24*100/'સત્રાંત પરિણામ પત્રક '!B83,0) -> #DIV/0! | Q24: =SUMPRODUCT(-(-('સત્રાંત પરિણામ પત્રક '!A8:A79="ST")),-(-('સત્રાંત પરિણામ પત્રક '!B8:B79="GIRL")),-(-('સત્રાંત પરિણામ પત્રક '!V8:V79="E"))) -> 0 | R24: =ROUND(Q24*100/'સત્રાંત પરિણામ પત્રક '!D83,0) -> #DIV/0! | S24: =O24+Q24 -> 0 | T24: =ROUND(S24*100/'સત્રાંત પરિણામ પત્રક '!F83,0) -> #DIV/0! | U24: =SUMPRODUCT(-(-('સત્રાંત પરિણામ પત્રક '!A8:A79="ST")),-(-('સત્રાંત પરિણામ પત્રક '!B8:B79="BOY")),-(-('સત્રાંત પરિણામ પત્રક '!AA8:AA79="E"))) -> 0 | V24: =ROUND(U24*100/'સત્રાંત પરિણામ પત્રક '!B83,0) -> #DIV/0! | W24: =SUMPRODUCT(-(-('સત્રાંત પરિણામ પત્રક '!A8:A79="ST")),-(-('સત્રાંત પરિણામ પત્રક '!B8:B79="GIRL")),-(-('સત્રાંત પરિણામ પત્રક '!AA8:AA79="E"))) -> 0 | X24: =ROUND(W24*100/'સત્રાંત પરિણામ પત્રક '!D83,0) -> #DIV/0! | Y24: =U24+W24 -> 0 | Z24: =ROUND(Y24*100/'સત્રાંત પરિણામ પત્રક '!F83,0) -> #DIV/0! | AA24: =SUMPRODUCT(-(-('સત્રાંત પરિણામ પત્રક '!A8:A79="ST")),-(-('સત્રાંત પરિણામ પત્રક '!B8:B79="BOY")),-(-('સત્રાંત પરિણામ પત્રક '!AF8:AF79="E"))) -> 0 | AB24: =ROUND(AA24*100/'સત્રાંત પરિણામ પત્રક '!B83,0) -> #DIV/0! | AC24: =SUMPRODUCT(-(-('સત્રાંત પરિણામ પત્રક '!A8:A79="ST")),-(-('સત્રાંત પરિણામ પત્રક '!B8:B79="GIRL")),-(-('સત્રાંત પરિણામ પત્રક '!AF8:AF79="E"))) -> 0 | AD24: =ROUND(AC24*100/'સત્રાંત પરિણામ પત્રક '!D83,0) -> #DIV/0! | AE24: =AA24+AC24 -> 0 | AF24: =ROUND(AE24*100/'સત્રાંત પરિણામ પત્રક '!F83,0) -> #DIV/0! | AG24: =SUMPRODUCT(-(-('સત્રાંત પરિણામ પત્રક '!A8:A79="ST")),-(-('સત્રાંત પરિણામ પત્રક '!B8:B79="BOY")),-(-('સત્રાંત પરિણામ પત્રક '!AL8:AL79="E"))) -> 0 | AH24: =ROUND(AG24*100/'સત્રાંત પરિણામ પત્રક '!B83,0) -> #DIV/0! | AI24: =SUMPRODUCT(-(-('સત્રાંત પરિણામ પત્રક '!A8:A79="ST")),-(-('સત્રાંત પરિણામ પત્રક '!B8:B79="GIRL")),-(-('સત્રાંત પરિણામ પત્રક '!AL8:AL79="E"))) -> 0 | AJ24: =ROUND(AI24*100/'સત્રાંત પરિણામ પત્રક '!D83,0) -> #DIV/0! | AK24: =AG24+AI24 -> 0 | AL24: =ROUND(AK24*100/'સત્રાંત પરિણામ પત્રક '!F83,0) -> #DIV/0! | AM24: =SUMPRODUCT(-(-('સત્રાંત પરિણામ પત્રક '!A8:A79="ST")),-(-('સત્રાંત પરિણામ પત્રક '!B8:B79="BOY")),-(-('સત્રાંત પરિણામ પત્રક '!AQ8:AQ79="E"))) -> 0 | AN24: =ROUND(AM24*100/'સત્રાંત પરિણામ પત્રક '!B83,0) -> #DIV/0! | AO24: =SUMPRODUCT(-(-('સત્રાંત પરિણામ પત્રક '!A8:A79="ST")),-(-('સત્રાંત પરિણામ પત્રક '!B8:B79="GIRL")),-(-('સત્રાંત પરિણામ પત્રક '!AQ8:AQ79="E"))) -> 0 | AP24: =ROUND(AO24*100/'સત્રાંત પરિણામ પત્રક '!D83,0) -> #DIV/0! | AQ24: =AM24+AO24 -> 0 | AR24: =ROUND(AQ24*100/'સત્રાંત પરિણામ પત્રક '!F83,0) -> #DIV/0! | AS24: =SUMPRODUCT(-(-('સત્રાંત પરિણામ પત્રક '!A8:A79="ST")),-(-('સત્રાંત પરિણામ પત્રક '!B8:B79="BOY")),-(-('સત્રાંત પરિણામ પત્રક '!AV8:AV79="E"))) -> 0 | AT24: =ROUND(AS24*100/'સત્રાંત પરિણામ પત્રક '!B83,0) -> #DIV/0! | AU24: =SUMPRODUCT(-(-('સત્રાંત પરિણામ પત્રક '!A8:A79="ST")),-(-('સત્રાંત પરિણામ પત્રક '!B8:B79="GIRL")),-(-('સત્રાંત પરિણામ પત્રક '!AV8:AV79="E"))) -> 0 | AV24: =ROUND(AU24*100/'સત્રાંત પરિણામ પત્રક '!D83,0) -> #DIV/0! | AW24: =AS24+AU24 -> 0 | AX24: =ROUND(AW24*100/'સત્રાંત પરિણામ પત્રક '!F83,0) -> #DIV/0!
A25: S], | C25: =SUM(C20:C24) -> 0 | D25: =ROUND(C25*100/'સત્રાંત પરિણામ પત્રક '!B83,0) -> #DIV/0! | E25: =SUM(E20:E24) -> 0 | F25: =ROUND(E25*100/'સત્રાંત પરિણામ પત્રક '!D83,0) -> #DIV/0! | G25: =SUM(G20:G24) -> 0 | H25: =ROUND(G25*100/'સત્રાંત પરિણામ પત્રક '!F83,0) -> #DIV/0! | I25: =SUM(I20:I24) -> 0 | J25: =ROUND(I25*100/'સત્રાંત પરિણામ પત્રક '!B83,0) -> #DIV/0! | K25: =SUM(K20:K24) -> 0 | L25: =ROUND(K25*100/'સત્રાંત પરિણામ પત્રક '!D83,0) -> #DIV/0! | M25: =SUM(M20:M24) -> 0 | N25: =ROUND(M25*100/'સત્રાંત પરિણામ પત્રક '!F83,0) -> #DIV/0! | O25: =SUM(O20:O24) -> 0 | P25: =ROUND(O25*100/'સત્રાંત પરિણામ પત્રક '!B83,0) -> #DIV/0! | Q25: =SUM(Q20:Q24) -> 0 | R25: =ROUND(Q25*100/'સત્રાંત પરિણામ પત્રક '!D83,0) -> #DIV/0! | S25: =SUM(S20:S24) -> 0 | T25: =ROUND(S25*100/'સત્રાંત પરિણામ પત્રક '!F83,0) -> #DIV/0! | U25: =SUM(U20:U24) -> 0 | V25: =ROUND(U25*100/'સત્રાંત પરિણામ પત્રક '!B83,0) -> #DIV/0! | W25: =SUM(W20:W24) -> 0 | X25: =ROUND(W25*100/'સત્રાંત પરિણામ પત્રક '!D83,0) -> #DIV/0! | Y25: =SUM(Y20:Y24) -> 0 | Z25: =ROUND(Y25*100/'સત્રાંત પરિણામ પત્રક '!F83,0) -> #DIV/0! | AA25: =SUM(AA20:AA24) -> 0 | AB25: =ROUND(AA25*100/'સત્રાંત પરિણામ પત્રક '!B83,0) -> #DIV/0! | AC25: =SUM(AC20:AC24) -> 0 | AD25: =ROUND(AC25*100/'સત્રાંત પરિણામ પત્રક '!D83,0) -> #DIV/0! | AE25: =SUM(AE20:AE24) -> 0 | AF25: =ROUND(AE25*100/'સત્રાંત પરિણામ પત્રક '!F83,0) -> #DIV/0! | AG25: =SUM(AG20:AG24) -> 0 | AH25: =ROUND(AG25*100/'સત્રાંત પરિણામ પત્રક '!B83,0) -> #DIV/0! | AI25: =SUM(AI20:AI24) -> 0 | AJ25: =ROUND(AI25*100/'સત્રાંત પરિણામ પત્રક '!D83,0) -> #DIV/0! | AK25: =SUM(AK20:AK24) -> 0 | AL25: =ROUND(AK25*100/'સત્રાંત પરિણામ પત્રક '!F83,0) -> #DIV/0! | AM25: =SUM(AM20:AM24) -> 0 | AN25: =ROUND(AM25*100/'સત્રાંત પરિણામ પત્રક '!B83,0) -> #DIV/0! | AO25: =SUM(AO20:AO24) -> 0 | AP25: =ROUND(AO25*100/'સત્રાંત પરિણામ પત્રક '!D83,0) -> #DIV/0! | AQ25: =SUM(AQ20:AQ24) -> 0 | AR25: =ROUND(AQ25*100/'સત્રાંત પરિણામ પત્રક '!F83,0) -> #DIV/0! | AS25: =SUM(AS20:AS24) -> 0 | AT25: =ROUND(AS25*100/'સત્રાંત પરિણામ પત્રક '!B83,0) -> #DIV/0! | AU25: =SUM(AU20:AU24) -> 0 | AV25: =ROUND(AU25*100/'સત્રાંત પરિણામ પત્રક '!D83,0) -> #DIV/0! | AW25: =SUM(AW20:AW24) -> 0 | AX25: =ROUND(AW25*100/'સત્રાંત પરિણામ પત્રક '!F83,0) -> #DIV/0!
A26: V gI | B26: A | C26: =SUMPRODUCT(-(-('સત્રાંત પરિણામ પત્રક '!A8:A79="OPEN")),-(-('સત્રાંત પરિણામ પત્રક '!B8:B79="BOY")),-(-('સત્રાંત પરિણામ પત્રક '!I8:I79="A"))) -> 0 | D26: =ROUND(C26*100/'સત્રાંત પરિણામ પત્રક '!B84,0) -> #DIV/0! | E26: =SUMPRODUCT(-(-('સત્રાંત પરિણામ પત્રક '!A8:A79="OPEN")),-(-('સત્રાંત પરિણામ પત્રક '!B8:B79="GIRL")),-(-('સત્રાંત પરિણામ પત્રક '!I8:I79="A"))) -> 0 | F26: =ROUND(E26*100/'સત્રાંત પરિણામ પત્રક '!D84,0) -> #DIV/0! | G26: =C26+E26 -> 0 | H26: =ROUND(G26*100/'સત્રાંત પરિણામ પત્રક '!F84,0) -> #DIV/0! | I26: =SUMPRODUCT(-(-('સત્રાંત પરિણામ પત્રક '!A8:A79="OPEN")),-(-('સત્રાંત પરિણામ પત્રક '!B8:B79="BOY")),-(-('સત્રાંત પરિણામ પત્રક '!N8:N79="A"))) -> 0 | J26: =ROUND(I26*100/'સત્રાંત પરિણામ પત્રક '!B84,0) -> #DIV/0! | K26: =SUMPRODUCT(-(-('સત્રાંત પરિણામ પત્રક '!A8:A79="OPEN")),-(-('સત્રાંત પરિણામ પત્રક '!B8:B79="GIRL")),-(-('સત્રાંત પરિણામ પત્રક '!N8:N79="A"))) -> 0 | L26: =ROUND(K26*100/'સત્રાંત પરિણામ પત્રક '!D84,0) -> #DIV/0! | M26: =I26+K26 -> 0 | N26: =ROUND(M26*100/'સત્રાંત પરિણામ પત્રક '!F84,0) -> #DIV/0! | O26: =SUMPRODUCT(-(-('સત્રાંત પરિણામ પત્રક '!A8:A79="OPEN")),-(-('સત્રાંત પરિણામ પત્રક '!B8:B79="BOY")),-(-('સત્રાંત પરિણામ પત્રક '!V8:V79="A"))) -> 0 | P26: =ROUND(O26*100/'સત્રાંત પરિણામ પત્રક '!B84,0) -> #DIV/0! | Q26: =SUMPRODUCT(-(-('સત્રાંત પરિણામ પત્રક '!A8:A79="OPEN")),-(-('સત્રાંત પરિણામ પત્રક '!B8:B79="GIRL")),-(-('સત્રાંત પરિણામ પત્રક '!V8:V79="A"))) -> 0 | R26: =ROUND(Q26*100/'સત્રાંત પરિણામ પત્રક '!D84,0) -> #DIV/0! | S26: =O26+Q26 -> 0 | T26: =ROUND(S26*100/'સત્રાંત પરિણામ પત્રક '!F84,0) -> #DIV/0! | U26: =SUMPRODUCT(-(-('સત્રાંત પરિણામ પત્રક '!A8:A79="OPEN")),-(-('સત્રાંત પરિણામ પત્રક '!B8:B79="BOY")),-(-('સત્રાંત પરિણામ પત્રક '!AA8:AA79="A"))) -> 0 | V26: =ROUND(U26*100/'સત્રાંત પરિણામ પત્રક '!B84,0) -> #DIV/0! | W26: =SUMPRODUCT(-(-('સત્રાંત પરિણામ પત્રક '!A8:A79="OPEN")),-(-('સત્રાંત પરિણામ પત્રક '!B8:B79="GIRL")),-(-('સત્રાંત પરિણામ પત્રક '!AA8:AA79="A"))) -> 0 | X26: =ROUND(W26*100/'સત્રાંત પરિણામ પત્રક '!D84,0) -> #DIV/0! | Y26: =U26+W26 -> 0 | Z26: =ROUND(Y26*100/'સત્રાંત પરિણામ પત્રક '!F84,0) -> #DIV/0! | AA26: =SUMPRODUCT(-(-('સત્રાંત પરિણામ પત્રક '!A8:A79="OPEN")),-(-('સત્રાંત પરિણામ પત્રક '!B8:B79="BOY")),-(-('સત્રાંત પરિણામ પત્રક '!AF8:AF79="A"))) -> 0 | AB26: =ROUND(AA26*100/'સત્રાંત પરિણામ પત્રક '!B84,0) -> #DIV/0! | AC26: =SUMPRODUCT(-(-('સત્રાંત પરિણામ પત્રક '!A8:A79="OPEN")),-(-('સત્રાંત પરિણામ પત્રક '!B8:B79="GIRL")),-(-('સત્રાંત પરિણામ પત્રક '!AF8:AF79="A"))) -> 0 | AD26: =ROUND(AC26*100/'સત્રાંત પરિણામ પત્રક '!D84,0) -> #DIV/0! | AE26: =AA26+AC26 -> 0 | AF26: =ROUND(AE26*100/'સત્રાંત પરિણામ પત્રક '!F84,0) -> #DIV/0! | AG26: =SUMPRODUCT(-(-('સત્રાંત પરિણામ પત્રક '!A8:A79="OPEN")),-(-('સત્રાંત પરિણામ પત્રક '!B8:B79="BOY")),-(-('સત્રાંત પરિણામ પત્રક '!AL8:AL79="A"))) -> 0 | AH26: =ROUND(AG26*100/'સત્રાંત પરિણામ પત્રક '!B84,0) -> #DIV/0! | AI26: =SUMPRODUCT(-(-('સત્રાંત પરિણામ પત્રક '!A8:A79="OPEN")),-(-('સત્રાંત પરિણામ પત્રક '!B8:B79="GIRL")),-(-('સત્રાંત પરિણામ પત્રક '!AL8:AL79="A"))) -> 0 | AJ26: =ROUND(AI26*100/'સત્રાંત પરિણામ પત્રક '!D84,0) -> #DIV/0! | AK26: =AG26+AI26 -> 0 | AL26: =ROUND(AK26*100/'સત્રાંત પરિણામ પત્રક '!F84,0) -> #DIV/0! | AM26: =SUMPRODUCT(-(-('સત્રાંત પરિણામ પત્રક '!A8:A79="OPEN")),-(-('સત્રાંત પરિણામ પત્રક '!B8:B79="BOY")),-(-('સત્રાંત પરિણામ પત્રક '!AQ8:AQ79="A"))) -> 0 | AN26: =ROUND(AM26*100/'સત્રાંત પરિણામ પત્રક '!B84,0) -> #DIV/0! | AO26: =SUMPRODUCT(-(-('સત્રાંત પરિણામ પત્રક '!A8:A79="OPEN")),-(-('સત્રાંત પરિણામ પત્રક '!B8:B79="GIRL")),-(-('સત્રાંત પરિણામ પત્રક '!AQ8:AQ79="A"))) -> 0 | AP26: =ROUND(AO26*100/'સત્રાંત પરિણામ પત્રક '!D84,0) -> #DIV/0! | AQ26: =AM26+AO26 -> 0 | AR26: =ROUND(AQ26*100/'સત્રાંત પરિણામ પત્રક '!F84,0) -> #DIV/0! | AS26: =SUMPRODUCT(-(-('સત્રાંત પરિણામ પત્રક '!A8:A79="OPEN")),-(-('સત્રાંત પરિણામ પત્રક '!B8:B79="BOY")),-(-('સત્રાંત પરિણામ પત્રક '!AV8:AV79="A"))) -> 0 | AT26: =ROUND(AS26*100/'સત્રાંત પરિણામ પત્રક '!B84,0) -> #DIV/0! | AU26: =SUMPRODUCT(-(-('સત્રાંત પરિણામ પત્રક '!A8:A79="OPEN")),-(-('સત્રાંત પરિણામ પત્રક '!B8:B79="GIRL")),-(-('સત્રાંત પરિણામ પત્રક '!AV8:AV79="A"))) -> 0 | AV26: =ROUND(AU26*100/'સત્રાંત પરિણામ પત્રક '!D84,0) -> #DIV/0! | AW26: =AS26+AU26 -> 0 | AX26: =ROUND(AW26*100/'સત્રાંત પરિણામ પત્રક '!F84,0) -> #DIV/0!
B27: B | C27: =SUMPRODUCT(-(-('સત્રાંત પરિણામ પત્રક '!A8:A79="OPEN")),-(-('સત્રાંત પરિણામ પત્રક '!B8:B79="BOY")),-(-('સત્રાંત પરિણામ પત્રક '!I8:I79="B"))) -> 0 | D27: =ROUND(C27*100/'સત્રાંત પરિણામ પત્રક '!B84,0) -> #DIV/0! | E27: =SUMPRODUCT(-(-('સત્રાંત પરિણામ પત્રક '!A8:A79="OPEN")),-(-('સત્રાંત પરિણામ પત્રક '!B8:B79="GIRL")),-(-('સત્રાંત પરિણામ પત્રક '!I8:I79="B"))) -> 0 | F27: =ROUND(E27*100/'સત્રાંત પરિણામ પત્રક '!D84,0) -> #DIV/0! | G27: =C27+E27 -> 0 | H27: =ROUND(G27*100/'સત્રાંત પરિણામ પત્રક '!F84,0) -> #DIV/0! | I27: =SUMPRODUCT(-(-('સત્રાંત પરિણામ પત્રક '!A8:A79="OPEN")),-(-('સત્રાંત પરિણામ પત્રક '!B8:B79="BOY")),-(-('સત્રાંત પરિણામ પત્રક '!N8:N79="B"))) -> 0 | J27: =ROUND(I27*100/'સત્રાંત પરિણામ પત્રક '!B84,0) -> #DIV/0! | K27: =SUMPRODUCT(-(-('સત્રાંત પરિણામ પત્રક '!A8:A79="OPEN")),-(-('સત્રાંત પરિણામ પત્રક '!B8:B79="GIRL")),-(-('સત્રાંત પરિણામ પત્રક '!N8:N79="B"))) -> 0 | L27: =ROUND(K27*100/'સત્રાંત પરિણામ પત્રક '!D84,0) -> #DIV/0! | M27: =I27+K27 -> 0 | N27: =ROUND(M27*100/'સત્રાંત પરિણામ પત્રક '!F84,0) -> #DIV/0! | O27: =SUMPRODUCT(-(-('સત્રાંત પરિણામ પત્રક '!A8:A79="OPEN")),-(-('સત્રાંત પરિણામ પત્રક '!B8:B79="BOY")),-(-('સત્રાંત પરિણામ પત્રક '!V8:V79="B"))) -> 0 | P27: =ROUND(O27*100/'સત્રાંત પરિણામ પત્રક '!B84,0) -> #DIV/0! | Q27: =SUMPRODUCT(-(-('સત્રાંત પરિણામ પત્રક '!A8:A79="OPEN")),-(-('સત્રાંત પરિણામ પત્રક '!B8:B79="GIRL")),-(-('સત્રાંત પરિણામ પત્રક '!V8:V79="B"))) -> 0 | R27: =ROUND(Q27*100/'સત્રાંત પરિણામ પત્રક '!D84,0) -> #DIV/0! | S27: =O27+Q27 -> 0 | T27: =ROUND(S27*100/'સત્રાંત પરિણામ પત્રક '!F84,0) -> #DIV/0! | U27: =SUMPRODUCT(-(-('સત્રાંત પરિણામ પત્રક '!A8:A79="OPEN")),-(-('સત્રાંત પરિણામ પત્રક '!B8:B79="BOY")),-(-('સત્રાંત પરિણામ પત્રક '!AA8:AA79="B"))) -> 0 | V27: =ROUND(U27*100/'સત્રાંત પરિણામ પત્રક '!B84,0) -> #DIV/0! | W27: =SUMPRODUCT(-(-('સત્રાંત પરિણામ પત્રક '!A8:A79="OPEN")),-(-('સત્રાંત પરિણામ પત્રક '!B8:B79="GIRL")),-(-('સત્રાંત પરિણામ પત્રક '!AA8:AA79="B"))) -> 0 | X27: =ROUND(W27*100/'સત્રાંત પરિણામ પત્રક '!D84,0) -> #DIV/0! | Y27: =U27+W27 -> 0 | Z27: =ROUND(Y27*100/'સત્રાંત પરિણામ પત્રક '!F84,0) -> #DIV/0! | AA27: =SUMPRODUCT(-(-('સત્રાંત પરિણામ પત્રક '!A8:A79="OPEN")),-(-('સત્રાંત પરિણામ પત્રક '!B8:B79="BOY")),-(-('સત્રાંત પરિણામ પત્રક '!AF8:AF79="B"))) -> 0 | AB27: =ROUND(AA27*100/'સત્રાંત પરિણામ પત્રક '!B84,0) -> #DIV/0! | AC27: =SUMPRODUCT(-(-('સત્રાંત પરિણામ પત્રક '!A8:A79="OPEN")),-(-('સત્રાંત પરિણામ પત્રક '!B8:B79="GIRL")),-(-('સત્રાંત પરિણામ પત્રક '!AF8:AF79="B"))) -> 0 | AD27: =ROUND(AC27*100/'સત્રાંત પરિણામ પત્રક '!D84,0) -> #DIV/0! | AE27: =AA27+AC27 -> 0 | AF27: =ROUND(AE27*100/'સત્રાંત પરિણામ પત્રક '!F84,0) -> #DIV/0! | AG27: =SUMPRODUCT(-(-('સત્રાંત પરિણામ પત્રક '!A8:A79="OPEN")),-(-('સત્રાંત પરિણામ પત્રક '!B8:B79="BOY")),-(-('સત્રાંત પરિણામ પત્રક '!AL8:AL79="B"))) -> 0 | AH27: =ROUND(AG27*100/'સત્રાંત પરિણામ પત્રક '!B84,0) -> #DIV/0! | AI27: =SUMPRODUCT(-(-('સત્રાંત પરિણામ પત્રક '!A8:A79="OPEN")),-(-('સત્રાંત પરિણામ પત્રક '!B8:B79="GIRL")),-(-('સત્રાંત પરિણામ પત્રક '!AL8:AL79="B"))) -> 0 | AJ27: =ROUND(AI27*100/'સત્રાંત પરિણામ પત્રક '!D84,0) -> #DIV/0! | AK27: =AG27+AI27 -> 0 | AL27: =ROUND(AK27*100/'સત્રાંત પરિણામ પત્રક '!F84,0) -> #DIV/0! | AM27: =SUMPRODUCT(-(-('સત્રાંત પરિણામ પત્રક '!A8:A79="OPEN")),-(-('સત્રાંત પરિણામ પત્રક '!B8:B79="BOY")),-(-('સત્રાંત પરિણામ પત્રક '!AQ8:AQ79="B"))) -> 0 | AN27: =ROUND(AM27*100/'સત્રાંત પરિણામ પત્રક '!B84,0) -> #DIV/0! | AO27: =SUMPRODUCT(-(-('સત્રાંત પરિણામ પત્રક '!A8:A79="OPEN")),-(-('સત્રાંત પરિણામ પત્રક '!B8:B79="GIRL")),-(-('સત્રાંત પરિણામ પત્રક '!AQ8:AQ79="B"))) -> 0 | AP27: =ROUND(AO27*100/'સત્રાંત પરિણામ પત્રક '!D84,0) -> #DIV/0! | AQ27: =AM27+AO27 -> 0 | AR27: =ROUND(AQ27*100/'સત્રાંત પરિણામ પત્રક '!F84,0) -> #DIV/0! | AS27: =SUMPRODUCT(-(-('સત્રાંત પરિણામ પત્રક '!A8:A79="OPEN")),-(-('સત્રાંત પરિણામ પત્રક '!B8:B79="BOY")),-(-('સત્રાંત પરિણામ પત્રક '!AV8:AV79="B"))) -> 0 | AT27: =ROUND(AS27*100/'સત્રાંત પરિણામ પત્રક '!B84,0) -> #DIV/0! | AU27: =SUMPRODUCT(-(-('સત્રાંત પરિણામ પત્રક '!A8:A79="OPEN")),-(-('સત્રાંત પરિણામ પત્રક '!B8:B79="GIRL")),-(-('સત્રાંત પરિણામ પત્રક '!AV8:AV79="B"))) -> 0 | AV27: =ROUND(AU27*100/'સત્રાંત પરિણામ પત્રક '!D84,0) -> #DIV/0! | AW27: =AS27+AU27 -> 0 | AX27: =ROUND(AW27*100/'સત્રાંત પરિણામ પત્રક '!F84,0) -> #DIV/0!
B28: C | C28: =SUMPRODUCT(-(-('સત્રાંત પરિણામ પત્રક '!A8:A79="OPEN")),-(-('સત્રાંત પરિણામ પત્રક '!B8:B79="BOY")),-(-('સત્રાંત પરિણામ પત્રક '!I8:I79="C"))) -> 0 | D28: =ROUND(C28*100/'સત્રાંત પરિણામ પત્રક '!B84,0) -> #DIV/0! | E28: =SUMPRODUCT(-(-('સત્રાંત પરિણામ પત્રક '!A8:A79="OPEN")),-(-('સત્રાંત પરિણામ પત્રક '!B8:B79="GIRL")),-(-('સત્રાંત પરિણામ પત્રક '!I8:I79="C"))) -> 0 | F28: =ROUND(E28*100/'સત્રાંત પરિણામ પત્રક '!D84,0) -> #DIV/0! | G28: =C28+E28 -> 0 | H28: =ROUND(G28*100/'સત્રાંત પરિણામ પત્રક '!F84,0) -> #DIV/0! | I28: =SUMPRODUCT(-(-('સત્રાંત પરિણામ પત્રક '!A8:A79="OPEN")),-(-('સત્રાંત પરિણામ પત્રક '!B8:B79="BOY")),-(-('સત્રાંત પરિણામ પત્રક '!N8:N79="C"))) -> 0 | J28: =ROUND(I28*100/'સત્રાંત પરિણામ પત્રક '!B84,0) -> #DIV/0! | K28: =SUMPRODUCT(-(-('સત્રાંત પરિણામ પત્રક '!A8:A79="OPEN")),-(-('સત્રાંત પરિણામ પત્રક '!B8:B79="GIRL")),-(-('સત્રાંત પરિણામ પત્રક '!N8:N79="C"))) -> 0 | L28: =ROUND(K28*100/'સત્રાંત પરિણામ પત્રક '!D84,0) -> #DIV/0! | M28: =I28+K28 -> 0 | N28: =ROUND(M28*100/'સત્રાંત પરિણામ પત્રક '!F84,0) -> #DIV/0! | O28: =SUMPRODUCT(-(-('સત્રાંત પરિણામ પત્રક '!A8:A79="OPEN")),-(-('સત્રાંત પરિણામ પત્રક '!B8:B79="BOY")),-(-('સત્રાંત પરિણામ પત્રક '!V8:V79="C"))) -> 0 | P28: =ROUND(O28*100/'સત્રાંત પરિણામ પત્રક '!B84,0) -> #DIV/0! | Q28: =SUMPRODUCT(-(-('સત્રાંત પરિણામ પત્રક '!A8:A79="OPEN")),-(-('સત્રાંત પરિણામ પત્રક '!B8:B79="GIRL")),-(-('સત્રાંત પરિણામ પત્રક '!V8:V79="C"))) -> 0 | R28: =ROUND(Q28*100/'સત્રાંત પરિણામ પત્રક '!D84,0) -> #DIV/0! | S28: =O28+Q28 -> 0 | T28: =ROUND(S28*100/'સત્રાંત પરિણામ પત્રક '!F84,0) -> #DIV/0! | U28: =SUMPRODUCT(-(-('સત્રાંત પરિણામ પત્રક '!A8:A79="OPEN")),-(-('સત્રાંત પરિણામ પત્રક '!B8:B79="BOY")),-(-('સત્રાંત પરિણામ પત્રક '!AA8:AA79="C"))) -> 0 | V28: =ROUND(U28*100/'સત્રાંત પરિણામ પત્રક '!B84,0) -> #DIV/0! | W28: =SUMPRODUCT(-(-('સત્રાંત પરિણામ પત્રક '!A8:A79="OPEN")),-(-('સત્રાંત પરિણામ પત્રક '!B8:B79="GIRL")),-(-('સત્રાંત પરિણામ પત્રક '!AA8:AA79="C"))) -> 0 | X28: =ROUND(W28*100/'સત્રાંત પરિણામ પત્રક '!D84,0) -> #DIV/0! | Y28: =U28+W28 -> 0 | Z28: =ROUND(Y28*100/'સત્રાંત પરિણામ પત્રક '!F84,0) -> #DIV/0! | AA28: =SUMPRODUCT(-(-('સત્રાંત પરિણામ પત્રક '!A8:A79="OPEN")),-(-('સત્રાંત પરિણામ પત્રક '!B8:B79="BOY")),-(-('સત્રાંત પરિણામ પત્રક '!AF8:AF79="C"))) -> 0 | AB28: =ROUND(AA28*100/'સત્રાંત પરિણામ પત્રક '!B84,0) -> #DIV/0! | AC28: =SUMPRODUCT(-(-('સત્રાંત પરિણામ પત્રક '!A8:A79="OPEN")),-(-('સત્રાંત પરિણામ પત્રક '!B8:B79="GIRL")),-(-('સત્રાંત પરિણામ પત્રક '!AF8:AF79="C"))) -> 0 | AD28: =ROUND(AC28*100/'સત્રાંત પરિણામ પત્રક '!D84,0) -> #DIV/0! | AE28: =AA28+AC28 -> 0 | AF28: =ROUND(AE28*100/'સત્રાંત પરિણામ પત્રક '!F84,0) -> #DIV/0! | AG28: =SUMPRODUCT(-(-('સત્રાંત પરિણામ પત્રક '!A8:A79="OPEN")),-(-('સત્રાંત પરિણામ પત્રક '!B8:B79="BOY")),-(-('સત્રાંત પરિણામ પત્રક '!AL8:AL79="C"))) -> 0 | AH28: =ROUND(AG28*100/'સત્રાંત પરિણામ પત્રક '!B84,0) -> #DIV/0! | AI28: =SUMPRODUCT(-(-('સત્રાંત પરિણામ પત્રક '!A8:A79="OPEN")),-(-('સત્રાંત પરિણામ પત્રક '!B8:B79="GIRL")),-(-('સત્રાંત પરિણામ પત્રક '!AL8:AL79="C"))) -> 0 | AJ28: =ROUND(AI28*100/'સત્રાંત પરિણામ પત્રક '!D84,0) -> #DIV/0! | AK28: =AG28+AI28 -> 0 | AL28: =ROUND(AK28*100/'સત્રાંત પરિણામ પત્રક '!F84,0) -> #DIV/0! | AM28: =SUMPRODUCT(-(-('સત્રાંત પરિણામ પત્રક '!A8:A79="OPEN")),-(-('સત્રાંત પરિણામ પત્રક '!B8:B79="BOY")),-(-('સત્રાંત પરિણામ પત્રક '!AQ8:AQ79="C"))) -> 0 | AN28: =ROUND(AM28*100/'સત્રાંત પરિણામ પત્રક '!B84,0) -> #DIV/0! | AO28: =SUMPRODUCT(-(-('સત્રાંત પરિણામ પત્રક '!A8:A79="OPEN")),-(-('સત્રાંત પરિણામ પત્રક '!B8:B79="GIRL")),-(-('સત્રાંત પરિણામ પત્રક '!AQ8:AQ79="C"))) -> 0 | AP28: =ROUND(AO28*100/'સત્રાંત પરિણામ પત્રક '!D84,0) -> #DIV/0! | AQ28: =AM28+AO28 -> 0 | AR28: =ROUND(AQ28*100/'સત્રાંત પરિણામ પત્રક '!F84,0) -> #DIV/0! | AS28: =SUMPRODUCT(-(-('સત્રાંત પરિણામ પત્રક '!A8:A79="OPEN")),-(-('સત્રાંત પરિણામ પત્રક '!B8:B79="BOY")),-(-('સત્રાંત પરિણામ પત્રક '!AV8:AV79="C"))) -> 0 | AT28: =ROUND(AS28*100/'સત્રાંત પરિણામ પત્રક '!B84,0) -> #DIV/0! | AU28: =SUMPRODUCT(-(-('સત્રાંત પરિણામ પત્રક '!A8:A79="OPEN")),-(-('સત્રાંત પરિણામ પત્રક '!B8:B79="GIRL")),-(-('સત્રાંત પરિણામ પત્રક '!AV8:AV79="C"))) -> 0 | AV28: =ROUND(AU28*100/'સત્રાંત પરિણામ પત્રક '!D84,0) -> #DIV/0! | AW28: =AS28+AU28 -> 0 | AX28: =ROUND(AW28*100/'સત્રાંત પરિણામ પત્રક '!F84,0) -> #DIV/0!
B29: D | C29: =SUMPRODUCT(-(-('સત્રાંત પરિણામ પત્રક '!A8:A79="OPEN")),-(-('સત્રાંત પરિણામ પત્રક '!B8:B79="BOY")),-(-('સત્રાંત પરિણામ પત્રક '!I8:I79="D"))) -> 0 | D29: =ROUND(C29*100/'સત્રાંત પરિણામ પત્રક '!B84,0) -> #DIV/0! | E29: =SUMPRODUCT(-(-('સત્રાંત પરિણામ પત્રક '!A8:A79="OPEN")),-(-('સત્રાંત પરિણામ પત્રક '!B8:B79="GIRL")),-(-('સત્રાંત પરિણામ પત્રક '!I8:I79="D"))) -> 0 | F29: =ROUND(E29*100/'સત્રાંત પરિણામ પત્રક '!D84,0) -> #DIV/0! | G29: =C29+E29 -> 0 | H29: =ROUND(G29*100/'સત્રાંત પરિણામ પત્રક '!F84,0) -> #DIV/0! | I29: =SUMPRODUCT(-(-('સત્રાંત પરિણામ પત્રક '!A8:A79="OPEN")),-(-('સત્રાંત પરિણામ પત્રક '!B8:B79="BOY")),-(-('સત્રાંત પરિણામ પત્રક '!N8:N79="D"))) -> 0 | J29: =ROUND(I29*100/'સત્રાંત પરિણામ પત્રક '!B84,0) -> #DIV/0! | K29: =SUMPRODUCT(-(-('સત્રાંત પરિણામ પત્રક '!A8:A79="OPEN")),-(-('સત્રાંત પરિણામ પત્રક '!B8:B79="GIRL")),-(-('સત્રાંત પરિણામ પત્રક '!N8:N79="D"))) -> 0 | L29: =ROUND(K29*100/'સત્રાંત પરિણામ પત્રક '!D84,0) -> #DIV/0! | M29: =I29+K29 -> 0 | N29: =ROUND(M29*100/'સત્રાંત પરિણામ પત્રક '!F84,0) -> #DIV/0! | O29: =SUMPRODUCT(-(-('સત્રાંત પરિણામ પત્રક '!A8:A79="OPEN")),-(-('સત્રાંત પરિણામ પત્રક '!B8:B79="BOY")),-(-('સત્રાંત પરિણામ પત્રક '!V8:V79="D"))) -> 0 | P29: =ROUND(O29*100/'સત્રાંત પરિણામ પત્રક '!B84,0) -> #DIV/0! | Q29: =SUMPRODUCT(-(-('સત્રાંત પરિણામ પત્રક '!A8:A79="OPEN")),-(-('સત્રાંત પરિણામ પત્રક '!B8:B79="GIRL")),-(-('સત્રાંત પરિણામ પત્રક '!V8:V79="D"))) -> 0 | R29: =ROUND(Q29*100/'સત્રાંત પરિણામ પત્રક '!D84,0) -> #DIV/0! | S29: =O29+Q29 -> 0 | T29: =ROUND(S29*100/'સત્રાંત પરિણામ પત્રક '!F84,0) -> #DIV/0! | U29: =SUMPRODUCT(-(-('સત્રાંત પરિણામ પત્રક '!A8:A79="OPEN")),-(-('સત્રાંત પરિણામ પત્રક '!B8:B79="BOY")),-(-('સત્રાંત પરિણામ પત્રક '!AA8:AA79="D"))) -> 0 | V29: =ROUND(U29*100/'સત્રાંત પરિણામ પત્રક '!B84,0) -> #DIV/0! | W29: =SUMPRODUCT(-(-('સત્રાંત પરિણામ પત્રક '!A8:A79="OPEN")),-(-('સત્રાંત પરિણામ પત્રક '!B8:B79="GIRL")),-(-('સત્રાંત પરિણામ પત્રક '!AA8:AA79="D"))) -> 0 | X29: =ROUND(W29*100/'સત્રાંત પરિણામ પત્રક '!D84,0) -> #DIV/0! | Y29: =U29+W29 -> 0 | Z29: =ROUND(Y29*100/'સત્રાંત પરિણામ પત્રક '!F84,0) -> #DIV/0! | AA29: =SUMPRODUCT(-(-('સત્રાંત પરિણામ પત્રક '!A8:A79="OPEN")),-(-('સત્રાંત પરિણામ પત્રક '!B8:B79="BOY")),-(-('સત્રાંત પરિણામ પત્રક '!AF8:AF79="D"))) -> 0 | AB29: =ROUND(AA29*100/'સત્રાંત પરિણામ પત્રક '!B84,0) -> #DIV/0! | AC29: =SUMPRODUCT(-(-('સત્રાંત પરિણામ પત્રક '!A8:A79="OPEN")),-(-('સત્રાંત પરિણામ પત્રક '!B8:B79="GIRL")),-(-('સત્રાંત પરિણામ પત્રક '!AF8:AF79="D"))) -> 0 | AD29: =ROUND(AC29*100/'સત્રાંત પરિણામ પત્રક '!D84,0) -> #DIV/0! | AE29: =AA29+AC29 -> 0 | AF29: =ROUND(AE29*100/'સત્રાંત પરિણામ પત્રક '!F84,0) -> #DIV/0! | AG29: =SUMPRODUCT(-(-('સત્રાંત પરિણામ પત્રક '!A8:A79="OPEN")),-(-('સત્રાંત પરિણામ પત્રક '!B8:B79="BOY")),-(-('સત્રાંત પરિણામ પત્રક '!AL8:AL79="D"))) -> 0 | AH29: =ROUND(AG29*100/'સત્રાંત પરિણામ પત્રક '!B84,0) -> #DIV/0! | AI29: =SUMPRODUCT(-(-('સત્રાંત પરિણામ પત્રક '!A8:A79="OPEN")),-(-('સત્રાંત પરિણામ પત્રક '!B8:B79="GIRL")),-(-('સત્રાંત પરિણામ પત્રક '!AL8:AL79="D"))) -> 0 | AJ29: =ROUND(AI29*100/'સત્રાંત પરિણામ પત્રક '!D84,0) -> #DIV/0! | AK29: =AG29+AI29 -> 0 | AL29: =ROUND(AK29*100/'સત્રાંત પરિણામ પત્રક '!F84,0) -> #DIV/0! | AM29: =SUMPRODUCT(-(-('સત્રાંત પરિણામ પત્રક '!A8:A79="OPEN")),-(-('સત્રાંત પરિણામ પત્રક '!B8:B79="BOY")),-(-('સત્રાંત પરિણામ પત્રક '!AQ8:AQ79="D"))) -> 0 | AN29: =ROUND(AM29*100/'સત્રાંત પરિણામ પત્રક '!B84,0) -> #DIV/0! | AO29: =SUMPRODUCT(-(-('સત્રાંત પરિણામ પત્રક '!A8:A79="OPEN")),-(-('સત્રાંત પરિણામ પત્રક '!B8:B79="GIRL")),-(-('સત્રાંત પરિણામ પત્રક '!AQ8:AQ79="D"))) -> 0 | AP29: =ROUND(AO29*100/'સત્રાંત પરિણામ પત્રક '!D84,0) -> #DIV/0! | AQ29: =AM29+AO29 -> 0 | AR29: =ROUND(AQ29*100/'સત્રાંત પરિણામ પત્રક '!F84,0) -> #DIV/0! | AS29: =SUMPRODUCT(-(-('સત્રાંત પરિણામ પત્રક '!A8:A79="OPEN")),-(-('સત્રાંત પરિણામ પત્રક '!B8:B79="BOY")),-(-('સત્રાંત પરિણામ પત્રક '!AV8:AV79="D"))) -> 0 | AT29: =ROUND(AS29*100/'સત્રાંત પરિણામ પત્રક '!B84,0) -> #DIV/0! | AU29: =SUMPRODUCT(-(-('સત્રાંત પરિણામ પત્રક '!A8:A79="OPEN")),-(-('સત્રાંત પરિણામ પત્રક '!B8:B79="GIRL")),-(-('સત્રાંત પરિણામ પત્રક '!AV8:AV79="D"))) -> 0 | AV29: =ROUND(AU29*100/'સત્રાંત પરિણામ પત્રક '!D84,0) -> #DIV/0! | AW29: =AS29+AU29 -> 0 | AX29: =ROUND(AW29*100/'સત્રાંત પરિણામ પત્રક '!F84,0) -> #DIV/0!
B30: E | C30: =SUMPRODUCT(-(-('સત્રાંત પરિણામ પત્રક '!A8:A79="OPEN")),-(-('સત્રાંત પરિણામ પત્રક '!B8:B79="BOY")),-(-('સત્રાંત પરિણામ પત્રક '!I8:I79="E"))) -> 0 | D30: =ROUND(C30*100/'સત્રાંત પરિણામ પત્રક '!B84,0) -> #DIV/0! | E30: =SUMPRODUCT(-(-('સત્રાંત પરિણામ પત્રક '!A8:A79="OPEN")),-(-('સત્રાંત પરિણામ પત્રક '!B8:B79="GIRL")),-(-('સત્રાંત પરિણામ પત્રક '!I8:I79="E"))) -> 0 | F30: =ROUND(E30*100/'સત્રાંત પરિણામ પત્રક '!D84,0) -> #DIV/0! | G30: =C30+E30 -> 0 | H30: =ROUND(G30*100/'સત્રાંત પરિણામ પત્રક '!F84,0) -> #DIV/0! | I30: =SUMPRODUCT(-(-('સત્રાંત પરિણામ પત્રક '!A8:A79="OPEN")),-(-('સત્રાંત પરિણામ પત્રક '!B8:B79="BOY")),-(-('સત્રાંત પરિણામ પત્રક '!N8:N79="E"))) -> 0 | J30: =ROUND(I30*100/'સત્રાંત પરિણામ પત્રક '!B84,0) -> #DIV/0! | K30: =SUMPRODUCT(-(-('સત્રાંત પરિણામ પત્રક '!A8:A79="OPEN")),-(-('સત્રાંત પરિણામ પત્રક '!B8:B79="GIRL")),-(-('સત્રાંત પરિણામ પત્રક '!N8:N79="E"))) -> 0 | L30: =ROUND(K30*100/'સત્રાંત પરિણામ પત્રક '!D84,0) -> #DIV/0! | M30: =I30+K30 -> 0 | N30: =ROUND(M30*100/'સત્રાંત પરિણામ પત્રક '!F84,0) -> #DIV/0! | O30: =SUMPRODUCT(-(-('સત્રાંત પરિણામ પત્રક '!A8:A79="OPEN")),-(-('સત્રાંત પરિણામ પત્રક '!B8:B79="BOY")),-(-('સત્રાંત પરિણામ પત્રક '!V8:V79="E"))) -> 0 | P30: =ROUND(O30*100/'સત્રાંત પરિણામ પત્રક '!B84,0) -> #DIV/0! | Q30: =SUMPRODUCT(-(-('સત્રાંત પરિણામ પત્રક '!A8:A79="OPEN")),-(-('સત્રાંત પરિણામ પત્રક '!B8:B79="GIRL")),-(-('સત્રાંત પરિણામ પત્રક '!V8:V79="E"))) -> 0 | R30: =ROUND(Q30*100/'સત્રાંત પરિણામ પત્રક '!D84,0) -> #DIV/0! | S30: =O30+Q30 -> 0 | T30: =ROUND(S30*100/'સત્રાંત પરિણામ પત્રક '!F84,0) -> #DIV/0! | U30: =SUMPRODUCT(-(-('સત્રાંત પરિણામ પત્રક '!A8:A79="OPEN")),-(-('સત્રાંત પરિણામ પત્રક '!B8:B79="BOY")),-(-('સત્રાંત પરિણામ પત્રક '!AA8:AA79="E"))) -> 0 | V30: =ROUND(U30*100/'સત્રાંત પરિણામ પત્રક '!B84,0) -> #DIV/0! | W30: =SUMPRODUCT(-(-('સત્રાંત પરિણામ પત્રક '!A8:A79="OPEN")),-(-('સત્રાંત પરિણામ પત્રક '!B8:B79="GIRL")),-(-('સત્રાંત પરિણામ પત્રક '!AA8:AA79="E"))) -> 0 | X30: =ROUND(W30*100/'સત્રાંત પરિણામ પત્રક '!D84,0) -> #DIV/0! | Y30: =U30+W30 -> 0 | Z30: =ROUND(Y30*100/'સત્રાંત પરિણામ પત્રક '!F84,0) -> #DIV/0! | AA30: =SUMPRODUCT(-(-('સત્રાંત પરિણામ પત્રક '!A8:A79="OPEN")),-(-('સત્રાંત પરિણામ પત્રક '!B8:B79="BOY")),-(-('સત્રાંત પરિણામ પત્રક '!AF8:AF79="E"))) -> 0 | AB30: =ROUND(AA30*100/'સત્રાંત પરિણામ પત્રક '!B84,0) -> #DIV/0! | AC30: =SUMPRODUCT(-(-('સત્રાંત પરિણામ પત્રક '!A8:A79="OPEN")),-(-('સત્રાંત પરિણામ પત્રક '!B8:B79="GIRL")),-(-('સત્રાંત પરિણામ પત્રક '!AF8:AF79="E"))) -> 0 | AD30: =ROUND(AC30*100/'સત્રાંત પરિણામ પત્રક '!D84,0) -> #DIV/0! | AE30: =AA30+AC30 -> 0 | AF30: =ROUND(AE30*100/'સત્રાંત પરિણામ પત્રક '!F84,0) -> #DIV/0! | AG30: =SUMPRODUCT(-(-('સત્રાંત પરિણામ પત્રક '!A8:A79="OPEN")),-(-('સત્રાંત પરિણામ પત્રક '!B8:B79="BOY")),-(-('સત્રાંત પરિણામ પત્રક '!AL8:AL79="E"))) -> 0 | AH30: =ROUND(AG30*100/'સત્રાંત પરિણામ પત્રક '!B84,0) -> #DIV/0! | AI30: =SUMPRODUCT(-(-('સત્રાંત પરિણામ પત્રક '!A8:A79="OPEN")),-(-('સત્રાંત પરિણામ પત્રક '!B8:B79="GIRL")),-(-('સત્રાંત પરિણામ પત્રક '!AL8:AL79="E"))) -> 0 | AJ30: =ROUND(AI30*100/'સત્રાંત પરિણામ પત્રક '!D84,0) -> #DIV/0! | AK30: =AG30+AI30 -> 0 | AL30: =ROUND(AK30*100/'સત્રાંત પરિણામ પત્રક '!F84,0) -> #DIV/0! | AM30: =SUMPRODUCT(-(-('સત્રાંત પરિણામ પત્રક '!A8:A79="OPEN")),-(-('સત્રાંત પરિણામ પત્રક '!B8:B79="BOY")),-(-('સત્રાંત પરિણામ પત્રક '!AQ8:AQ79="E"))) -> 0 | AN30: =ROUND(AM30*100/'સત્રાંત પરિણામ પત્રક '!B84,0) -> #DIV/0! | AO30: =SUMPRODUCT(-(-('સત્રાંત પરિણામ પત્રક '!A8:A79="OPEN")),-(-('સત્રાંત પરિણામ પત્રક '!B8:B79="GIRL")),-(-('સત્રાંત પરિણામ પત્રક '!AQ8:AQ79="E"))) -> 0 | AP30: =ROUND(AO30*100/'સત્રાંત પરિણામ પત્રક '!D84,0) -> #DIV/0! | AQ30: =AM30+AO30 -> 0 | AR30: =ROUND(AQ30*100/'સત્રાંત પરિણામ પત્રક '!F84,0) -> #DIV/0! | AS30: =SUMPRODUCT(-(-('સત્રાંત પરિણામ પત્રક '!A8:A79="OPEN")),-(-('સત્રાંત પરિણામ પત્રક '!B8:B79="BOY")),-(-('સત્રાંત પરિણામ પત્રક '!AV8:AV79="E"))) -> 0 | AT30: =ROUND(AS30*100/'સત્રાંત પરિણામ પત્રક '!B84,0) -> #DIV/0! | AU30: =SUMPRODUCT(-(-('સત્રાંત પરિણામ પત્રક '!A8:A79="OPEN")),-(-('સત્રાંત પરિણામ પત્રક '!B8:B79="GIRL")),-(-('સત્રાંત પરિણામ પત્રક '!AV8:AV79="E"))) -> 0 | AV30: =ROUND(AU30*100/'સત્રાંત પરિણામ પત્રક '!D84,0) -> #DIV/0! | AW30: =AS30+AU30 -> 0 | AX30: =ROUND(AW30*100/'સત્રાંત પરિણામ પત્રક '!F84,0) -> #DIV/0!
A31: S], | C31: =SUM(C26:C30) -> 0 | D31: =ROUND(C31*100/'સત્રાંત પરિણામ પત્રક '!B84,0) -> #DIV/0! | E31: =SUM(E26:E30) -> 0 | F31: =ROUND(E31*100/'સત્રાંત પરિણામ પત્રક '!D84,0) -> #DIV/0! | G31: =SUM(G26:G30) -> 0 | H31: =ROUND(G31*100/'સત્રાંત પરિણામ પત્રક '!F84,0) -> #DIV/0! | I31: =SUM(I26:I30) -> 0 | J31: =ROUND(I31*100/'સત્રાંત પરિણામ પત્રક '!B84,0) -> #DIV/0! | K31: =SUM(K26:K30) -> 0 | L31: =ROUND(K31*100/'સત્રાંત પરિણામ પત્રક '!D84,0) -> #DIV/0! | M31: =SUM(M26:M30) -> 0 | N31: =ROUND(M31*100/'સત્રાંત પરિણામ પત્રક '!F84,0) -> #DIV/0! | O31: =SUM(O26:O30) -> 0 | P31: =ROUND(O31*100/'સત્રાંત પરિણામ પત્રક '!B84,0) -> #DIV/0! | Q31: =SUM(Q26:Q30) -> 0 | R31: =ROUND(Q31*100/'સત્રાંત પરિણામ પત્રક '!D84,0) -> #DIV/0! | S31: =SUM(S26:S30) -> 0 | T31: =SUM(T26:T30) -> #DIV/0! | U31: =SUM(U26:U30) -> 0 | V31: =ROUND(U31*100/'સત્રાંત પરિણામ પત્રક '!B84,0) -> #DIV/0! | W31: =SUM(W26:W30) -> 0 | X31: =ROUND(W31*100/'સત્રાંત પરિણામ પત્રક '!D84,0) -> #DIV/0! | Y31: =SUM(Y26:Y30) -> 0 | Z31: =ROUND(Y31*100/'સત્રાંત પરિણામ પત્રક '!F84,0) -> #DIV/0! | AA31: =SUM(AA26:AA30) -> 0 | AB31: =ROUND(AA31*100/'સત્રાંત પરિણામ પત્રક '!B84,0) -> #DIV/0! | AC31: =SUM(AC26:AC30) -> 0 | AD31: =ROUND(AC31*100/'સત્રાંત પરિણામ પત્રક '!D84,0) -> #DIV/0! | AE31: =SUM(AE26:AE30) -> 0 | AF31: =ROUND(AE31*100/'સત્રાંત પરિણામ પત્રક '!F84,0) -> #DIV/0! | AG31: =SUM(AG26:AG30) -> 0 | AH31: =ROUND(AG31*100/'સત્રાંત પરિણામ પત્રક '!B84,0) -> #DIV/0! | AI31: =SUM(AI26:AI30) -> 0 | AJ31: =ROUND(AI31*100/'સત્રાંત પરિણામ પત્રક '!D84,0) -> #DIV/0! | AK31: =SUM(AK26:AK30) -> 0 | AL31: =ROUND(AK31*100/'સત્રાંત પરિણામ પત્રક '!F84,0) -> #DIV/0! | AM31: =SUM(AM26:AM30) -> 0 | AN31: =ROUND(AM31*100/'સત્રાંત પરિણામ પત્રક '!B84,0) -> #DIV/0! | AO31: =SUM(AO26:AO30) -> 0 | AP31: =ROUND(AO31*100/'સત્રાંત પરિણામ પત્રક '!D84,0) -> #DIV/0! | AQ31: =SUM(AQ26:AQ30) -> 0 | AR31: =ROUND(AQ31*100/'સત્રાંત પરિણામ પત્રક '!F84,0) -> #DIV/0! | AS31: =SUM(AS26:AS30) -> 0 | AT31: =ROUND(AS31*100/'સત્રાંત પરિણામ પત્રક '!B84,0) -> #DIV/0! | AU31: =SUM(AU26:AU30) -> 0 | AV31: =ROUND(AU31*100/'સત્રાંત પરિણામ પત્રક '!D84,0) -> #DIV/0! | AW31: =SUM(AW26:AW30) -> 0 | AX31: =ROUND(AW31*100/'સત્રાંત પરિણામ પત્રક '!F84,0) -> #DIV/0!
A33: S] , | B33: A | C33: =C8+C14+C20+C26 -> 0 | D33: =ROUND(C33*100/'સત્રાંત પરિણામ પત્રક '!B85,0) -> #DIV/0! | E33: =E8+E14+E20+E26 -> 0 | F33: =ROUND(E33*100/'સત્રાંત પરિણામ પત્રક '!D85,0) -> #DIV/0! | G33: =G8+G14+G20+G26 -> 0 | H33: =ROUND(G33*100/'સત્રાંત પરિણામ પત્રક '!F85,0) -> #DIV/0! | I33: =I8+I14+I20+I26 -> 0 | J33: =ROUND(I33*100/'સત્રાંત પરિણામ પત્રક '!B85,0) -> #DIV/0! | K33: =K8+K14+K20+K26 -> 0 | L33: =ROUND(K33*100/'સત્રાંત પરિણામ પત્રક '!D85,0) -> #DIV/0! | M33: =M8+M14+M20+M26 -> 0 | N33: =ROUND(M33*100/'સત્રાંત પરિણામ પત્રક '!F85,0) -> #DIV/0! | O33: =O8+O14+O20+O26 -> 0 | P33: =ROUND(O33*100/'સત્રાંત પરિણામ પત્રક '!B85,0) -> #DIV/0! | Q33: =Q8+Q14+Q20+Q26 -> 0 | R33: =ROUND(Q33*100/'સત્રાંત પરિણામ પત્રક '!D85,0) -> #DIV/0! | S33: =S8+S14+S20+S26 -> 0 | T33: =ROUND(S33*100/'સત્રાંત પરિણામ પત્રક '!F85,0) -> #DIV/0! | U33: =U8+U14+U20+U26 -> 0 | V33: =ROUND(U33*100/'સત્રાંત પરિણામ પત્રક '!B85,0) -> #DIV/0! | W33: =W8+W14+W20+W26 -> 0 | X33: =ROUND(W33*100/'સત્રાંત પરિણામ પત્રક '!D85,0) -> #DIV/0! | Y33: =Y8+Y14+Y20+Y26 -> 0 | Z33: =ROUND(Y33*100/'સત્રાંત પરિણામ પત્રક '!F85,0) -> #DIV/0! | AA33: =AA8+AA14+AA20+AA26 -> 0 | AB33: =ROUND(AA33*100/'સત્રાંત પરિણામ પત્રક '!B85,0) -> #DIV/0! | AC33: =AC8+AC14+AC20+AC26 -> 0 | AD33: =ROUND(AC33*100/'સત્રાંત પરિણામ પત્રક '!D85,0) -> #DIV/0! | AE33: =AE8+AE14+AE20+AE26 -> 0 | AF33: =ROUND(AE33*100/'સત્રાંત પરિણામ પત્રક '!F85,0) -> #DIV/0! | AG33: =AG8+AG14+AG20+AG26 -> 0 | AH33: =ROUND(AG33*100/'સત્રાંત પરિણામ પત્રક '!B85,0) -> #DIV/0! | AI33: =AI8+AI14+AI20+AI26 -> 0 | AJ33: =ROUND(AI33*100/'સત્રાંત પરિણામ પત્રક '!D85,0) -> #DIV/0! | AK33: =AK8+AK14+AK20+AK26 -> 0 | AL33: =ROUND(AK33*100/'સત્રાંત પરિણામ પત્રક '!F85,0) -> #DIV/0! | AM33: =AM8+AM14+AM20+AM26 -> 0 | AN33: =ROUND(AM33*100/'સત્રાંત પરિણામ પત્રક '!B85,0) -> #DIV/0! | AO33: =AO8+AO14+AO20+AO26 -> 0 | AP33: =ROUND(AO33*100/'સત્રાંત પરિણામ પત્રક '!D85,0) -> #DIV/0! | AQ33: =AQ8+AQ14+AQ20+AQ26 -> 0 | AR33: =ROUND(AQ33*100/'સત્રાંત પરિણામ પત્રક '!F85,0) -> #DIV/0! | AS33: =AS8+AS14+AS20+AS26 -> 0 | AT33: =ROUND(AS33*100/'સત્રાંત પરિણામ પત્રક '!B85,0) -> #DIV/0! | AU33: =AU8+AU14+AU20+AU26 -> 0 | AV33: =ROUND(AU33*100/'સત્રાંત પરિણામ પત્રક '!D85,0) -> #DIV/0! | AW33: =AW8+AW14+AW20+AW26 -> 0 | AX33: =ROUND(AW33*100/'સત્રાંત પરિણામ પત્રક '!F85,0) -> #DIV/0!
B34: B | C34: =C9+C15+C21+C27 -> 0 | D34: =ROUND(C34*100/'સત્રાંત પરિણામ પત્રક '!B85,0) -> #DIV/0! | E34: =E9+E15+E21+E27 -> 0 | F34: =ROUND(E34*100/'સત્રાંત પરિણામ પત્રક '!D85,0) -> #DIV/0! | G34: =C34+E34 -> 0 | H34: =ROUND(G34*100/'સત્રાંત પરિણામ પત્રક '!F85,0) -> #DIV/0! | I34: =I9+I15+I21+I27 -> 0 | J34: =ROUND(I34*100/'સત્રાંત પરિણામ પત્રક '!B85,0) -> #DIV/0! | K34: =K9+K15+K21+K27 -> 0 | L34: =ROUND(K34*100/'સત્રાંત પરિણામ પત્રક '!D85,0) -> #DIV/0! | M34: =I34+K34 -> 0 | N34: =ROUND(M34*100/'સત્રાંત પરિણામ પત્રક '!F85,0) -> #DIV/0! | O34: =O9+O15+O21+O27 -> 0 | P34: =ROUND(O34*100/'સત્રાંત પરિણામ પત્રક '!B85,0) -> #DIV/0! | Q34: =Q9+Q15+Q21+Q27 -> 0 | R34: =ROUND(Q34*100/'સત્રાંત પરિણામ પત્રક '!D85,0) -> #DIV/0! | S34: =O34+Q34 -> 0 | T34: =ROUND(S34*100/'સત્રાંત પરિણામ પત્રક '!F85,0) -> #DIV/0! | U34: =U9+U15+U21+U27 -> 0 | V34: =ROUND(U34*100/'સત્રાંત પરિણામ પત્રક '!B85,0) -> #DIV/0! | W34: =W9+W15+W21+W27 -> 0 | X34: =ROUND(W34*100/'સત્રાંત પરિણામ પત્રક '!D85,0) -> #DIV/0! | Y34: =U34+W34 -> 0 | Z34: =ROUND(Y34*100/'સત્રાંત પરિણામ પત્રક '!F85,0) -> #DIV/0! | AA34: =AA9+AA15+AA21+AA27 -> 0 | AB34: =ROUND(AA34*100/'સત્રાંત પરિણામ પત્રક '!B85,0) -> #DIV/0! | AC34: =AC9+AC15+AC21+AC27 -> 0 | AD34: =ROUND(AC34*100/'સત્રાંત પરિણામ પત્રક '!D85,0) -> #DIV/0! | AE34: =AA34+AC34 -> 0 | AF34: =ROUND(AE34*100/'સત્રાંત પરિણામ પત્રક '!F85,0) -> #DIV/0! | AG34: =AG9+AG15+AG21+AG27 -> 0 | AH34: =ROUND(AG34*100/'સત્રાંત પરિણામ પત્રક '!B85,0) -> #DIV/0! | AI34: =AI9+AI15+AI21+AI27 -> 0 | AJ34: =ROUND(AI34*100/'સત્રાંત પરિણામ પત્રક '!D85,0) -> #DIV/0! | AK34: =AG34+AI34 -> 0 | AL34: =ROUND(AK34*100/'સત્રાંત પરિણામ પત્રક '!F85,0) -> #DIV/0! | AM34: =AM9+AM15+AM21+AM27 -> 0 | AN34: =ROUND(AM34*100/'સત્રાંત પરિણામ પત્રક '!B85,0) -> #DIV/0! | AO34: =AO9+AO15+AO21+AO27 -> 0 | AP34: =ROUND(AO34*100/'સત્રાંત પરિણામ પત્રક '!D85,0) -> #DIV/0! | AQ34: =AM34+AO34 -> 0 | AR34: =ROUND(AQ34*100/'સત્રાંત પરિણામ પત્રક '!F85,0) -> #DIV/0! | AS34: =AS9+AS15+AS21+AS27 -> 0 | AT34: =ROUND(AS34*100/'સત્રાંત પરિણામ પત્રક '!B85,0) -> #DIV/0! | AU34: =AU9+AU15+AU21+AU27 -> 0 | AV34: =ROUND(AU34*100/'સત્રાંત પરિણામ પત્રક '!D85,0) -> #DIV/0! | AW34: =AS34+AU34 -> 0 | AX34: =ROUND(AW34*100/'સત્રાંત પરિણામ પત્રક '!F85,0) -> #DIV/0!
B35: C | C35: =C10+C16+C22+C28 -> 0 | D35: =ROUND(C35*100/'સત્રાંત પરિણામ પત્રક '!B85,0) -> #DIV/0! | E35: =E10+E16+E22+E28 -> 0 | F35: =ROUND(E35*100/'સત્રાંત પરિણામ પત્રક '!D85,0) -> #DIV/0! | G35: =C35+E35 -> 0 | H35: =ROUND(G35*100/'સત્રાંત પરિણામ પત્રક '!F85,0) -> #DIV/0! | I35: =I10+I16+I22+I28 -> 0 | J35: =ROUND(I35*100/'સત્રાંત પરિણામ પત્રક '!B85,0) -> #DIV/0! | K35: =K10+K16+K22+K28 -> 0 | L35: =ROUND(K35*100/'સત્રાંત પરિણામ પત્રક '!D85,0) -> #DIV/0! | M35: =I35+K35 -> 0 | N35: =ROUND(M35*100/'સત્રાંત પરિણામ પત્રક '!F85,0) -> #DIV/0! | O35: =O10+O16+O22+O28 -> 0 | P35: =ROUND(O35*100/'સત્રાંત પરિણામ પત્રક '!B85,0) -> #DIV/0! | Q35: =Q10+Q16+Q22+Q28 -> 0 | R35: =ROUND(Q35*100/'સત્રાંત પરિણામ પત્રક '!D85,0) -> #DIV/0! | S35: =O35+Q35 -> 0 | T35: =ROUND(S35*100/'સત્રાંત પરિણામ પત્રક '!F85,0) -> #DIV/0! | U35: =U10+U16+U22+U28 -> 0 | V35: =ROUND(U35*100/'સત્રાંત પરિણામ પત્રક '!B85,0) -> #DIV/0! | W35: =W10+W16+W22+W28 -> 0 | X35: =ROUND(W35*100/'સત્રાંત પરિણામ પત્રક '!D85,0) -> #DIV/0! | Y35: =U35+W35 -> 0 | Z35: =ROUND(Y35*100/'સત્રાંત પરિણામ પત્રક '!F85,0) -> #DIV/0! | AA35: =AA10+AA16+AA22+AA28 -> 0 | AB35: =ROUND(AA35*100/'સત્રાંત પરિણામ પત્રક '!B85,0) -> #DIV/0! | AC35: =AC10+AC16+AC22+AC28 -> 0 | AD35: =ROUND(AC35*100/'સત્રાંત પરિણામ પત્રક '!D85,0) -> #DIV/0! | AE35: =AA35+AC35 -> 0 | AF35: =ROUND(AE35*100/'સત્રાંત પરિણામ પત્રક '!F85,0) -> #DIV/0! | AG35: =AG10+AG16+AG22+AG28 -> 0 | AH35: =ROUND(AG35*100/'સત્રાંત પરિણામ પત્રક '!B85,0) -> #DIV/0! | AI35: =AI10+AI16+AI22+AI28 -> 0 | AJ35: =ROUND(AI35*100/'સત્રાંત પરિણામ પત્રક '!D85,0) -> #DIV/0! | AK35: =AG35+AI35 -> 0 | AL35: =ROUND(AK35*100/'સત્રાંત પરિણામ પત્રક '!F85,0) -> #DIV/0! | AM35: =AM10+AM16+AM22+AM28 -> 0 | AN35: =ROUND(AM35*100/'સત્રાંત પરિણામ પત્રક '!B85,0) -> #DIV/0! | AO35: =AO10+AO16+AO22+AO28 -> 0 | AP35: =ROUND(AO35*100/'સત્રાંત પરિણામ પત્રક '!D85,0) -> #DIV/0! | AQ35: =AM35+AO35 -> 0 | AR35: =ROUND(AQ35*100/'સત્રાંત પરિણામ પત્રક '!F85,0) -> #DIV/0! | AS35: =AS10+AS16+AS22+AS28 -> 0 | AT35: =ROUND(AS35*100/'સત્રાંત પરિણામ પત્રક '!B85,0) -> #DIV/0! | AU35: =AU10+AU16+AU22+AU28 -> 0 | AV35: =ROUND(AU35*100/'સત્રાંત પરિણામ પત્રક '!D85,0) -> #DIV/0! | AW35: =AS35+AU35 -> 0 | AX35: =ROUND(AW35*100/'સત્રાંત પરિણામ પત્રક '!F85,0) -> #DIV/0!
B36: D | C36: =C11+C17+C23+C29 -> 0 | D36: =ROUND(C36*100/'સત્રાંત પરિણામ પત્રક '!B85,0) -> #DIV/0! | E36: =E11+E17+E23+E29 -> 0 | F36: =ROUND(E36*100/'સત્રાંત પરિણામ પત્રક '!D85,0) -> #DIV/0! | G36: =C36+E36 -> 0 | H36: =ROUND(G36*100/'સત્રાંત પરિણામ પત્રક '!F85,0) -> #DIV/0! | I36: =I11+I17+I23+I29 -> 0 | J36: =ROUND(I36*100/'સત્રાંત પરિણામ પત્રક '!B85,0) -> #DIV/0! | K36: =K11+K17+K23+K29 -> 0 | L36: =ROUND(K36*100/'સત્રાંત પરિણામ પત્રક '!D85,0) -> #DIV/0! | M36: =I36+K36 -> 0 | N36: =ROUND(M36*100/'સત્રાંત પરિણામ પત્રક '!F85,0) -> #DIV/0! | O36: =O11+O17+O23+O29 -> 0 | P36: =ROUND(O36*100/'સત્રાંત પરિણામ પત્રક '!B85,0) -> #DIV/0! | Q36: =Q11+Q17+Q23+Q29 -> 0 | R36: =ROUND(Q36*100/'સત્રાંત પરિણામ પત્રક '!D85,0) -> #DIV/0! | S36: =O36+Q36 -> 0 | T36: =ROUND(S36*100/'સત્રાંત પરિણામ પત્રક '!F85,0) -> #DIV/0! | U36: =U11+U17+U23+U29 -> 0 | V36: =ROUND(U36*100/'સત્રાંત પરિણામ પત્રક '!B85,0) -> #DIV/0! | W36: =W11+W17+W23+W29 -> 0 | X36: =ROUND(W36*100/'સત્રાંત પરિણામ પત્રક '!D85,0) -> #DIV/0! | Y36: =U36+W36 -> 0 | Z36: =ROUND(Y36*100/'સત્રાંત પરિણામ પત્રક '!F85,0) -> #DIV/0! | AA36: =AA11+AA17+AA23+AA29 -> 0 | AB36: =ROUND(AA36*100/'સત્રાંત પરિણામ પત્રક '!B85,0) -> #DIV/0! | AC36: =AC11+AC17+AC23+AC29 -> 0 | AD36: =ROUND(AC36*100/'સત્રાંત પરિણામ પત્રક '!D85,0) -> #DIV/0! | AE36: =AA36+AC36 -> 0 | AF36: =ROUND(AE36*100/'સત્રાંત પરિણામ પત્રક '!F85,0) -> #DIV/0! | AG36: =AG11+AG17+AG23+AG29 -> 0 | AH36: =ROUND(AG36*100/'સત્રાંત પરિણામ પત્રક '!B85,0) -> #DIV/0! | AI36: =AI11+AI17+AI23+AI29 -> 0 | AJ36: =ROUND(AI36*100/'સત્રાંત પરિણામ પત્રક '!D85,0) -> #DIV/0! | AK36: =AG36+AI36 -> 0 | AL36: =ROUND(AK36*100/'સત્રાંત પરિણામ પત્રક '!F85,0) -> #DIV/0! | AM36: =AM11+AM17+AM23+AM29 -> 0 | AN36: =ROUND(AM36*100/'સત્રાંત પરિણામ પત્રક '!B85,0) -> #DIV/0! | AO36: =AO11+AO17+AO23+AO29 -> 0 | AP36: =ROUND(AO36*100/'સત્રાંત પરિણામ પત્રક '!D85,0) -> #DIV/0! | AQ36: =AM36+AO36 -> 0 | AR36: =ROUND(AQ36*100/'સત્રાંત પરિણામ પત્રક '!F85,0) -> #DIV/0! | AS36: =AS11+AS17+AS23+AS29 -> 0 | AT36: =ROUND(AS36*100/'સત્રાંત પરિણામ પત્રક '!B85,0) -> #DIV/0! | AU36: =AU11+AU17+AU23+AU29 -> 0 | AV36: =ROUND(AU36*100/'સત્રાંત પરિણામ પત્રક '!D85,0) -> #DIV/0! | AW36: =AS36+AU36 -> 0 | AX36: =ROUND(AW36*100/'સત્રાંત પરિણામ પત્રક '!F85,0) -> #DIV/0!
B37: E | C37: =C12+C18+C24+C30 -> 0 | D37: =ROUND(C37*100/'સત્રાંત પરિણામ પત્રક '!B85,0) -> #DIV/0! | E37: =E12+E18+E24+E30 -> 0 | F37: =ROUND(E37*100/'સત્રાંત પરિણામ પત્રક '!D85,0) -> #DIV/0! | G37: =C37+E37 -> 0 | H37: =ROUND(G37*100/'સત્રાંત પરિણામ પત્રક '!F85,0) -> #DIV/0! | I37: =I12+I18+I24+I30 -> 0 | J37: =ROUND(I37*100/'સત્રાંત પરિણામ પત્રક '!B85,0) -> #DIV/0! | K37: =K12+K18+K24+K30 -> 0 | L37: =ROUND(K37*100/'સત્રાંત પરિણામ પત્રક '!D85,0) -> #DIV/0! | M37: =I37+K37 -> 0 | N37: =ROUND(M37*100/'સત્રાંત પરિણામ પત્રક '!F85,0) -> #DIV/0! | O37: =O12+O18+O24+O30 -> 0 | P37: =ROUND(O37*100/'સત્રાંત પરિણામ પત્રક '!B85,0) -> #DIV/0! | Q37: =Q12+Q18+Q24+Q30 -> 0 | R37: =ROUND(Q37*100/'સત્રાંત પરિણામ પત્રક '!D85,0) -> #DIV/0! | S37: =O37+Q37 -> 0 | T37: =ROUND(S37*100/'સત્રાંત પરિણામ પત્રક '!F85,0) -> #DIV/0! | U37: =U12+U18+U24+U30 -> 0 | V37: =ROUND(U37*100/'સત્રાંત પરિણામ પત્રક '!B85,0) -> #DIV/0! | W37: =W12+W18+W24+W30 -> 0 | X37: =ROUND(W37*100/'સત્રાંત પરિણામ પત્રક '!D85,0) -> #DIV/0! | Y37: =U37+W37 -> 0 | Z37: =ROUND(Y37*100/'સત્રાંત પરિણામ પત્રક '!F85,0) -> #DIV/0! | AA37: =AA12+AA18+AA24+AA30 -> 0 | AB37: =ROUND(AA37*100/'સત્રાંત પરિણામ પત્રક '!B85,0) -> #DIV/0! | AC37: =AC12+AC18+AC24+AC30 -> 0 | AD37: =ROUND(AC37*100/'સત્રાંત પરિણામ પત્રક '!D85,0) -> #DIV/0! | AE37: =AA37+AC37 -> 0 | AF37: =ROUND(AE37*100/'સત્રાંત પરિણામ પત્રક '!F85,0) -> #DIV/0! | AG37: =AG12+AG18+AG24+AG30 -> 0 | AH37: =ROUND(AG37*100/'સત્રાંત પરિણામ પત્રક '!B85,0) -> #DIV/0! | AI37: =AI12+AI18+AI24+AI30 -> 0 | AJ37: =ROUND(AI37*100/'સત્રાંત પરિણામ પત્રક '!D85,0) -> #DIV/0! | AK37: =AG37+AI37 -> 0 | AL37: =ROUND(AK37*100/'સત્રાંત પરિણામ પત્રક '!F85,0) -> #DIV/0! | AM37: =AM12+AM18+AM24+AM30 -> 0 | AN37: =ROUND(AM37*100/'સત્રાંત પરિણામ પત્રક '!B85,0) -> #DIV/0! | AO37: =AO12+AO18+AO24+AO30 -> 0 | AP37: =ROUND(AO37*100/'સત્રાંત પરિણામ પત્રક '!D85,0) -> #DIV/0! | AQ37: =AM37+AO37 -> 0 | AR37: =ROUND(AQ37*100/'સત્રાંત પરિણામ પત્રક '!F85,0) -> #DIV/0! | AS37: =AS12+AS18+AS24+AS30 -> 0 | AT37: =ROUND(AS37*100/'સત્રાંત પરિણામ પત્રક '!B85,0) -> #DIV/0! | AU37: =AU12+AU18+AU24+AU30 -> 0 | AV37: =ROUND(AU37*100/'સત્રાંત પરિણામ પત્રક '!D85,0) -> #DIV/0! | AW37: =AS37+AU37 -> 0 | AX37: =ROUND(AW37*100/'સત્રાંત પરિણામ પત્રક '!F85,0) -> #DIV/0!
A38: S], | C38: =SUM(C33:C37) -> 0 | D38: =ROUND(C38*100/'સત્રાંત પરિણામ પત્રક '!B85,0) -> #DIV/0! | E38: =SUM(E33:E37) -> 0 | F38: =ROUND(E38*100/'સત્રાંત પરિણામ પત્રક '!D85,0) -> #DIV/0! | G38: =SUM(G33:G37) -> 0 | H38: =ROUND(G38*100/'સત્રાંત પરિણામ પત્રક '!F85,0) -> #DIV/0! | I38: =SUM(I33:I37) -> 0 | J38: =ROUND(I38*100/'સત્રાંત પરિણામ પત્રક '!B85,0) -> #DIV/0! | K38: =SUM(K33:K37) -> 0 | L38: =ROUND(K38*100/'સત્રાંત પરિણામ પત્રક '!D85,0) -> #DIV/0! | M38: =SUM(M33:M37) -> 0 | N38: =ROUND(M38*100/'સત્રાંત પરિણામ પત્રક '!F85,0) -> #DIV/0! | O38: =SUM(O33:O37) -> 0 | P38: =ROUND(O38*100/'સત્રાંત પરિણામ પત્રક '!B85,0) -> #DIV/0! | Q38: =SUM(Q33:Q37) -> 0 | R38: =ROUND(Q38*100/'સત્રાંત પરિણામ પત્રક '!D85,0) -> #DIV/0! | S38: =SUM(S33:S37) -> 0 | T38: =ROUND(S38*100/'સત્રાંત પરિણામ પત્રક '!F85,0) -> #DIV/0! | U38: =SUM(U33:U37) -> 0 | V38: =ROUND(U38*100/'સત્રાંત પરિણામ પત્રક '!B85,0) -> #DIV/0! | W38: =SUM(W33:W37) -> 0 | X38: =ROUND(W38*100/'સત્રાંત પરિણામ પત્રક '!D85,0) -> #DIV/0! | Y38: =SUM(Y33:Y37) -> 0 | Z38: =ROUND(Y38*100/'સત્રાંત પરિણામ પત્રક '!F85,0) -> #DIV/0! | AA38: =SUM(AA33:AA37) -> 0 | AB38: =ROUND(AA38*100/'સત્રાંત પરિણામ પત્રક '!B85,0) -> #DIV/0! | AC38: =SUM(AC33:AC37) -> 0 | AD38: =ROUND(AC38*100/'સત્રાંત પરિણામ પત્રક '!D85,0) -> #DIV/0! | AE38: =SUM(AE33:AE37) -> 0 | AF38: =ROUND(AE38*100/'સત્રાંત પરિણામ પત્રક '!F85,0) -> #DIV/0! | AG38: =SUM(AG33:AG37) -> 0 | AH38: =ROUND(AG38*100/'સત્રાંત પરિણામ પત્રક '!B85,0) -> #DIV/0! | AI38: =SUM(AI33:AI37) -> 0 | AJ38: =ROUND(AI38*100/'સત્રાંત પરિણામ પત્રક '!D85,0) -> #DIV/0! | AK38: =SUM(AK33:AK37) -> 0 | AL38: =ROUND(AK38*100/'સત્રાંત પરિણામ પત્રક '!F85,0) -> #DIV/0! | AM38: =SUM(AM33:AM37) -> 0 | AN38: =ROUND(AM38*100/'સત્રાંત પરિણામ પત્રક '!B85,0) -> #DIV/0! | AO38: =SUM(AO33:AO37) -> 0 | AP38: =ROUND(AO38*100/'સત્રાંત પરિણામ પત્રક '!D85,0) -> #DIV/0! | AQ38: =SUM(AQ33:AQ37) -> 0 | AR38: =ROUND(AQ38*100/'સત્રાંત પરિણામ પત્રક '!F85,0) -> #DIV/0! | AS38: =SUM(AS33:AS37) -> 0 | AT38: =ROUND(AS38*100/'સત્રાંત પરિણામ પત્રક '!B85,0) -> #DIV/0! | AU38: =SUM(AU33:AU37) -> 0 | AV38: =ROUND(AU38*100/'સત્રાંત પરિણામ પત્રક '!D85,0) -> #DIV/0! | AW38: =SUM(AW33:AW37) -> 0 | AX38: =ROUND(AW38*100/'સત્રાંત પરિણામ પત્રક '!F85,0) -> #DIV/0!

Sheet વાર્ષિક ટાઇટલ પેઇઝ  
C8: ;G[o | K8: =IF('DATA ENTRY'!$E14="","",'DATA ENTRY'!E14) | L8: =IF('DATA ENTRY'!$N3="","",'DATA ENTRY'!#REF!) | M8: =IF('DATA ENTRY'!$N3="","",'DATA ENTRY'!#REF!) | N8: =IF('DATA ENTRY'!$N3="","",'DATA ENTRY'!Z3) | O8: =IF('DATA ENTRY'!$N3="","",'DATA ENTRY'!AA3) | P8: =IF('DATA ENTRY'!$N3="","",'DATA ENTRY'!AB3) | Q8: =IF('DATA ENTRY'!$N3="","",'DATA ENTRY'!AC3) | R8: =IF('DATA ENTRY'!$N3="","",'DATA ENTRY'!AD3) | S8: =IF('DATA ENTRY'!$N3="","",'DATA ENTRY'!AE3) | T8: =IF('DATA ENTRY'!$N3="","",'DATA ENTRY'!AF3) | U8: =IF('DATA ENTRY'!$N3="","",'DATA ENTRY'!AG3) | V8: =IF('DATA ENTRY'!$N3="","",'DATA ENTRY'!AH3)
K9: =IF('DATA ENTRY'!$N4="","",'DATA ENTRY'!#REF!) | L9: =IF('DATA ENTRY'!$N4="","",'DATA ENTRY'!#REF!) | M9: =IF('DATA ENTRY'!$N4="","",'DATA ENTRY'!#REF!) | N9: =IF('DATA ENTRY'!$N4="","",'DATA ENTRY'!Z4) | O9: =IF('DATA ENTRY'!$N4="","",'DATA ENTRY'!AA4) | P9: =IF('DATA ENTRY'!$N4="","",'DATA ENTRY'!AB4) | Q9: =IF('DATA ENTRY'!$N4="","",'DATA ENTRY'!AC4) | R9: =IF('DATA ENTRY'!$N4="","",'DATA ENTRY'!AD4) | S9: =IF('DATA ENTRY'!$N4="","",'DATA ENTRY'!AE4) | T9: =IF('DATA ENTRY'!$N4="","",'DATA ENTRY'!AF4) | U9: =IF('DATA ENTRY'!$N4="","",'DATA ENTRY'!AG4) | V9: =IF('DATA ENTRY'!$N4="","",'DATA ENTRY'!AH4)
K10: =IF('DATA ENTRY'!$N5="","",'DATA ENTRY'!#REF!) | L10: =IF('DATA ENTRY'!$N5="","",'DATA ENTRY'!#REF!) | M10: =IF('DATA ENTRY'!$N5="","",'DATA ENTRY'!#REF!) | N10: =IF('DATA ENTRY'!$N5="","",'DATA ENTRY'!Z5) | O10: =IF('DATA ENTRY'!$N5="","",'DATA ENTRY'!AA5) | P10: =IF('DATA ENTRY'!$N5="","",'DATA ENTRY'!AB5) | Q10: =IF('DATA ENTRY'!$N5="","",'DATA ENTRY'!AC5) | R10: =IF('DATA ENTRY'!$N5="","",'DATA ENTRY'!AD5) | S10: =IF('DATA ENTRY'!$N5="","",'DATA ENTRY'!AE5) | T10: =IF('DATA ENTRY'!$N5="","",'DATA ENTRY'!AF5) | U10: =IF('DATA ENTRY'!$N5="","",'DATA ENTRY'!AG5) | V10: =IF('DATA ENTRY'!$N5="","",'DATA ENTRY'!AH5)
C11: WMZ6o | M11: =IF('DATA ENTRY'!$E8="","",'DATA ENTRY'!E8) -> 6 | N11: =IF('DATA ENTRY'!$N6="","",'DATA ENTRY'!Z6) | O11: =IF('DATA ENTRY'!$E9="","",'DATA ENTRY'!E9) -> - | P11: =IF('DATA ENTRY'!$N6="","",'DATA ENTRY'!AB6)
M12: =IF('DATA ENTRY'!$N7="","",'DATA ENTRY'!#REF!) | N12: =IF('DATA ENTRY'!$N7="","",'DATA ENTRY'!Z7) | O12: =IF('DATA ENTRY'!$N7="","",'DATA ENTRY'!AA7) | P12: =IF('DATA ENTRY'!$N7="","",'DATA ENTRY'!AB7)
M13: =IF('DATA ENTRY'!$N8="","",'DATA ENTRY'!#REF!) | N13: =IF('DATA ENTRY'!$N8="","",'DATA ENTRY'!Z8) | O13: =IF('DATA ENTRY'!$N8="","",'DATA ENTRY'!AA8) | P13: =IF('DATA ENTRY'!$N8="","",'DATA ENTRY'!AB8)
C16: XF/FG]\GFDo | F16: =IF('DATA ENTRY'!$E4="","",'DATA ENTRY'!E4) -> T,MN | G16: =IF('DATA ENTRY'!$N11="","",'DATA ENTRY'!T11) | H16: =IF('DATA ENTRY'!$N11="","",'DATA ENTRY'!#REF!) | I16: =IF('DATA ENTRY'!$N11="","",'DATA ENTRY'!U11) | J16: =IF('DATA ENTRY'!$N11="","",'DATA ENTRY'!V11) | K16: =IF('DATA ENTRY'!$N11="","",'DATA ENTRY'!#REF!) | L16: =IF('DATA ENTRY'!$N11="","",'DATA ENTRY'!#REF!) | M16: =IF('DATA ENTRY'!$N11="","",'DATA ENTRY'!#REF!) | N16: =IF('DATA ENTRY'!$N11="","",'DATA ENTRY'!Z11) | O16: =IF('DATA ENTRY'!$N11="","",'DATA ENTRY'!AA11) | P16: =IF('DATA ENTRY'!$N11="","",'DATA ENTRY'!AB11) | Q16: =IF('DATA ENTRY'!$N11="","",'DATA ENTRY'!AC11) | R16: =IF('DATA ENTRY'!$N11="","",'DATA ENTRY'!AD11) | S16: =IF('DATA ENTRY'!$N11="","",'DATA ENTRY'!AE11) | T16: =IF('DATA ENTRY'!$N11="","",'DATA ENTRY'!AF11) | U16: =IF('DATA ENTRY'!$N11="","",'DATA ENTRY'!AG11) | V16: =IF('DATA ENTRY'!$N11="","",'DATA ENTRY'!AH11)
C17: UFDo | D17: =IF('DATA ENTRY'!$E5="","",'DATA ENTRY'!E5) -> T,MNUFD | E17: =IF('DATA ENTRY'!$N12="","",'DATA ENTRY'!R12) | F17: =IF('DATA ENTRY'!$N12="","",'DATA ENTRY'!S12) | G17: =IF('DATA ENTRY'!$N12="","",'DATA ENTRY'!T12) | H17: =IF('DATA ENTRY'!$N12="","",'DATA ENTRY'!#REF!) | I17: =IF('DATA ENTRY'!$N12="","",'DATA ENTRY'!U12) | J17: =IF('DATA ENTRY'!$N12="","",'DATA ENTRY'!V12) | K17: =IF('DATA ENTRY'!$N12="","",'DATA ENTRY'!#REF!) | L17: TF,]SMo | O17: =IF('DATA ENTRY'!$E6="","",'DATA ENTRY'!E6) -> T,MN | P17: =IF('DATA ENTRY'!$N12="","",'DATA ENTRY'!AB12) | Q17: =IF('DATA ENTRY'!$N12="","",'DATA ENTRY'!AC12) | R17: =IF('DATA ENTRY'!$N12="","",'DATA ENTRY'!AD12) | S17: =IF('DATA ENTRY'!$N12="","",'DATA ENTRY'!AE12) | T17: =IF('DATA ENTRY'!$N12="","",'DATA ENTRY'!AF12) | U17: =IF('DATA ENTRY'!$N12="","",'DATA ENTRY'!AG12) | V17: =IF('DATA ENTRY'!$N12="","",'DATA ENTRY'!AH12)
C18: lH<,Mo | D18: =IF('DATA ENTRY'!$E7="","",'DATA ENTRY'!E7) -> ;FAZSF\9F | E18: =IF('DATA ENTRY'!$N13="","",'DATA ENTRY'!R13) | F18: =IF('DATA ENTRY'!$N13="","",'DATA ENTRY'!S13) | G18: =IF('DATA ENTRY'!$N13="","",'DATA ENTRY'!T13) | H18: =IF('DATA ENTRY'!$N13="","",'DATA ENTRY'!#REF!) | I18: =IF('DATA ENTRY'!$N13="","",'DATA ENTRY'!U13) | J18: =IF('DATA ENTRY'!$N13="","",'DATA ENTRY'!V13) | K18: =IF('DATA ENTRY'!$N13="","",'DATA ENTRY'!#REF!) | L18: 5lZ6FD TFZLBo | R18: =IF('DATA ENTRY'!$H13="","",'DATA ENTRY'!H13) -> #NUM! | S18: =IF('DATA ENTRY'!$N13="","",'DATA ENTRY'!AE13) | T18: =IF('DATA ENTRY'!$N13="","",'DATA ENTRY'!AF13) | U18: =IF('DATA ENTRY'!$N13="","",'DATA ENTRY'!AG13) | V18: =IF('DATA ENTRY'!$N13="","",'DATA ENTRY'!AH13)
C19: JU"lX1FSG]\GFDo | G19: =IF('DATA ENTRY'!$E10="","",'DATA ENTRY'!E10) | H19: =IF('DATA ENTRY'!$N14="","",'DATA ENTRY'!#REF!) | I19: =IF('DATA ENTRY'!$N14="","",'DATA ENTRY'!U14) | J19: =IF('DATA ENTRY'!$N14="","",'DATA ENTRY'!V14) | K19: =IF('DATA ENTRY'!$N14="","",'DATA ENTRY'!#REF!) | L19: =IF('DATA ENTRY'!$N14="","",'DATA ENTRY'!#REF!) | M19: =IF('DATA ENTRY'!$N14="","",'DATA ENTRY'!#REF!) | N19: =IF('DATA ENTRY'!$N14="","",'DATA ENTRY'!Z14) | O19: =IF('DATA ENTRY'!$N14="","",'DATA ENTRY'!AA14) | P19: =IF('DATA ENTRY'!$N14="","",'DATA ENTRY'!AB14) | Q19: =IF('DATA ENTRY'!$N14="","",'DATA ENTRY'!AC14) | R19: =IF('DATA ENTRY'!$N14="","",'DATA ENTRY'!AD14) | S19: =IF('DATA ENTRY'!$N14="","",'DATA ENTRY'!AE14) | T19: =IF('DATA ENTRY'!$N14="","",'DATA ENTRY'!AF14) | U19: =IF('DATA ENTRY'!$N14="","",'DATA ENTRY'!AG14) | V19: =IF('DATA ENTRY'!$N14="","",'DATA ENTRY'!AH14)
C20: ;LPVFZP;LP o | G20: =IF('DATA ENTRY'!$E15="","",'DATA ENTRY'!E15) | H20: =IF('DATA ENTRY'!$N15="","",'DATA ENTRY'!#REF!) | I20: =IF('DATA ENTRY'!$N15="","",'DATA ENTRY'!U15) | J20: =IF('DATA ENTRY'!$N15="","",'DATA ENTRY'!V15) | K20: =IF('DATA ENTRY'!$N15="","",'DATA ENTRY'!#REF!)
C21: 5lZ6FDGL TFZLH
C22: HFlT | D22: ZÒP;\bIF | G22: D[/J[, V[S\NZ[ U|[0 | V22: GM\W
G25: A | J25: B | M25: C | P25: D | S25: E
D26: S]DFZ | E26: SgYF | F26: S], | G26: S]DFZ | H26: SgIF | I26: S], | J26: S]DFZ | K26: SgIF | L26: S], | M26: S]DFZ | N26: SgIF | O26: S], | P26: S]DFZ | Q26: SgIF | R26: S], | S26: S]DFZ | T26: SgIF | U26: S],
C27: VG]\PHFlT | D27: ='વાર્ષિક પરિણામ પત્રક '!B83 -> 0 | E27: ='વાર્ષિક પરિણામ પત્રક '!D83 -> 0 | F27: =D27+E27 -> 0 | G27: ='વાર્ષિક વિષયવાર,જાતિવાર ગ્રેડ '!AS14 -> 0 | H27: ='વાર્ષિક વિષયવાર,જાતિવાર ગ્રેડ '!AU14 -> 0 | I27: =G27+H27 -> 0 | J27: ='વાર્ષિક વિષયવાર,જાતિવાર ગ્રેડ '!AS15 -> 0 | K27: ='વાર્ષિક વિષયવાર,જાતિવાર ગ્રેડ '!AU15 -> 0 | L27: =J27+K27 -> 0 | M27: ='વાર્ષિક વિષયવાર,જાતિવાર ગ્રેડ '!AS16 -> 0 | N27: ='વાર્ષિક વિષયવાર,જાતિવાર ગ્રેડ '!AU16 -> 0 | O27: =M27+N27 -> 0 | P27: ='વાર્ષિક વિષયવાર,જાતિવાર ગ્રેડ '!AS17 -> 0 | Q27: ='વાર્ષિક વિષયવાર,જાતિવાર ગ્રેડ '!AU17 -> 0 | R27: =P27+Q27 -> 0 | S27: ='વાર્ષિક વિષયવાર,જાતિવાર ગ્રેડ '!AS18 -> 0 | T27: ='વાર્ષિક વિષયવાર,જાતિવાર ગ્રેડ '!AU18 -> 0 | U27: =S27+T27 -> 0
C28: VPHPHFlT | D28: ='વાર્ષિક પરિણામ પત્રક '!B84 -> 0 | E28: ='વાર્ષિક પરિણામ પત્રક '!D84 -> 0 | F28: =D28+E28 -> 0 | G28: ='વાર્ષિક વિષયવાર,જાતિવાર ગ્રેડ '!AS20 -> 0 | H28: ='વાર્ષિક વિષયવાર,જાતિવાર ગ્રેડ '!AU20 -> 0 | I28: =G28+H28 -> 0 | J28: ='વાર્ષિક વિષયવાર,જાતિવાર ગ્રેડ '!AS21 -> 0 | K28: ='વાર્ષિક વિષયવાર,જાતિવાર ગ્રેડ '!AU21 -> 0 | L28: =J28+K28 -> 0 | M28: ='વાર્ષિક વિષયવાર,જાતિવાર ગ્રેડ '!AS22 -> 0 | N28: ='વાર્ષિક વિષયવાર,જાતિવાર ગ્રેડ '!AU22 -> 0 | O28: =M28+N28 -> 0 | P28: ='વાર્ષિક વિષયવાર,જાતિવાર ગ્રેડ '!AS23 -> 0 | Q28: ='વાર્ષિક વિષયવાર,જાતિવાર ગ્રેડ '!AU23 -> 0 | R28: =P28+Q28 -> 0 | S28: ='વાર્ષિક વિષયવાર,જાતિવાર ગ્રેડ '!AS24 -> 0 | T28: ='વાર્ષિક વિષયવાર,જાતિવાર ગ્રેડ '!AU24 -> 0 | U28: =S28+T28 -> 0
C29: A1FL5\R | D29: ='વાર્ષિક પરિણામ પત્રક '!B82 -> 0 | E29: ='વાર્ષિક પરિણામ પત્રક '!D82 -> 0 | F29: =D29+E29 -> 0 | G29: ='વાર્ષિક વિષયવાર,જાતિવાર ગ્રેડ '!AS8 -> 0 | H29: ='વાર્ષિક વિષયવાર,જાતિવાર ગ્રેડ '!AU8 -> 0 | I29: =G29+H29 -> 0 | J29: ='વાર્ષિક વિષયવાર,જાતિવાર ગ્રેડ '!AS9 -> 0 | K29: ='વાર્ષિક વિષયવાર,જાતિવાર ગ્રેડ '!AU9 -> 0 | L29: =J29+K29 -> 0 | M29: ='વાર્ષિક વિષયવાર,જાતિવાર ગ્રેડ '!AS10 -> 0 | N29: ='વાર્ષિક વિષયવાર,જાતિવાર ગ્રેડ '!AU10 -> 0 | O29: =M29+N29 -> 0 | P29: ='વાર્ષિક વિષયવાર,જાતિવાર ગ્રેડ '!AS11 -> 0 | Q29: ='વાર્ષિક વિષયવાર,જાતિવાર ગ્રેડ '!AU11 -> 0 | R29: =P29+Q29 -> 0 | S29: ='વાર્ષિક વિષયવાર,જાતિવાર ગ્રેડ '!AS12 -> 0 | T29: ='વાર્ષિક વિષયવાર,જાતિવાર ગ્રેડ '!AU12 -> 0 | U29: =S29+T29 -> 0
C30: VgI | D30: ='વાર્ષિક પરિણામ પત્રક '!B85 -> 0 | E30: ='વાર્ષિક પરિણામ પત્રક '!D85 -> 0 | F30: =D30+E30 -> 0 | G30: ='વાર્ષિક વિષયવાર,જાતિવાર ગ્રેડ '!AS26 -> 0 | H30: ='વાર્ષિક વિષયવાર,જાતિવાર ગ્રેડ '!AU26 -> 0 | I30: =G30+H30 -> 0 | J30: ='વાર્ષિક વિષયવાર,જાતિવાર ગ્રેડ '!AS27 -> 0 | K30: ='વાર્ષિક વિષયવાર,જાતિવાર ગ્રેડ '!AU27 -> 0 | L30: =J30+K30 -> 0 | M30: ='વાર્ષિક વિષયવાર,જાતિવાર ગ્રેડ '!AS28 -> 0 | N30: ='વાર્ષિક વિષયવાર,જાતિવાર ગ્રેડ '!AU28 -> 0 | O30: =M30+N30 -> 0 | P30: ='વાર્ષિક વિષયવાર,જાતિવાર ગ્રેડ '!AS29 -> 0 | Q30: ='વાર્ષિક વિષયવાર,જાતિવાર ગ્રેડ '!AU29 -> 0 | R30: =P30+Q30 -> 0 | S30: ='વાર્ષિક વિષયવાર,જાતિવાર ગ્રેડ '!AS30 -> 0 | T30: ='વાર્ષિક વિષયવાર,જાતિવાર ગ્રેડ '!AU30 -> 0 | U30: =S30+T30 -> 0
C31: S], | D31: =D27+D28+D29+D30 -> 0 | E31: =E27+E28+E29+E30 -> 0 | F31: =F27+F28+F29+F30 -> 0 | G31: =G27+G28+G29+G30 -> 0 | H31: =H27+H28+H29+H30 -> 0 | I31: =I27+I28+I29+I30 -> 0 | J31: =J27+J28+J29+J30 -> 0 | K31: =K27+K28+K29+K30 -> 0 | ... U31: =U27+U28+U29+U30 -> 0
C32: JU"lX1FSGL ;CL | S32: VFRFI"GL ;CL
C33: http://vinodpateltalodgam.blogspot.com

Sheet વાર્ષિક પરિણામ પત્રક 
C2: http://vinodpateltalodgam.blogspot.com
D3: WMZ6ov | E3: =IF('વાર્ષિક ટાઇટલ પેઇઝ '!$M11="","",'વાર્ષિક ટાઇટલ પેઇઝ '!M11) -> 6 | G3: ;G[ov | I3: =IF('વાર્ષિક ટાઇટલ પેઇઝ '!$K8="","",'વાર્ષિક ટાઇટલ પેઇઝ '!K8)
A4: OBC SC ST OPEN | B4: BOY GIRL | C4: S|D | D4: lJnFYL"G]\ GFD | E4: HGZ, ZlH:8Z G\AZ | F4: HgD TFZLB | G4: CFHZ lNJ; | H4: U]HZFTL | R4: S|D | S4: Ul6T | AA4: lCgNL | AI4: ;FDFlHS lJ7FG | AQ4: S|D | AR4: V\U[|HL | AZ4: lJ7FG | BH4: ;\:S'T | BR4: S|D | BS4: ;DU| jIlSTlJSF; sJQFF"gT[f | BT4: U[|0 | BU4: VeIFl;S T[DH ;CVeIFl;S lJQFIMGF V[S\NZ S], U]6 | BV4: V[S\NZ S], U]6 8SFDF\ | BW4: ;Z[ZFX U[|0
H5: 5|YD ;+ | K5: lâlTI ;+ | N5: S], U]6 200 DF\YL D[/J[, U]6 | O5: U[|0 | S5: 5|YD ;+ | V5: lâlTI ;+ | Y5: S], U]6 200 DF\YL D[/J[, U]6 | Z5: U[|0 | AA5: 5|YD ;+ | AD5: lâlTI ;+ | AG5: S], U]6 200 DF\YL D[/J[, U]6 | AH5: U[|0 | AI5: 5|YD ;+ | AL5: lâlTI ;+ | AO5: S], U]6 200 DF\YL D[/J[, U]6 | AP5: U[|0 | AR5: 5|YD ;+ | AU5: lâlTI ;+ | AX5: S], U]6 200 DF\YL D[/J[, U]6 | AY5: U[|0 | AZ5: 5|YD ;+ | BC5: lâlTI ;+ | BF5: S], U]6 200 DF\YL D[/J[, U]6 | BG5: U[|0 | BH5: 5|YD ;+ | BK5: lâlTI ;+ | BN5: S], U]6 200 DF\YL D[/J[, U]6 | BO5: U[|0
H6: l+DFl;S S;M8L D}<IF\SG | I6: ;+F\T[ D}<IF\SG | J6: :JVwIIGSFI"GF VFWFZ[ D}<IF\SG | K6: l+DFl;S S;M8L D}<IF\SG | L6: ;+F\T[ D}<IF\SG | M6: :JVwIIGSFI"GF VFWFZ[ D}<IF\SG | S6: l+DFl;S S;M8L D}<IF\SG | T6: ;+F\T[ D}<IF\SG | U6: :JVwIIGSFI"GF VFWFZ[ D}<IF\SG | V6: l+DFl;S S;M8L D}<IF\SG | W6: ;+F\T[ D}<IF\SG | X6: :JVwIIGSFI"GF VFWFZ[ D}<IF\SG | AA6: l+DFl;S S;M8L D}<IF\SG | AB6: ;+F\T[ D}<IF\SG | AC6: :JVwIIGSFI"GF VFWFZ[ D}<IF\SG | AD6: l+DFl;S S;M8L D}<IF\SG | AE6: ;+F\T[ D}<IF\SG | AF6: :JVwIIGSFI"GF VFWFZ[ D}<IF\SG | AI6: l+DFl;S S;M8L D}<IF\SG | AJ6: ;+F\T[ D}<IF\SG | AK6: :JVwIIGSFI"GF VFWFZ[ D}<IF\SG | AL6: l+DFl;S S;M8L D}<IF\SG | AM6: ;+F\T[ D}<IF\SG | AN6: :JVwIIGSFI"GF VFWFZ[ D}<IF\SG | AR6: l+DFl;S S;M8L D}<IF\SG | AS6: ;+F\T[ D}<IF\SG | AT6: :JVwIIGSFI"GF VFWFZ[ D}<IF\SG | AU6: l+DFl;S S;M8L D}<IF\SG | AV6: ;+F\T[ D}<IF\SG | AW6: :JVwIIGSFI"GF VFWFZ[ D}<IF\SG | AZ6: l+DFl;S S;M8L D}<IF\SG | BA6: ;+F\T[ D}<IF\SG | BB6: :JVwIIGSFI"GF VFWFZ[ D}<IF\SG | BC6: l+DFl;S S;M8L D}<IF\SG | BD6: ;+F\T[ D}<IF\SG | BE6: :JVwIIGSFI"GF VFWFZ[ D}<IF\SG | BH6: l+DFl;S S;M8L D}<IF\SG | BI6: ;+F\T[ D}<IF\SG | BJ6: :JVwIIGSFI"GF VFWFZ[ D}<IF\SG | BK6: l+DFl;S S;M8L D}<IF\SG | BL6: ;+F\T[ D}<IF\SG | BM6: :JVwIIGSFI"GF VFWFZ[ D}<IF\SG
H7: 40 | I7: 40 | J7: 20 | K7: 40 | L7: 40 | M7: 20 | S7: 40 | T7: 40 | U7: 20 | V7: 40 | W7: 40 | X7: 20 | AA7: 40 | AB7: 40 | AC7: 20 | AD7: 40 | AE7: 40 | AF7: 20 | AI7: 40 | AJ7: 40 | AK7: 20 | AL7: 40 | AM7: 40 | AN7: 20 | AR7: 40 | AS7: 40 | AT7: 20 | AU7: 40 | AV7: 40 | AW7: 20 | AZ7: 40 | BA7: 40 | BB7: 20 | BC7: 40 | BD7: 40 | BE7: 20 | BH7: 40 | BI7: 40 | BJ7: 20 | BK7: 40 | BL7: 40 | BM7: 20 | BS7: 400 | BU7: 1800
A8: =IF('DATA ENTRY'!$N3="","",'DATA ENTRY'!N3) | B8: =IF('DATA ENTRY'!$P3="","",'DATA ENTRY'!P3) | C8: =IF('DATA ENTRY'!$L3="","",'DATA ENTRY'!L3) -> 1 | D8: =IF('DATA ENTRY'!$M3="","",'DATA ENTRY'!M3) | E8: =IF('DATA ENTRY'!$Q3="","",'DATA ENTRY'!Q3) | F8: =IF('DATA ENTRY'!$R3="","",'DATA ENTRY'!R3) | G8: =IF('DATA ENTRY'!$S3="","",'DATA ENTRY'!S3) | H8: =IF('સત્રાંત પરિણામ પત્રક '!E8="","",'સત્રાંત પરિણામ પત્રક '!E8) | I8: =IF('સત્રાંત પરિણામ પત્રક '!F8="","",'સત્રાંત પરિણામ પત્રક '!F8) | J8: =IF('સત્રાંત પરિણામ પત્રક '!G8="","",'સત્રાંત પરિણામ પત્રક '!G8) | N8: =SUM(H8:M8) -> 0 | O8: =IF(N8>159,"A",IF(N8>129,"B",IF(N8>99,"C",IF(N8>69,"D",IF(N8>0,"E",""))))) | R8: =IF('વાર્ષિક પરિણામ પત્રક '!$C8="","",'વાર્ષિક પરિણામ પત્રક '!C8) -> 1 | S8: =IF('સત્રાંત પરિણામ પત્રક '!J8="","",'સત્રાંત પરિણામ પત્રક '!J8) | T8: =IF('સત્રાંત પરિણામ પત્રક '!K8="","",'સત્રાંત પરિણામ પત્રક '!K8) | U8: =IF('સત્રાંત પરિણામ પત્રક '!L8="","",'સત્રાંત પરિણામ પત્રક '!L8) | Y8: =SUM(S8:X8) -> 0 | Z8: =IF(Y8>159,"A",IF(Y8>129,"B",IF(Y8>99,"C",IF(Y8>69,"D",IF(Y8>0,"E",""))))) | AA8: =IF('સત્રાંત પરિણામ પત્રક '!R8="","",'સત્રાંત પરિણામ પત્રક '!R8) | AB8: =IF('સત્રાંત પરિણામ પત્રક '!S8="","",'સત્રાંત પરિણામ પત્રક '!S8) | AC8: =IF('સત્રાંત પરિણામ પત્રક '!T8="","",'સત્રાંત પરિણામ પત્રક '!T8) | AG8: =SUM(AA8:AF8) -> 0 | AH8: =IF(AG8>159,"A",IF(AG8>129,"B",IF(AG8>99,"C",IF(AG8>69,"D",IF(AG8>0,"E",""))))) | AI8: =IF('સત્રાંત પરિણામ પત્રક '!W8="","",'સત્રાંત પરિણામ પત્રક '!W8) | AJ8: =IF('સત્રાંત પરિણામ પત્રક '!X8="","",'સત્રાંત પરિણામ પત્રક '!X8) | AK8: =IF('સત્રાંત પરિણામ પત્રક '!Y8="","",'સત્રાંત પરિણામ પત્રક '!Y8) | AO8: =SUM(AI8:AN8) -> 0 | AP8: =IF(AO8>159,"A",IF(AO8>129,"B",IF(AO8>99,"C",IF(AO8>69,"D",IF(AO8>0,"E",""))))) | AQ8: =IF('વાર્ષિક પરિણામ પત્રક '!$C8="","",'વાર્ષિક પરિણામ પત્રક '!C8) -> 1 | AR8: =IF('સત્રાંત પરિણામ પત્રક '!AB8="","",'સત્રાંત પરિણામ પત્રક '!AB8) | AS8: =IF('સત્રાંત પરિણામ પત્રક '!AC8="","",'સત્રાંત પરિણામ પત્રક '!AC8) | AT8: =IF('સત્રાંત પરિણામ પત્રક '!AD8="","",'સત્રાંત પરિણામ પત્રક '!AD8) | AX8: =SUM(AR8:AW8) -> 0 | AY8: =IF(AX8>159,"A",IF(AX8>129,"B",IF(AX8>99,"C",IF(AX8>69,"D",IF(AX8>0,"E",""))))) | AZ8: =IF('સત્રાંત પરિણામ પત્રક '!AH8="","",'સત્રાંત પરિણામ પત્રક '!AH8) | BA8: =IF('સત્રાંત પરિણામ પત્રક '!AI8="","",'સત્રાંત પરિણામ પત્રક '!AI8) | BB8: =IF('સત્રાંત પરિણામ પત્રક '!AJ8="","",'સત્રાંત પરિણામ પત્રક '!AJ8) | BF8: =SUM(AZ8:BE8) -> 0 | BG8: =IF(BF8>159,"A",IF(BF8>129,"B",IF(BF8>99,"C",IF(BF8>69,"D",IF(BF8>0,"E",""))))) | BH8: =IF('સત્રાંત પરિણામ પત્રક '!AM8="","",'સત્રાંત પરિણામ પત્રક '!AM8) | BI8: =IF('સત્રાંત પરિણામ પત્રક '!AN8="","",'સત્રાંત પરિણામ પત્રક '!AN8) | BJ8: =IF('સત્રાંત પરિણામ પત્રક '!AO8="","",'સત્રાંત પરિણામ પત્રક '!AO8) | BN8: =SUM(BH8:BM8) -> 0 | BO8: =IF(BN8>159,"A",IF(BN8>129,"B",IF(BN8>99,"C",IF(BN8>69,"D",IF(BN8>0,"E",""))))) | BR8: =IF('વાર્ષિક પરિણામ પત્રક '!$C8="","",'વાર્ષિક પરિણામ પત્રક '!C8) -> 1 | BS8: 321 | BT8: =IF(BS8>319,"A",IF(BS8>259,"B",IF(BS8>199,"C",IF(BS8>139,"D",IF(BS8>0,"E",""))))) -> A | BU8: =N8+Y8+AG8+AO8+AX8+BF8+BN8+BS8 -> 321 | BV8: =BU8/18 -> 17.833333 | BW8: =IF(BU8>1439,"A",IF(BU8>1169,"B",IF(BU8>899,"C",IF(BU8>629,"D",IF(BU8>0,"E",""))))) -> E
A9: =IF('DATA ENTRY'!$N4="","",'DATA ENTRY'!N4) | B9: =IF('DATA ENTRY'!$P4="","",'DATA ENTRY'!P4) | C9: =IF('DATA ENTRY'!$L4="","",'DATA ENTRY'!L4) -> 2 | D9: =IF('DATA ENTRY'!$M4="","",'DATA ENTRY'!M4) | E9: =IF('DATA ENTRY'!$Q4="","",'DATA ENTRY'!Q4) | F9: =IF('DATA ENTRY'!$R4="","",'DATA ENTRY'!R4) | G9: =IF('DATA ENTRY'!$S4="","",'DATA ENTRY'!S4) | H9: =IF('સત્રાંત પરિણામ પત્રક '!E9="","",'સત્રાંત પરિણામ પત્રક '!E9) | I9: =IF('સત્રાંત પરિણામ પત્રક '!F9="","",'સત્રાંત પરિણામ પત્રક '!F9) | J9: =IF('સત્રાંત પરિણામ પત્રક '!G9="","",'સત્રાંત પરિણામ પત્રક '!G9) | N9: =SUM(H9:M9) -> 0 | O9: =IF(N9>159,"A",IF(N9>129,"B",IF(N9>99,"C",IF(N9>69,"D",IF(N9>0,"E",""))))) | R9: =IF('વાર્ષિક પરિણામ પત્રક '!$C9="","",'વાર્ષિક પરિણામ પત્રક '!C9) -> 2 | S9: =IF('સત્રાંત પરિણામ પત્રક '!J9="","",'સત્રાંત પરિણામ પત્રક '!J9) | T9: =IF('સત્રાંત પરિણામ પત્રક '!K9="","",'સત્રાંત પરિણામ પત્રક '!K9) | U9: =IF('સત્રાંત પરિણામ પત્રક '!L9="","",'સત્રાંત પરિણામ પત્રક '!L9) | Y9: =SUM(S9:X9) -> 0 | Z9: =IF(Y9>159,"A",IF(Y9>129,"B",IF(Y9>99,"C",IF(Y9>69,"D",IF(Y9>0,"E",""))))) | AA9: =IF('સત્રાંત પરિણામ પત્રક '!R9="","",'સત્રાંત પરિણામ પત્રક '!R9) | AB9: =IF('સત્રાંત પરિણામ પત્રક '!S9="","",'સત્રાંત પરિણામ પત્રક '!S9) | AC9: =IF('સત્રાંત પરિણામ પત્રક '!T9="","",'સત્રાંત પરિણામ પત્રક '!T9) | AG9: =SUM(AA9:AF9) -> 0 | AH9: =IF(AG9>159,"A",IF(AG9>129,"B",IF(AG9>99,"C",IF(AG9>69,"D",IF(AG9>0,"E",""))))) | AI9: =IF('સત્રાંત પરિણામ પત્રક '!W9="","",'સત્રાંત પરિણામ પત્રક '!W9) | AJ9: =IF('સત્રાંત પરિણામ પત્રક '!X9="","",'સત્રાંત પરિણામ પત્રક '!X9) | AK9: =IF('સત્રાંત પરિણામ પત્રક '!Y9="","",'સત્રાંત પરિણામ પત્રક '!Y9) | AO9: =SUM(AI9:AN9) -> 0 | AP9: =IF(AO9>159,"A",IF(AO9>129,"B",IF(AO9>99,"C",IF(AO9>69,"D",IF(AO9>0,"E",""))))) | AQ9: =IF('વાર્ષિક પરિણામ પત્રક '!$C9="","",'વાર્ષિક પરિણામ પત્રક '!C9) -> 2 | AR9: =IF('સત્રાંત પરિણામ પત્રક '!AB9="","",'સત્રાંત પરિણામ પત્રક '!AB9) | AS9: =IF('સત્રાંત પરિણામ પત્રક '!AC9="","",'સત્રાંત પરિણામ પત્રક '!AC9) | AT9: =IF('સત્રાંત પરિણામ પત્રક '!AD9="","",'સત્રાંત પરિણામ પત્રક '!AD9) | AX9: =SUM(AR9:AW9) -> 0 | AY9: =IF(AX9>159,"A",IF(AX9>129,"B",IF(AX9>99,"C",IF(AX9>69,"D",IF(AX9>0,"E",""))))) | AZ9: =IF('સત્રાંત પરિણામ પત્રક '!AH9="","",'સત્રાંત પરિણામ પત્રક '!AH9) | BA9: =IF('સત્રાંત પરિણામ પત્રક '!AI9="","",'સત્રાંત પરિણામ પત્રક '!AI9) | BB9: =IF('સત્રાંત પરિણામ પત્રક '!AJ9="","",'સત્રાંત પરિણામ પત્રક '!AJ9) | BF9: =SUM(AZ9:BE9) -> 0 | BG9: =IF(BF9>159,"A",IF(BF9>129,"B",IF(BF9>99,"C",IF(BF9>69,"D",IF(BF9>0,"E",""))))) | BH9: =IF('સત્રાંત પરિણામ પત્રક '!AM9="","",'સત્રાંત પરિણામ પત્રક '!AM9) | BI9: =IF('સત્રાંત પરિણામ પત્રક '!AN9="","",'સત્રાંત પરિણામ પત્રક '!AN9) | BJ9: =IF('સત્રાંત પરિણામ પત્રક '!AO9="","",'સત્રાંત પરિણામ પત્રક '!AO9) | BN9: =SUM(BH9:BM9) -> 0 | BO9: =IF(BN9>159,"A",IF(BN9>129,"B",IF(BN9>99,"C",IF(BN9>69,"D",IF(BN9>0,"E",""))))) | BR9: =IF('વાર્ષિક પરિણામ પત્રક '!$C9="","",'વાર્ષિક પરિણામ પત્રક '!C9) -> 2 | BT9: =IF(BS9>319,"A",IF(BS9>259,"B",IF(BS9>199,"C",IF(BS9>139,"D",IF(BS9>0,"E",""))))) | BU9: =N9+Y9+AG9+AO9+AX9+BF9+BN9+BS9 -> 0 | BV9: =BU9/18 -> 0 | BW9: =IF(BU9>1439,"A",IF(BU9>1169,"B",IF(BU9>899,"C",IF(BU9>629,"D",IF(BU9>0,"E","")))))
A10: =IF('DATA ENTRY'!$N5="","",'DATA ENTRY'!N5) | B10: =IF('DATA ENTRY'!$P5="","",'DATA ENTRY'!P5) | C10: =IF('DATA ENTRY'!$L5="","",'DATA ENTRY'!L5) -> 3 | D10: =IF('DATA ENTRY'!$M5="","",'DATA ENTRY'!M5) | E10: =IF('DATA ENTRY'!$Q5="","",'DATA ENTRY'!Q5) | F10: =IF('DATA ENTRY'!$R5="","",'DATA ENTRY'!R5) | G10: =IF('DATA ENTRY'!$S5="","",'DATA ENTRY'!S5) | H10: =IF('સત્રાંત પરિણામ પત્રક '!E10="","",'સત્રાંત પરિણામ પત્રક '!E10) | I10: =IF('સત્રાંત પરિણામ પત્રક '!F10="","",'સત્રાંત પરિણામ પત્રક '!F10) | J10: =IF('સત્રાંત પરિણામ પત્રક '!G10="","",'સત્રાંત પરિણામ પત્રક '!G10) | N10: =SUM(H10:M10) -> 0 | O10: =IF(N10>159,"A",IF(N10>129,"B",IF(N10>99,"C",IF(N10>69,"D",IF(N10>0,"E",""))))) | R10: =IF('વાર્ષિક પરિણામ પત્રક '!$C10="","",'વાર્ષિક પરિણામ પત્રક '!C10) -> 3 | S10: =IF('સત્રાંત પરિણામ પત્રક '!J10="","",'સત્રાંત પરિણામ પત્રક '!J10) | T10: =IF('સત્રાંત પરિણામ પત્રક '!K10="","",'સત્રાંત પરિણામ પત્રક '!K10) | U10: =IF('સત્રાંત પરિણામ પત્રક '!L10="","",'સત્રાંત પરિણામ પત્રક '!L10) | Y10: =SUM(S10:X10) -> 0 | Z10: =IF(Y10>159,"A",IF(Y10>129,"B",IF(Y10>99,"C",IF(Y10>69,"D",IF(Y10>0,"E",""))))) | AA10: =IF('સત્રાંત પરિણામ પત્રક '!R10="","",'સત્રાંત પરિણામ પત્રક '!R10) | AB10: =IF('સત્રાંત પરિણામ પત્રક '!S10="","",'સત્રાંત પરિણામ પત્રક '!S10) | AC10: =IF('સત્રાંત પરિણામ પત્રક '!T10="","",'સત્રાંત પરિણામ પત્રક '!T10) | AG10: =SUM(AA10:AF10) -> 0 | AH10: =IF(AG10>159,"A",IF(AG10>129,"B",IF(AG10>99,"C",IF(AG10>69,"D",IF(AG10>0,"E",""))))) | AI10: =IF('સત્રાંત પરિણામ પત્રક '!W10="","",'સત્રાંત પરિણામ પત્રક '!W10) | AJ10: =IF('સત્રાંત પરિણામ પત્રક '!X10="","",'સત્રાંત પરિણામ પત્રક '!X10) | AK10: =IF('સત્રાંત પરિણામ પત્રક '!Y10="","",'સત્રાંત પરિણામ પત્રક '!Y10) | AO10: =SUM(AI10:AN10) -> 0 | AP10: =IF(AO10>159,"A",IF(AO10>129,"B",IF(AO10>99,"C",IF(AO10>69,"D",IF(AO10>0,"E",""))))) | AQ10: =IF('વાર્ષિક પરિણામ પત્રક '!$C10="","",'વાર્ષિક પરિણામ પત્રક '!C10) -> 3 | AR10: =IF('સત્રાંત પરિણામ પત્રક '!AB10="","",'સત્રાંત પરિણામ પત્રક '!AB10) | AS10: =IF('સત્રાંત પરિણામ પત્રક '!AC10="","",'સત્રાંત પરિણામ પત્રક '!AC10) | AT10: =IF('સત્રાંત પરિણામ પત્રક '!AD10="","",'સત્રાંત પરિણામ પત્રક '!AD10) | AX10: =SUM(AR10:AW10) -> 0 | AY10: =IF(AX10>159,"A",IF(AX10>129,"B",IF(AX10>99,"C",IF(AX10>69,"D",IF(AX10>0,"E",""))))) | AZ10: =IF('સત્રાંત પરિણામ પત્રક '!AH10="","",'સત્રાંત પરિણામ પત્રક '!AH10) | BA10: =IF('સત્રાંત પરિણામ પત્રક '!AI10="","",'સત્રાંત પરિણામ પત્રક '!AI10) | BB10: =IF('સત્રાંત પરિણામ પત્રક '!AJ10="","",'સત્રાંત પરિણામ પત્રક '!AJ10) | BF10: =SUM(AZ10:BE10) -> 0 | BG10: =IF(BF10>159,"A",IF(BF10>129,"B",IF(BF10>99,"C",IF(BF10>69,"D",IF(BF10>0,"E",""))))) | BH10: =IF('સત્રાંત પરિણામ પત્રક '!AM10="","",'સત્રાંત પરિણામ પત્રક '!AM10) | BI10: =IF('સત્રાંત પરિણામ પત્રક '!AN10="","",'સત્રાંત પરિણામ પત્રક '!AN10) | BJ10: =IF('સત્રાંત પરિણામ પત્રક '!AO10="","",'સત્રાંત પરિણામ પત્રક '!AO10) | BN10: =SUM(BH10:BM10) -> 0 | BO10: =IF(BN10>159,"A",IF(BN10>129,"B",IF(BN10>99,"C",IF(BN10>69,"D",IF(BN10>0,"E",""))))) | BR10: =IF('વાર્ષિક પરિણામ પત્રક '!$C10="","",'વાર્ષિક પરિણામ પત્રક '!C10) -> 3 | BT10: =IF(BS10>319,"A",IF(BS10>259,"B",IF(BS10>199,"C",IF(BS10>139,"D",IF(BS10>0,"E",""))))) | BU10: =N10+Y10+AG10+AO10+AX10+BF10+BN10+BS10 -> 0 | BV10: =BU10/18 -> 0 | BW10: =IF(BU10>1439,"A",IF(BU10>1169,"B",IF(BU10>899,"C",IF(BU10>629,"D",IF(BU10>0,"E","")))))
A11: =IF('DATA ENTRY'!$N6="","",'DATA ENTRY'!N6) | B11: =IF('DATA ENTRY'!$P6="","",'DATA ENTRY'!P6) | C11: =IF('DATA ENTRY'!$L6="","",'DATA ENTRY'!L6) -> 4 | D11: =IF('DATA ENTRY'!$M6="","",'DATA ENTRY'!M6) | E11: =IF('DATA ENTRY'!$Q6="","",'DATA ENTRY'!Q6) | F11: =IF('DATA ENTRY'!$R6="","",'DATA ENTRY'!R6) | G11: =IF('DATA ENTRY'!$S6="","",'DATA ENTRY'!S6) | H11: =IF('સત્રાંત પરિણામ પત્રક '!E11="","",'સત્રાંત પરિણામ પત્રક '!E11) | I11: =IF('સત્રાંત પરિણામ પત્રક '!F11="","",'સત્રાંત પરિણામ પત્રક '!F11) | J11: =IF('સત્રાંત પરિણામ પત્રક '!G11="","",'સત્રાંત પરિણામ પત્રક '!G11) | N11: =SUM(H11:M11) -> 0 | O11: =IF(N11>159,"A",IF(N11>129,"B",IF(N11>99,"C",IF(N11>69,"D",IF(N11>0,"E",""))))) | R11: =IF('વાર્ષિક પરિણામ પત્રક '!$C11="","",'વાર્ષિક પરિણામ પત્રક '!C11) -> 4 | S11: =IF('સત્રાંત પરિણામ પત્રક '!J11="","",'સત્રાંત પરિણામ પત્રક '!J11) | T11: =IF('સત્રાંત પરિણામ પત્રક '!K11="","",'સત્રાંત પરિણામ પત્રક '!K11) | U11: =IF('સત્રાંત પરિણામ પત્રક '!L11="","",'સત્રાંત પરિણામ પત્રક '!L11) | Y11: =SUM(S11:X11) -> 0 | Z11: =IF(Y11>159,"A",IF(Y11>129,"B",IF(Y11>99,"C",IF(Y11>69,"D",IF(Y11>0,"E",""))))) | AA11: =IF('સત્રાંત પરિણામ પત્રક '!R11="","",'સત્રાંત પરિણામ પત્રક '!R11) | AB11: =IF('સત્રાંત પરિણામ પત્રક '!S11="","",'સત્રાંત પરિણામ પત્રક '!S11) | AC11: =IF('સત્રાંત પરિણામ પત્રક '!T11="","",'સત્રાંત પરિણામ પત્રક '!T11) | AG11: =SUM(AA11:AF11) -> 0 | AH11: =IF(AG11>159,"A",IF(AG11>129,"B",IF(AG11>99,"C",IF(AG11>69,"D",IF(AG11>0,"E",""))))) | AI11: =IF('સત્રાંત પરિણામ પત્રક '!W11="","",'સત્રાંત પરિણામ પત્રક '!W11) | AJ11: =IF('સત્રાંત પરિણામ પત્રક '!X11="","",'સત્રાંત પરિણામ પત્રક '!X11) | AK11: =IF('સત્રાંત પરિણામ પત્રક '!Y11="","",'સત્રાંત પરિણામ પત્રક '!Y11) | AO11: =SUM(AI11:AN11) -> 0 | AP11: =IF(AO11>159,"A",IF(AO11>129,"B",IF(AO11>99,"C",IF(AO11>69,"D",IF(AO11>0,"E",""))))) | AQ11: =IF('વાર્ષિક પરિણામ પત્રક '!$C11="","",'વાર્ષિક પરિણામ પત્રક '!C11) -> 4 | AR11: =IF('સત્રાંત પરિણામ પત્રક '!AB11="","",'સત્રાંત પરિણામ પત્રક '!AB11) | AS11: =IF('સત્રાંત પરિણામ પત્રક '!AC11="","",'સત્રાંત પરિણામ પત્રક '!AC11) | AT11: =IF('સત્રાંત પરિણામ પત્રક '!AD11="","",'સત્રાંત પરિણામ પત્રક '!AD11) | AX11: =SUM(AR11:AW11) -> 0 | AY11: =IF(AX11>159,"A",IF(AX11>129,"B",IF(AX11>99,"C",IF(AX11>69,"D",IF(AX11>0,"E",""))))) | AZ11: =IF('સત્રાંત પરિણામ પત્રક '!AH11="","",'સત્રાંત પરિણામ પત્રક '!AH11) | BA11: =IF('સત્રાંત પરિણામ પત્રક '!AI11="","",'સત્રાંત પરિણામ પત્રક '!AI11) | BB11: =IF('સત્રાંત પરિણામ પત્રક '!AJ11="","",'સત્રાંત પરિણામ પત્રક '!AJ11) | BF11: =SUM(AZ11:BE11) -> 0 | BG11: =IF(BF11>159,"A",IF(BF11>129,"B",IF(BF11>99,"C",IF(BF11>69,"D",IF(BF11>0,"E",""))))) | BH11: =IF('સત્રાંત પરિણામ પત્રક '!AM11="","",'સત્રાંત પરિણામ પત્રક '!AM11) | BI11: =IF('સત્રાંત પરિણામ પત્રક '!AN11="","",'સત્રાંત પરિણામ પત્રક '!AN11) | BJ11: =IF('સત્રાંત પરિણામ પત્રક '!AO11="","",'સત્રાંત પરિણામ પત્રક '!AO11) | BN11: =SUM(BH11:BM11) -> 0 | BO11: =IF(BN11>159,"A",IF(BN11>129,"B",IF(BN11>99,"C",IF(BN11>69,"D",IF(BN11>0,"E",""))))) | BR11: =IF('વાર્ષિક પરિણામ પત્રક '!$C11="","",'વાર્ષિક પરિણામ પત્રક '!C11) -> 4 | BT11: =IF(BS11>319,"A",IF(BS11>259,"B",IF(BS11>199,"C",IF(BS11>139,"D",IF(BS11>0,"E",""))))) | BU11: =N11+Y11+AG11+AO11+AX11+BF11+BN11+BS11 -> 0 | BV11: =BU11/18 -> 0 | BW11: =IF(BU11>1439,"A",IF(BU11>1169,"B",IF(BU11>899,"C",IF(BU11>629,"D",IF(BU11>0,"E","")))))
A12: =IF('DATA ENTRY'!$N7="","",'DATA ENTRY'!N7) | B12: =IF('DATA ENTRY'!$P7="","",'DATA ENTRY'!P7) | C12: =IF('DATA ENTRY'!$L7="","",'DATA ENTRY'!L7) -> 5 | D12: =IF('DATA ENTRY'!$M7="","",'DATA ENTRY'!M7) | E12: =IF('DATA ENTRY'!$Q7="","",'DATA ENTRY'!Q7) | F12: =IF('DATA ENTRY'!$R7="","",'DATA ENTRY'!R7) | G12: =IF('DATA ENTRY'!$S7="","",'DATA ENTRY'!S7) | H12: =IF('સત્રાંત પરિણામ પત્રક '!E12="","",'સત્રાંત પરિણામ પત્રક '!E12) | I12: =IF('સત્રાંત પરિણામ પત્રક '!F12="","",'સત્રાંત પરિણામ પત્રક '!F12) | J12: =IF('સત્રાંત પરિણામ પત્રક '!G12="","",'સત્રાંત પરિણામ પત્રક '!G12) | N12: =SUM(H12:M12) -> 0 | O12: =IF(N12>159,"A",IF(N12>129,"B",IF(N12>99,"C",IF(N12>69,"D",IF(N12>0,"E",""))))) | R12: =IF('વાર્ષિક પરિણામ પત્રક '!$C12="","",'વાર્ષિક પરિણામ પત્રક '!C12) -> 5 | S12: =IF('સત્રાંત પરિણામ પત્રક '!J12="","",'સત્રાંત પરિણામ પત્રક '!J12) | T12: =IF('સત્રાંત પરિણામ પત્રક '!K12="","",'સત્રાંત પરિણામ પત્રક '!K12) | U12: =IF('સત્રાંત પરિણામ પત્રક '!L12="","",'સત્રાંત પરિણામ પત્રક '!L12) | Y12: =SUM(S12:X12) -> 0 | Z12: =IF(Y12>159,"A",IF(Y12>129,"B",IF(Y12>99,"C",IF(Y12>69,"D",IF(Y12>0,"E",""))))) | AA12: =IF('સત્રાંત પરિણામ પત્રક '!R12="","",'સત્રાંત પરિણામ પત્રક '!R12) | AB12: =IF('સત્રાંત પરિણામ પત્રક '!S12="","",'સત્રાંત પરિણામ પત્રક '!S12) | AC12: =IF('સત્રાંત પરિણામ પત્રક '!T12="","",'સત્રાંત પરિણામ પત્રક '!T12) | AG12: =SUM(AA12:AF12) -> 0 | AH12: =IF(AG12>159,"A",IF(AG12>129,"B",IF(AG12>99,"C",IF(AG12>69,"D",IF(AG12>0,"E",""))))) | AI12: =IF('સત્રાંત પરિણામ પત્રક '!W12="","",'સત્રાંત પરિણામ પત્રક '!W12) | AJ12: =IF('સત્રાંત પરિણામ પત્રક '!X12="","",'સત્રાંત પરિણામ પત્રક '!X12) | AK12: =IF('સત્રાંત પરિણામ પત્રક '!Y12="","",'સત્રાંત પરિણામ પત્રક '!Y12) | AO12: =SUM(AI12:AN12) -> 0 | AP12: =IF(AO12>159,"A",IF(AO12>129,"B",IF(AO12>99,"C",IF(AO12>69,"D",IF(AO12>0,"E",""))))) | AQ12: =IF('વાર્ષિક પરિણામ પત્રક '!$C12="","",'વાર્ષિક પરિણામ પત્રક '!C12) -> 5 | AR12: =IF('સત્રાંત પરિણામ પત્રક '!AB12="","",'સત્રાંત પરિણામ પત્રક '!AB12) | AS12: =IF('સત્રાંત પરિણામ પત્રક '!AC12="","",'સત્રાંત પરિણામ પત્રક '!AC12) | AT12: =IF('સત્રાંત પરિણામ પત્રક '!AD12="","",'સત્રાંત પરિણામ પત્રક '!AD12) | AX12: =SUM(AR12:AW12) -> 0 | AY12: =IF(AX12>159,"A",IF(AX12>129,"B",IF(AX12>99,"C",IF(AX12>69,"D",IF(AX12>0,"E",""))))) | AZ12: =IF('સત્રાંત પરિણામ પત્રક '!AH12="","",'સત્રાંત પરિણામ પત્રક '!AH12) | BA12: =IF('સત્રાંત પરિણામ પત્રક '!AI12="","",'સત્રાંત પરિણામ પત્રક '!AI12) | BB12: =IF('સત્રાંત પરિણામ પત્રક '!AJ12="","",'સત્રાંત પરિણામ પત્રક '!AJ12) | BF12: =SUM(AZ12:BE12) -> 0 | BG12: =IF(BF12>159,"A",IF(BF12>129,"B",IF(BF12>99,"C",IF(BF12>69,"D",IF(BF12>0,"E",""))))) | BH12: =IF('સત્રાંત પરિણામ પત્રક '!AM12="","",'સત્રાંત પરિણામ પત્રક '!AM12) | BI12: =IF('સત્રાંત પરિણામ પત્રક '!AN12="","",'સત્રાંત પરિણામ પત્રક '!AN12) | BJ12: =IF('સત્રાંત પરિણામ પત્રક '!AO12="","",'સત્રાંત પરિણામ પત્રક '!AO12) | BN12: =SUM(BH12:BM12) -> 0 | BO12: =IF(BN12>159,"A",IF(BN12>129,"B",IF(BN12>99,"C",IF(BN12>69,"D",IF(BN12>0,"E",""))))) | BR12: =IF('વાર્ષિક પરિણામ પત્રક '!$C12="","",'વાર્ષિક પરિણામ પત્રક '!C12) -> 5 | BT12: =IF(BS12>319,"A",IF(BS12>259,"B",IF(BS12>199,"C",IF(BS12>139,"D",IF(BS12>0,"E",""))))) | BU12: =N12+Y12+AG12+AO12+AX12+BF12+BN12+BS12 -> 0 | BV12: =BU12/18 -> 0 | BW12: =IF(BU12>1439,"A",IF(BU12>1169,"B",IF(BU12>899,"C",IF(BU12>629,"D",IF(BU12>0,"E","")))))
A13: =IF('DATA ENTRY'!$N8="","",'DATA ENTRY'!N8) | B13: =IF('DATA ENTRY'!$P8="","",'DATA ENTRY'!P8) | C13: =IF('DATA ENTRY'!$L8="","",'DATA ENTRY'!L8) -> 6 | D13: =IF('DATA ENTRY'!$M8="","",'DATA ENTRY'!M8) | E13: =IF('DATA ENTRY'!$Q8="","",'DATA ENTRY'!Q8) | F13: =IF('DATA ENTRY'!$R8="","",'DATA ENTRY'!R8) | G13: =IF('DATA ENTRY'!$S8="","",'DATA ENTRY'!S8) | H13: =IF('સત્રાંત પરિણામ પત્રક '!E13="","",'સત્રાંત પરિણામ પત્રક '!E13) | I13: =IF('સત્રાંત પરિણામ પત્રક '!F13="","",'સત્રાંત પરિણામ પત્રક '!F13) | J13: =IF('સત્રાંત પરિણામ પત્રક '!G13="","",'સત્રાંત પરિણામ પત્રક '!G13) | N13: =SUM(H13:M13) -> 0 | O13: =IF(N13>159,"A",IF(N13>129,"B",IF(N13>99,"C",IF(N13>69,"D",IF(N13>0,"E",""))))) | R13: =IF('વાર્ષિક પરિણામ પત્રક '!$C13="","",'વાર્ષિક પરિણામ પત્રક '!C13) -> 6 | S13: =IF('સત્રાંત પરિણામ પત્રક '!J13="","",'સત્રાંત પરિણામ પત્રક '!J13) | T13: =IF('સત્રાંત પરિણામ પત્રક '!K13="","",'સત્રાંત પરિણામ પત્રક '!K13) | U13: =IF('સત્રાંત પરિણામ પત્રક '!L13="","",'સત્રાંત પરિણામ પત્રક '!L13) | Y13: =SUM(S13:X13) -> 0 | Z13: =IF(Y13>159,"A",IF(Y13>129,"B",IF(Y13>99,"C",IF(Y13>69,"D",IF(Y13>0,"E",""))))) | AA13: =IF('સત્રાંત પરિણામ પત્રક '!R13="","",'સત્રાંત પરિણામ પત્રક '!R13) | AB13: =IF('સત્રાંત પરિણામ પત્રક '!S13="","",'સત્રાંત પરિણામ પત્રક '!S13) | AC13: =IF('સત્રાંત પરિણામ પત્રક '!T13="","",'સત્રાંત પરિણામ પત્રક '!T13) | AG13: =SUM(AA13:AF13) -> 0 | AH13: =IF(AG13>159,"A",IF(AG13>129,"B",IF(AG13>99,"C",IF(AG13>69,"D",IF(AG13>0,"E",""))))) | AI13: =IF('સત્રાંત પરિણામ પત્રક '!W13="","",'સત્રાંત પરિણામ પત્રક '!W13) | AJ13: =IF('સત્રાંત પરિણામ પત્રક '!X13="","",'સત્રાંત પરિણામ પત્રક '!X13) | AK13: =IF('સત્રાંત પરિણામ પત્રક '!Y13="","",'સત્રાંત પરિણામ પત્રક '!Y13) | AO13: =SUM(AI13:AN13) -> 0 | AP13: =IF(AO13>159,"A",IF(AO13>129,"B",IF(AO13>99,"C",IF(AO13>69,"D",IF(AO13>0,"E",""))))) | AQ13: =IF('વાર્ષિક પરિણામ પત્રક '!$C13="","",'વાર્ષિક પરિણામ પત્રક '!C13) -> 6 | AR13: =IF('સત્રાંત પરિણામ પત્રક '!AB13="","",'સત્રાંત પરિણામ પત્રક '!AB13) | AS13: =IF('સત્રાંત પરિણામ પત્રક '!AC13="","",'સત્રાંત પરિણામ પત્રક '!AC13) | AT13: =IF('સત્રાંત પરિણામ પત્રક '!AD13="","",'સત્રાંત પરિણામ પત્રક '!AD13) | AX13: =SUM(AR13:AW13) -> 0 | AY13: =IF(AX13>159,"A",IF(AX13>129,"B",IF(AX13>99,"C",IF(AX13>69,"D",IF(AX13>0,"E",""))))) | AZ13: =IF('સત્રાંત પરિણામ પત્રક '!AH13="","",'સત્રાંત પરિણામ પત્રક '!AH13) | BA13: =IF('સત્રાંત પરિણામ પત્રક '!AI13="","",'સત્રાંત પરિણામ પત્રક '!AI13) | BB13: =IF('સત્રાંત પરિણામ પત્રક '!AJ13="","",'સત્રાંત પરિણામ પત્રક '!AJ13) | BF13: =SUM(AZ13:BE13) -> 0 | BG13: =IF(BF13>159,"A",IF(BF13>129,"B",IF(BF13>99,"C",IF(BF13>69,"D",IF(BF13>0,"E",""))))) | BH13: =IF('સત્રાંત પરિણામ પત્રક '!AM13="","",'સત્રાંત પરિણામ પત્રક '!AM13) | BI13: =IF('સત્રાંત પરિણામ પત્રક '!AN13="","",'સત્રાંત પરિણામ પત્રક '!AN13) | BJ13: =IF('સત્રાંત પરિણામ પત્રક '!AO13="","",'સત્રાંત પરિણામ પત્રક '!AO13) | BN13: =SUM(BH13:BM13) -> 0 | BO13: =IF(BN13>159,"A",IF(BN13>129,"B",IF(BN13>99,"C",IF(BN13>69,"D",IF(BN13>0,"E",""))))) | BR13: =IF('વાર્ષિક પરિણામ પત્રક '!$C13="","",'વાર્ષિક પરિણામ પત્રક '!C13) -> 6 | BT13: =IF(BS13>319,"A",IF(BS13>259,"B",IF(BS13>199,"C",IF(BS13>139,"D",IF(BS13>0,"E",""))))) | BU13: =N13+Y13+AG13+AO13+AX13+BF13+BN13+BS13 -> 0 | BV13: =BU13/18 -> 0 | BW13: =IF(BU13>1439,"A",IF(BU13>1169,"B",IF(BU13>899,"C",IF(BU13>629,"D",IF(BU13>0,"E","")))))
A14: =IF('DATA ENTRY'!$N9="","",'DATA ENTRY'!N9) | B14: =IF('DATA ENTRY'!$P9="","",'DATA ENTRY'!P9) | C14: =IF('DATA ENTRY'!$L9="","",'DATA ENTRY'!L9) -> 7 | D14: =IF('DATA ENTRY'!$M9="","",'DATA ENTRY'!M9) | E14: =IF('DATA ENTRY'!$Q9="","",'DATA ENTRY'!Q9) | F14: =IF('DATA ENTRY'!$R9="","",'DATA ENTRY'!R9) | G14: =IF('DATA ENTRY'!$S9="","",'DATA ENTRY'!S9) | H14: =IF('સત્રાંત પરિણામ પત્રક '!E14="","",'સત્રાંત પરિણામ પત્રક '!E14) | I14: =IF('સત્રાંત પરિણામ પત્રક '!F14="","",'સત્રાંત પરિણામ પત્રક '!F14) | J14: =IF('સત્રાંત પરિણામ પત્રક '!G14="","",'સત્રાંત પરિણામ પત્રક '!G14) | N14: =SUM(H14:M14) -> 0 | O14: =IF(N14>159,"A",IF(N14>129,"B",IF(N14>99,"C",IF(N14>69,"D",IF(N14>0,"E",""))))) | R14: =IF('વાર્ષિક પરિણામ પત્રક '!$C14="","",'વાર્ષિક પરિણામ પત્રક '!C14) -> 7 | S14: =IF('સત્રાંત પરિણામ પત્રક '!J14="","",'સત્રાંત પરિણામ પત્રક '!J14) | T14: =IF('સત્રાંત પરિણામ પત્રક '!K14="","",'સત્રાંત પરિણામ પત્રક '!K14) | U14: =IF('સત્રાંત પરિણામ પત્રક '!L14="","",'સત્રાંત પરિણામ પત્રક '!L14) | Y14: =SUM(S14:X14) -> 0 | Z14: =IF(Y14>159,"A",IF(Y14>129,"B",IF(Y14>99,"C",IF(Y14>69,"D",IF(Y14>0,"E",""))))) | AA14: =IF('સત્રાંત પરિણામ પત્રક '!R14="","",'સત્રાંત પરિણામ પત્રક '!R14) | AB14: =IF('સત્રાંત પરિણામ પત્રક '!S14="","",'સત્રાંત પરિણામ પત્રક '!S14) | AC14: =IF('સત્રાંત પરિણામ પત્રક '!T14="","",'સત્રાંત પરિણામ પત્રક '!T14) | AG14: =SUM(AA14:AF14) -> 0 | AH14: =IF(AG14>159,"A",IF(AG14>129,"B",IF(AG14>99,"C",IF(AG14>69,"D",IF(AG14>0,"E",""))))) | AI14: =IF('સત્રાંત પરિણામ પત્રક '!W14="","",'સત્રાંત પરિણામ પત્રક '!W14) | AJ14: =IF('સત્રાંત પરિણામ પત્રક '!X14="","",'સત્રાંત પરિણામ પત્રક '!X14) | AK14: =IF('સત્રાંત પરિણામ પત્રક '!Y14="","",'સત્રાંત પરિણામ પત્રક '!Y14) | AO14: =SUM(AI14:AN14) -> 0 | AP14: =IF(AO14>159,"A",IF(AO14>129,"B",IF(AO14>99,"C",IF(AO14>69,"D",IF(AO14>0,"E",""))))) | AQ14: =IF('વાર્ષિક પરિણામ પત્રક '!$C14="","",'વાર્ષિક પરિણામ પત્રક '!C14) -> 7 | AR14: =IF('સત્રાંત પરિણામ પત્રક '!AB14="","",'સત્રાંત પરિણામ પત્રક '!AB14) | AS14: =IF('સત્રાંત પરિણામ પત્રક '!AC14="","",'સત્રાંત પરિણામ પત્રક '!AC14) | AT14: =IF('સત્રાંત પરિણામ પત્રક '!AD14="","",'સત્રાંત પરિણામ પત્રક '!AD14) | AX14: =SUM(AR14:AW14) -> 0 | AY14: =IF(AX14>159,"A",IF(AX14>129,"B",IF(AX14>99,"C",IF(AX14>69,"D",IF(AX14>0,"E",""))))) | AZ14: =IF('સત્રાંત પરિણામ પત્રક '!AH14="","",'સત્રાંત પરિણામ પત્રક '!AH14) | BA14: =IF('સત્રાંત પરિણામ પત્રક '!AI14="","",'સત્રાંત પરિણામ પત્રક '!AI14) | BB14: =IF('સત્રાંત પરિણામ પત્રક '!AJ14="","",'સત્રાંત પરિણામ પત્રક '!AJ14) | BF14: =SUM(AZ14:BE14) -> 0 | BG14: =IF(BF14>159,"A",IF(BF14>129,"B",IF(BF14>99,"C",IF(BF14>69,"D",IF(BF14>0,"E",""))))) | BH14: =IF('સત્રાંત પરિણામ પત્રક '!AM14="","",'સત્રાંત પરિણામ પત્રક '!AM14) | BI14: =IF('સત્રાંત પરિણામ પત્રક '!AN14="","",'સત્રાંત પરિણામ પત્રક '!AN14) | BJ14: =IF('સત્રાંત પરિણામ પત્રક '!AO14="","",'સત્રાંત પરિણામ પત્રક '!AO14) | BN14: =SUM(BH14:BM14) -> 0 | BO14: =IF(BN14>159,"A",IF(BN14>129,"B",IF(BN14>99,"C",IF(BN14>69,"D",IF(BN14>0,"E",""))))) | BR14: =IF('વાર્ષિક પરિણામ પત્રક '!$C14="","",'વાર્ષિક પરિણામ પત્રક '!C14) -> 7 | BT14: =IF(BS14>319,"A",IF(BS14>259,"B",IF(BS14>199,"C",IF(BS14>139,"D",IF(BS14>0,"E",""))))) | BU14: =N14+Y14+AG14+AO14+AX14+BF14+BN14+BS14 -> 0 | BV14: =BU14/18 -> 0 | BW14: =IF(BU14>1439,"A",IF(BU14>1169,"B",IF(BU14>899,"C",IF(BU14>629,"D",IF(BU14>0,"E","")))))
A15: =IF('DATA ENTRY'!$N10="","",'DATA ENTRY'!N10) | B15: =IF('DATA ENTRY'!$P10="","",'DATA ENTRY'!P10) | C15: =IF('DATA ENTRY'!$L10="","",'DATA ENTRY'!L10) -> 8 | D15: =IF('DATA ENTRY'!$M10="","",'DATA ENTRY'!M10) | E15: =IF('DATA ENTRY'!$Q10="","",'DATA ENTRY'!Q10) | F15: =IF('DATA ENTRY'!$R10="","",'DATA ENTRY'!R10) | G15: =IF('DATA ENTRY'!$S10="","",'DATA ENTRY'!S10) | H15: =IF('સત્રાંત પરિણામ પત્રક '!E15="","",'સત્રાંત પરિણામ પત્રક '!E15) | I15: =IF('સત્રાંત પરિણામ પત્રક '!F15="","",'સત્રાંત પરિણામ પત્રક '!F15) | J15: =IF('સત્રાંત પરિણામ પત્રક '!G15="","",'સત્રાંત પરિણામ પત્રક '!G15) | N15: =SUM(H15:M15) -> 0 | O15: =IF(N15>159,"A",IF(N15>129,"B",IF(N15>99,"C",IF(N15>69,"D",IF(N15>0,"E",""))))) | R15: =IF('વાર્ષિક પરિણામ પત્રક '!$C15="","",'વાર્ષિક પરિણામ પત્રક '!C15) -> 8 | S15: =IF('સત્રાંત પરિણામ પત્રક '!J15="","",'સત્રાંત પરિણામ પત્રક '!J15) | T15: =IF('સત્રાંત પરિણામ પત્રક '!K15="","",'સત્રાંત પરિણામ પત્રક '!K15) | U15: =IF('સત્રાંત પરિણામ પત્રક '!L15="","",'સત્રાંત પરિણામ પત્રક '!L15) | Y15: =SUM(S15:X15) -> 0 | Z15: =IF(Y15>159,"A",IF(Y15>129,"B",IF(Y15>99,"C",IF(Y15>69,"D",IF(Y15>0,"E",""))))) | AA15: =IF('સત્રાંત પરિણામ પત્રક '!R15="","",'સત્રાંત પરિણામ પત્રક '!R15) | AB15: =IF('સત્રાંત પરિણામ પત્રક '!S15="","",'સત્રાંત પરિણામ પત્રક '!S15) | AC15: =IF('સત્રાંત પરિણામ પત્રક '!T15="","",'સત્રાંત પરિણામ પત્રક '!T15) | AG15: =SUM(AA15:AF15) -> 0 | AH15: =IF(AG15>159,"A",IF(AG15>129,"B",IF(AG15>99,"C",IF(AG15>69,"D",IF(AG15>0,"E",""))))) | AI15: =IF('સત્રાંત પરિણામ પત્રક '!W15="","",'સત્રાંત પરિણામ પત્રક '!W15) | AJ15: =IF('સત્રાંત પરિણામ પત્રક '!X15="","",'સત્રાંત પરિણામ પત્રક '!X15) | AK15: =IF('સત્રાંત પરિણામ પત્રક '!Y15="","",'સત્રાંત પરિણામ પત્રક '!Y15) | AO15: =SUM(AI15:AN15) -> 0 | AP15: =IF(AO15>159,"A",IF(AO15>129,"B",IF(AO15>99,"C",IF(AO15>69,"D",IF(AO15>0,"E",""))))) | AQ15: =IF('વાર્ષિક પરિણામ પત્રક '!$C15="","",'વાર્ષિક પરિણામ પત્રક '!C15) -> 8 | AR15: =IF('સત્રાંત પરિણામ પત્રક '!AB15="","",'સત્રાંત પરિણામ પત્રક '!AB15) | AS15: =IF('સત્રાંત પરિણામ પત્રક '!AC15="","",'સત્રાંત પરિણામ પત્રક '!AC15) | AT15: =IF('સત્રાંત પરિણામ પત્રક '!AD15="","",'સત્રાંત પરિણામ પત્રક '!AD15) | AX15: =SUM(AR15:AW15) -> 0 | AY15: =IF(AX15>159,"A",IF(AX15>129,"B",IF(AX15>99,"C",IF(AX15>69,"D",IF(AX15>0,"E",""))))) | AZ15: =IF('સત્રાંત પરિણામ પત્રક '!AH15="","",'સત્રાંત પરિણામ પત્રક '!AH15) | BA15: =IF('સત્રાંત પરિણામ પત્રક '!AI15="","",'સત્રાંત પરિણામ પત્રક '!AI15) | BB15: =IF('સત્રાંત પરિણામ પત્રક '!AJ15="","",'સત્રાંત પરિણામ પત્રક '!AJ15) | BF15: =SUM(AZ15:BE15) -> 0 | BG15: =IF(BF15>159,"A",IF(BF15>129,"B",IF(BF15>99,"C",IF(BF15>69,"D",IF(BF15>0,"E",""))))) | BH15: =IF('સત્રાંત પરિણામ પત્રક '!AM15="","",'સત્રાંત પરિણામ પત્રક '!AM15) | BI15: =IF('સત્રાંત પરિણામ પત્રક '!AN15="","",'સત્રાંત પરિણામ પત્રક '!AN15) | BJ15: =IF('સત્રાંત પરિણામ પત્રક '!AO15="","",'સત્રાંત પરિણામ પત્રક '!AO15) | BN15: =SUM(BH15:BM15) -> 0 | BO15: =IF(BN15>159,"A",IF(BN15>129,"B",IF(BN15>99,"C",IF(BN15>69,"D",IF(BN15>0,"E",""))))) | BR15: =IF('વાર્ષિક પરિણામ પત્રક '!$C15="","",'વાર્ષિક પરિણામ પત્રક '!C15) -> 8 | BT15: =IF(BS15>319,"A",IF(BS15>259,"B",IF(BS15>199,"C",IF(BS15>139,"D",IF(BS15>0,"E",""))))) | BU15: =N15+Y15+AG15+AO15+AX15+BF15+BN15+BS15 -> 0 | BV15: =BU15/18 -> 0 | BW15: =IF(BU15>1439,"A",IF(BU15>1169,"B",IF(BU15>899,"C",IF(BU15>629,"D",IF(BU15>0,"E","")))))
A16: =IF('DATA ENTRY'!$N11="","",'DATA ENTRY'!N11) | B16: =IF('DATA ENTRY'!$P11="","",'DATA ENTRY'!P11) | C16: =IF('DATA ENTRY'!$L11="","",'DATA ENTRY'!L11) -> 9 | D16: =IF('DATA ENTRY'!$M11="","",'DATA ENTRY'!M11) | E16: =IF('DATA ENTRY'!$Q11="","",'DATA ENTRY'!Q11) | F16: =IF('DATA ENTRY'!$R11="","",'DATA ENTRY'!R11) | G16: =IF('DATA ENTRY'!$S11="","",'DATA ENTRY'!S11) | H16: =IF('સત્રાંત પરિણામ પત્રક '!E16="","",'સત્રાંત પરિણામ પત્રક '!E16) | I16: =IF('સત્રાંત પરિણામ પત્રક '!F16="","",'સત્રાંત પરિણામ પત્રક '!F16) | J16: =IF('સત્રાંત પરિણામ પત્રક '!G16="","",'સત્રાંત પરિણામ પત્રક '!G16) | N16: =SUM(H16:M16) -> 0 | O16: =IF(N16>159,"A",IF(N16>129,"B",IF(N16>99,"C",IF(N16>69,"D",IF(N16>0,"E",""))))) | R16: =IF('વાર્ષિક પરિણામ પત્રક '!$C16="","",'વાર્ષિક પરિણામ પત્રક '!C16) -> 9 | S16: =IF('સત્રાંત પરિણામ પત્રક '!J16="","",'સત્રાંત પરિણામ પત્રક '!J16) | T16: =IF('સત્રાંત પરિણામ પત્રક '!K16="","",'સત્રાંત પરિણામ પત્રક '!K16) | U16: =IF('સત્રાંત પરિણામ પત્રક '!L16="","",'સત્રાંત પરિણામ પત્રક '!L16) | Y16: =SUM(S16:X16) -> 0 | Z16: =IF(Y16>159,"A",IF(Y16>129,"B",IF(Y16>99,"C",IF(Y16>69,"D",IF(Y16>0,"E",""))))) | AA16: =IF('સત્રાંત પરિણામ પત્રક '!R16="","",'સત્રાંત પરિણામ પત્રક '!R16) | AB16: =IF('સત્રાંત પરિણામ પત્રક '!S16="","",'સત્રાંત પરિણામ પત્રક '!S16) | AC16: =IF('સત્રાંત પરિણામ પત્રક '!T16="","",'સત્રાંત પરિણામ પત્રક '!T16) | AG16: =SUM(AA16:AF16) -> 0 | AH16: =IF(AG16>159,"A",IF(AG16>129,"B",IF(AG16>99,"C",IF(AG16>69,"D",IF(AG16>0,"E",""))))) | AI16: =IF('સત્રાંત પરિણામ પત્રક '!W16="","",'સત્રાંત પરિણામ પત્રક '!W16) | AJ16: =IF('સત્રાંત પરિણામ પત્રક '!X16="","",'સત્રાંત પરિણામ પત્રક '!X16) | AK16: =IF('સત્રાંત પરિણામ પત્રક '!Y16="","",'સત્રાંત પરિણામ પત્રક '!Y16) | AO16: =SUM(AI16:AN16) -> 0 | AP16: =IF(AO16>159,"A",IF(AO16>129,"B",IF(AO16>99,"C",IF(AO16>69,"D",IF(AO16>0,"E",""))))) | AQ16: =IF('વાર્ષિક પરિણામ પત્રક '!$C16="","",'વાર્ષિક પરિણામ પત્રક '!C16) -> 9 | AR16: =IF('સત્રાંત પરિણામ પત્રક '!AB16="","",'સત્રાંત પરિણામ પત્રક '!AB16) | AS16: =IF('સત્રાંત પરિણામ પત્રક '!AC16="","",'સત્રાંત પરિણામ પત્રક '!AC16) | AT16: =IF('સત્રાંત પરિણામ પત્રક '!AD16="","",'સત્રાંત પરિણામ પત્રક '!AD16) | AX16: =SUM(AR16:AW16) -> 0 | AY16: =IF(AX16>159,"A",IF(AX16>129,"B",IF(AX16>99,"C",IF(AX16>69,"D",IF(AX16>0,"E",""))))) | AZ16: =IF('સત્રાંત પરિણામ પત્રક '!AH16="","",'સત્રાંત પરિણામ પત્રક '!AH16) | BA16: =IF('સત્રાંત પરિણામ પત્રક '!AI16="","",'સત્રાંત પરિણામ પત્રક '!AI16) | BB16: =IF('સત્રાંત પરિણામ પત્રક '!AJ16="","",'સત્રાંત પરિણામ પત્રક '!AJ16) | BF16: =SUM(AZ16:BE16) -> 0 | BG16: =IF(BF16>159,"A",IF(BF16>129,"B",IF(BF16>99,"C",IF(BF16>69,"D",IF(BF16>0,"E",""))))) | BH16: =IF('સત્રાંત પરિણામ પત્રક '!AM16="","",'સત્રાંત પરિણામ પત્રક '!AM16) | BI16: =IF('સત્રાંત પરિણામ પત્રક '!AN16="","",'સત્રાંત પરિણામ પત્રક '!AN16) | BJ16: =IF('સત્રાંત પરિણામ પત્રક '!AO16="","",'સત્રાંત પરિણામ પત્રક '!AO16) | BN16: =SUM(BH16:BM16) -> 0 | BO16: =IF(BN16>159,"A",IF(BN16>129,"B",IF(BN16>99,"C",IF(BN16>69,"D",IF(BN16>0,"E",""))))) | BR16: =IF('વાર્ષિક પરિણામ પત્રક '!$C16="","",'વાર્ષિક પરિણામ પત્રક '!C16) -> 9 | BT16: =IF(BS16>319,"A",IF(BS16>259,"B",IF(BS16>199,"C",IF(BS16>139,"D",IF(BS16>0,"E",""))))) | BU16: =N16+Y16+AG16+AO16+AX16+BF16+BN16+BS16 -> 0 | BV16: =BU16/18 -> 0 | BW16: =IF(BU16>1439,"A",IF(BU16>1169,"B",IF(BU16>899,"C",IF(BU16>629,"D",IF(BU16>0,"E","")))))
A17: =IF('DATA ENTRY'!$N12="","",'DATA ENTRY'!N12) | B17: =IF('DATA ENTRY'!$P12="","",'DATA ENTRY'!P12) | C17: =IF('DATA ENTRY'!$L12="","",'DATA ENTRY'!L12) -> 10 | D17: =IF('DATA ENTRY'!$M12="","",'DATA ENTRY'!M12) | E17: =IF('DATA ENTRY'!$Q12="","",'DATA ENTRY'!Q12) | F17: =IF('DATA ENTRY'!$R12="","",'DATA ENTRY'!R12) | G17: =IF('DATA ENTRY'!$S12="","",'DATA ENTRY'!S12) | H17: =IF('સત્રાંત પરિણામ પત્રક '!E17="","",'સત્રાંત પરિણામ પત્રક '!E17) | I17: =IF('સત્રાંત પરિણામ પત્રક '!F17="","",'સત્રાંત પરિણામ પત્રક '!F17) | J17: =IF('સત્રાંત પરિણામ પત્રક '!G17="","",'સત્રાંત પરિણામ પત્રક '!G17) | N17: =SUM(H17:M17) -> 0 | O17: =IF(N17>159,"A",IF(N17>129,"B",IF(N17>99,"C",IF(N17>69,"D",IF(N17>0,"E",""))))) | R17: =IF('વાર્ષિક પરિણામ પત્રક '!$C17="","",'વાર્ષિક પરિણામ પત્રક '!C17) -> 10 | S17: =IF('સત્રાંત પરિણામ પત્રક '!J17="","",'સત્રાંત પરિણામ પત્રક '!J17) | T17: =IF('સત્રાંત પરિણામ પત્રક '!K17="","",'સત્રાંત પરિણામ પત્રક '!K17) | U17: =IF('સત્રાંત પરિણામ પત્રક '!L17="","",'સત્રાંત પરિણામ પત્રક '!L17) | Y17: =SUM(S17:X17) -> 0 | Z17: =IF(Y17>159,"A",IF(Y17>129,"B",IF(Y17>99,"C",IF(Y17>69,"D",IF(Y17>0,"E",""))))) | AA17: =IF('સત્રાંત પરિણામ પત્રક '!R17="","",'સત્રાંત પરિણામ પત્રક '!R17) | AB17: =IF('સત્રાંત પરિણામ પત્રક '!S17="","",'સત્રાંત પરિણામ પત્રક '!S17) | AC17: =IF('સત્રાંત પરિણામ પત્રક '!T17="","",'સત્રાંત પરિણામ પત્રક '!T17) | AG17: =SUM(AA17:AF17) -> 0 | AH17: =IF(AG17>159,"A",IF(AG17>129,"B",IF(AG17>99,"C",IF(AG17>69,"D",IF(AG17>0,"E",""))))) | AI17: =IF('સત્રાંત પરિણામ પત્રક '!W17="","",'સત્રાંત પરિણામ પત્રક '!W17) | AJ17: =IF('સત્રાંત પરિણામ પત્રક '!X17="","",'સત્રાંત પરિણામ પત્રક '!X17) | AK17: =IF('સત્રાંત પરિણામ પત્રક '!Y17="","",'સત્રાંત પરિણામ પત્રક '!Y17) | AO17: =SUM(AI17:AN17) -> 0 | AP17: =IF(AO17>159,"A",IF(AO17>129,"B",IF(AO17>99,"C",IF(AO17>69,"D",IF(AO17>0,"E",""))))) | AQ17: =IF('વાર્ષિક પરિણામ પત્રક '!$C17="","",'વાર્ષિક પરિણામ પત્રક '!C17) -> 10 | AR17: =IF('સત્રાંત પરિણામ પત્રક '!AB17="","",'સત્રાંત પરિણામ પત્રક '!AB17) | AS17: =IF('સત્રાંત પરિણામ પત્રક '!AC17="","",'સત્રાંત પરિણામ પત્રક '!AC17) | AT17: =IF('સત્રાંત પરિણામ પત્રક '!AD17="","",'સત્રાંત પરિણામ પત્રક '!AD17) | AX17: =SUM(AR17:AW17) -> 0 | AY17: =IF(AX17>159,"A",IF(AX17>129,"B",IF(AX17>99,"C",IF(AX17>69,"D",IF(AX17>0,"E",""))))) | AZ17: =IF('સત્રાંત પરિણામ પત્રક '!AH17="","",'સત્રાંત પરિણામ પત્રક '!AH17) | BA17: =IF('સત્રાંત પરિણામ પત્રક '!AI17="","",'સત્રાંત પરિણામ પત્રક '!AI17) | BB17: =IF('સત્રાંત પરિણામ પત્રક '!AJ17="","",'સત્રાંત પરિણામ પત્રક '!AJ17) | BF17: =SUM(AZ17:BE17) -> 0 | BG17: =IF(BF17>159,"A",IF(BF17>129,"B",IF(BF17>99,"C",IF(BF17>69,"D",IF(BF17>0,"E",""))))) | BH17: =IF('સત્રાંત પરિણામ પત્રક '!AM17="","",'સત્રાંત પરિણામ પત્રક '!AM17) | BI17: =IF('સત્રાંત પરિણામ પત્રક '!AN17="","",'સત્રાંત પરિણામ પત્રક '!AN17) | BJ17: =IF('સત્રાંત પરિણામ પત્રક '!AO17="","",'સત્રાંત પરિણામ પત્રક '!AO17) | BN17: =SUM(BH17:BM17) -> 0 | BO17: =IF(BN17>159,"A",IF(BN17>129,"B",IF(BN17>99,"C",IF(BN17>69,"D",IF(BN17>0,"E",""))))) | BR17: =IF('વાર્ષિક પરિણામ પત્રક '!$C17="","",'વાર્ષિક પરિણામ પત્રક '!C17) -> 10 | BT17: =IF(BS17>319,"A",IF(BS17>259,"B",IF(BS17>199,"C",IF(BS17>139,"D",IF(BS17>0,"E",""))))) | BU17: =N17+Y17+AG17+AO17+AX17+BF17+BN17+BS17 -> 0 | BV17: =BU17/18 -> 0 | BW17: =IF(BU17>1439,"A",IF(BU17>1169,"B",IF(BU17>899,"C",IF(BU17>629,"D",IF(BU17>0,"E","")))))
A18: =IF('DATA ENTRY'!$N13="","",'DATA ENTRY'!N13) | B18: =IF('DATA ENTRY'!$P13="","",'DATA ENTRY'!P13) | C18: =IF('DATA ENTRY'!$L13="","",'DATA ENTRY'!L13) -> 11 | D18: =IF('DATA ENTRY'!$M13="","",'DATA ENTRY'!M13) | E18: =IF('DATA ENTRY'!$Q13="","",'DATA ENTRY'!Q13) | F18: =IF('DATA ENTRY'!$R13="","",'DATA ENTRY'!R13) | G18: =IF('DATA ENTRY'!$S13="","",'DATA ENTRY'!S13) | H18: =IF('સત્રાંત પરિણામ પત્રક '!E18="","",'સત્રાંત પરિણામ પત્રક '!E18) | I18: =IF('સત્રાંત પરિણામ પત્રક '!F18="","",'સત્રાંત પરિણામ પત્રક '!F18) | J18: =IF('સત્રાંત પરિણામ પત્રક '!G18="","",'સત્રાંત પરિણામ પત્રક '!G18) | N18: =SUM(H18:M18) -> 0 | O18: =IF(N18>159,"A",IF(N18>129,"B",IF(N18>99,"C",IF(N18>69,"D",IF(N18>0,"E",""))))) | R18: =IF('વાર્ષિક પરિણામ પત્રક '!$C18="","",'વાર્ષિક પરિણામ પત્રક '!C18) -> 11 | S18: =IF('સત્રાંત પરિણામ પત્રક '!J18="","",'સત્રાંત પરિણામ પત્રક '!J18) | T18: =IF('સત્રાંત પરિણામ પત્રક '!K18="","",'સત્રાંત પરિણામ પત્રક '!K18) | U18: =IF('સત્રાંત પરિણામ પત્રક '!L18="","",'સત્રાંત પરિણામ પત્રક '!L18) | Y18: =SUM(S18:X18) -> 0 | Z18: =IF(Y18>159,"A",IF(Y18>129,"B",IF(Y18>99,"C",IF(Y18>69,"D",IF(Y18>0,"E",""))))) | AA18: =IF('સત્રાંત પરિણામ પત્રક '!R18="","",'સત્રાંત પરિણામ પત્રક '!R18) | AB18: =IF('સત્રાંત પરિણામ પત્રક '!S18="","",'સત્રાંત પરિણામ પત્રક '!S18) | AC18: =IF('સત્રાંત પરિણામ પત્રક '!T18="","",'સત્રાંત પરિણામ પત્રક '!T18) | AG18: =SUM(AA18:AF18) -> 0 | AH18: =IF(AG18>159,"A",IF(AG18>129,"B",IF(AG18>99,"C",IF(AG18>69,"D",IF(AG18>0,"E",""))))) | AI18: =IF('સત્રાંત પરિણામ પત્રક '!W18="","",'સત્રાંત પરિણામ પત્રક '!W18) | AJ18: =IF('સત્રાંત પરિણામ પત્રક '!X18="","",'સત્રાંત પરિણામ પત્રક '!X18) | AK18: =IF('સત્રાંત પરિણામ પત્રક '!Y18="","",'સત્રાંત પરિણામ પત્રક '!Y18) | AO18: =SUM(AI18:AN18) -> 0 | AP18: =IF(AO18>159,"A",IF(AO18>129,"B",IF(AO18>99,"C",IF(AO18>69,"D",IF(AO18>0,"E",""))))) | AQ18: =IF('વાર્ષિક પરિણામ પત્રક '!$C18="","",'વાર્ષિક પરિણામ પત્રક '!C18) -> 11 | AR18: =IF('સત્રાંત પરિણામ પત્રક '!AB18="","",'સત્રાંત પરિણામ પત્રક '!AB18) | AS18: =IF('સત્રાંત પરિણામ પત્રક '!AC18="","",'સત્રાંત પરિણામ પત્રક '!AC18) | AT18: =IF('સત્રાંત પરિણામ પત્રક '!AD18="","",'સત્રાંત પરિણામ પત્રક '!AD18) | AX18: =SUM(AR18:AW18) -> 0 | AY18: =IF(AX18>159,"A",IF(AX18>129,"B",IF(AX18>99,"C",IF(AX18>69,"D",IF(AX18>0,"E",""))))) | AZ18: =IF('સત્રાંત પરિણામ પત્રક '!AH18="","",'સત્રાંત પરિણામ પત્રક '!AH18) | BA18: =IF('સત્રાંત પરિણામ પત્રક '!AI18="","",'સત્રાંત પરિણામ પત્રક '!AI18) | BB18: =IF('સત્રાંત પરિણામ પત્રક '!AJ18="","",'સત્રાંત પરિણામ પત્રક '!AJ18) | BF18: =SUM(AZ18:BE18) -> 0 | BG18: =IF(BF18>159,"A",IF(BF18>129,"B",IF(BF18>99,"C",IF(BF18>69,"D",IF(BF18>0,"E",""))))) | BH18: =IF('સત્રાંત પરિણામ પત્રક '!AM18="","",'સત્રાંત પરિણામ પત્રક '!AM18) | BI18: =IF('સત્રાંત પરિણામ પત્રક '!AN18="","",'સત્રાંત પરિણામ પત્રક '!AN18) | BJ18: =IF('સત્રાંત પરિણામ પત્રક '!AO18="","",'સત્રાંત પરિણામ પત્રક '!AO18) | BN18: =SUM(BH18:BM18) -> 0 | BO18: =IF(BN18>159,"A",IF(BN18>129,"B",IF(BN18>99,"C",IF(BN18>69,"D",IF(BN18>0,"E",""))))) | BR18: =IF('વાર્ષિક પરિણામ પત્રક '!$C18="","",'વાર્ષિક પરિણામ પત્રક '!C18) -> 11 | BT18: =IF(BS18>319,"A",IF(BS18>259,"B",IF(BS18>199,"C",IF(BS18>139,"D",IF(BS18>0,"E",""))))) | BU18: =N18+Y18+AG18+AO18+AX18+BF18+BN18+BS18 -> 0 | BV18: =BU18/18 -> 0 | BW18: =IF(BU18>1439,"A",IF(BU18>1169,"B",IF(BU18>899,"C",IF(BU18>629,"D",IF(BU18>0,"E","")))))
