Workbook

Sheet HOME
E2: http://vinodpateltalodgam.blogspot.com
I4: શાળા / વિદ્યાર્થીઓની માહિતી
H5: S T D 6 7 8
B6: સત્રાંત ટાઇટલ પેઇઝ | I6: વાર્ષિક ટાઇટલ પેઇઝ
B8: સત્રાંત પરિણામ પત્રક | I8: વાર્ષિક પરિણામ પત્રક
B10: સત્રાંત વિષયવાર, જાતિવાર ગ્રેડ, ટકા | I10: વાર્ષિક વિષયવાર, જાતિવાર ગ્રેડ, ટકા
B12: સત્રાંત પરિણામ માર્કશીટ - ગુણ, ગ્રેડ | I12: વાર્ષિક પરિણામ વિષ્લેષણ
B14: વાર્ષિક પરિણામ - ગુણ, ગ્રેડ NEW | I14: વાર્ષિક પરિણામ માર્કશીટ - ગુણ, ગ્રેડ
B16: HELP | I16: વાર્ષિક પરિણામ માર્કશીટ - ગ્રેડ
F18: વિનોદકુમાર કે. પટેલ
F19: તલોદગામ પ્રાથમિક શાળા
F20: તા: તલોદ, જિ: સા.કાં. | J20: MO - 9426597892
B21: =TODAY() -> 46317 | I21: =NOW() -> 46317.923

Sheet DATA ENTRY
E2: DATA ENTRY | L2: ÊD G\AZ | M2: lJnFYL"G]\ GFD | N2: HFlT | P2: BOY / GIRL | Q2: HGZ, ZlH:8Z G\AZ | R2: HgD TFZLB | S2: CFHZ lNJ; | T2: CFHZL GF 8SF | U2: VFWFZ 0FI; G\AZ | V2: 5[G G\AZ | W2: V5FZ VF.P 0LP G\AZ | X2: ;\5S" G\AZ | Y2: ;ZGFD]\ | AI2: BOY | AJ2: GIRL
B3: lX1F6 ;lDlT o | E3: ;FAZSF\9F | J3: =E11 -> 0 | L3: 1 | T3: =ROUND(S3*100/J3,0) -> #DIV/0! | AG3: =DATEDIF(R3,TODAY(),"Y") -> 126 | AI3: GIRL | AJ3: OPEN | AM3: =G13-1 -> -1
B4: XF/FG]\ GFD o | E4: T,MN | J4: =J3 -> 0 | L4: 2 | T4: =ROUND(S4*100/J4,0) -> #DIV/0! | AG4: =DATEDIF(R4,TODAY(),"Y") -> 126 | AJ4: OBC | AM4: /
B5: UFD o | E5: T,MNUFD | J5: =J4 -> 0 | L5: 3 | T5: =ROUND(S5*100/J5,0) -> #DIV/0! | AG5: =DATEDIF(R5,TODAY(),"Y") -> 126 | AJ5: SC | AM5: =CONCATENATE(AM3,AM4,G13) -> -1/
B6: TF,]SM o | E6: T,MN | J6: =J5 -> 0 | L6: 4 | T6: =ROUND(S6*100/J6,0) -> #DIV/0! | AG6: =DATEDIF(R6,TODAY(),"Y") -> 126 | AJ6: ST
B7: lH<,M o | E7: ;FAZSF\9F | J7: =J6 -> 0 | L7: 5 | T7: =ROUND(S7*100/J7,0) -> #DIV/0! | AG7: =DATEDIF(R7,TODAY(),"Y") -> 126 | AM7: =G17 -> 2026
B8: WMZ6 o | E8: 6 | J8: =J7 -> 0 | L8: 6 | T8: =ROUND(S8*100/J8,0) -> #DIV/0! | AG8: =DATEDIF(R8,TODAY(),"Y") -> 126 | AM8: /
B9: JU" o | E9: - | J9: =J8 -> 0 | L9: 7 | T9: =ROUND(S9*100/J9,0) -> #DIV/0! | AG9: =DATEDIF(R9,TODAY(),"Y") -> 126 | AM9: =CONCATENATE(AM7,AM8,G17+1) -> 2026/2027
B10: JU" lX1FSG]\ GFD o | J10: =J9 -> 0 | L10: 8 | T10: =ROUND(S10*100/J10,0) -> #DIV/0! | AG10: =DATEDIF(R10,TODAY(),"Y") -> 126
B11: JQF"GF S], SFI" lNJ; o | J11: =J10 -> 0 | L11: 9 | T11: =ROUND(S11*100/J11,0) -> #DIV/0! | AG11: =DATEDIF(R11,TODAY(),"Y") -> 126 | AM11: =IF(G17="","",AM9) -> 2026/2027
B12: JFlQF"S 5lZ6FDGL | E12: TFZLB | F12: DF; | G12: JQF" | J12: =J11 -> 0 | L12: 10 | T12: =ROUND(S12*100/J12,0) -> #DIV/0! | AG12: =DATEDIF(R12,TODAY(),"Y") -> 126
B13: TFZLBo | H13: =DATE(G13,F13,E13) -> #NUM! | J13: =J12 -> 0 | L13: 11 | T13: =ROUND(S13*100/J13,0) -> #DIV/0! | AG13: =DATEDIF(R13,TODAY(),"Y") -> 126
B14: JQF" o | E14: =IF(G13="","",AM5) | J14: =J13 -> 0 | L14: 12 | T14: =ROUND(S14*100/J14,0) -> #DIV/0! | AG14: =DATEDIF(R14,TODAY(),"Y") -> 126
B15: ;LPVFZP;LP | J15: =J14 -> 0 | L15: 13 | T15: =ROUND(S15*100/J15,0) -> #DIV/0! | AG15: =DATEDIF(R15,TODAY(),"Y") -> 126
B16: ;+F\T 5lZ6FDGL | E16: TFZLB | F16: DF; | G16: JQF" | J16: =J15 -> 0 | L16: 14 | T16: =ROUND(S16*100/J16,0) -> #DIV/0! | AG16: =DATEDIF(R16,TODAY(),"Y") -> 126
B17: TFZLBo | E17: 5 | F17: 11 | G17: 2026 | H17: =DATE(G17,F17,E17) -> 46331 | J17: =J16 -> 0 | L17: 15 | T17: =ROUND(S17*100/J17,0) -> #DIV/0! | AG17: =DATEDIF(R17,TODAY(),"Y") -> 126
J18: =J17 -> 0 | L18: 16 | T18: =ROUND(S18*100/J18,0) -> #DIV/0! | AG18: =DATEDIF(R18,TODAY(),"Y") -> 126
J19: =J18 -> 0 | L19: 17 | T19: =ROUND(S19*100/J19,0) -> #DIV/0! | AG19: =DATEDIF(R19,TODAY(),"Y") -> 126
J20: =J19 -> 0 | L20: 18 | T20: =ROUND(S20*100/J20,0) -> #DIV/0! | AG20: =DATEDIF(R20,TODAY(),"Y") -> 126
J21: =J20 -> 0 | L21: 19 | T21: =ROUND(S21*100/J21,0) -> #DIV/0! | AG21: =DATEDIF(R21,TODAY(),"Y") -> 126
J22: =J21 -> 0 | L22: 20 | T22: =ROUND(S22*100/J22,0) -> #DIV/0! | AG22: =DATEDIF(R22,TODAY(),"Y") -> 126
J23: =J22 -> 0 | L23: 21 | T23: =ROUND(S23*100/J23,0) -> #DIV/0! | AG23: =DATEDIF(R23,TODAY(),"Y") -> 126
J24: =J23 -> 0 | L24: 22 | T24: =ROUND(S24*100/J24,0) -> #DIV/0! | AG24: =DATEDIF(R24,TODAY(),"Y") -> 126
J25: =J24 -> 0 | L25: 23 | T25: =ROUND(S25*100/J25,0) -> #DIV/0! | AG25: =DATEDIF(R25,TODAY(),"Y") -> 126
J26: =J25 -> 0 | L26: 24 | T26: =ROUND(S26*100/J26,0) -> #DIV/0! | AG26: =DATEDIF(R26,TODAY(),"Y") -> 126
J27: =J26 -> 0 | L27: 25 | T27: =ROUND(S27*100/J27,0) -> #DIV/0! | AG27: =DATEDIF(R27,TODAY(),"Y") -> 126
J28: =J27 -> 0 | L28: 26 | T28: =ROUND(S28*100/J28,0) -> #DIV/0! | AG28: =DATEDIF(R28,TODAY(),"Y") -> 126
J29: =J28 -> 0 | L29: 27 | T29: =ROUND(S29*100/J29,0) -> #DIV/0! | AG29: =DATEDIF(R29,TODAY(),"Y") -> 126
... J72: =J71 -> 0 | L72: 70 | T72: =ROUND(S72*100/J72,0) -> #DIV/0! | AG72: =DATEDIF(R72,TODAY(),"Y") -> 126

Sheet હોમ 
B10: આ પરિણામ પત્રક એડીસન અઝીઝ અને એડીસન પ્રિન્સ
B11: ફ્રોન્ટનો ઉપયોગ કરીને બનાવેલ છે. તેથી આ ફ્રોન્ટ તમારા
B12: કમ્પ્યૂટરમાં હોવા જરૂરી છે. જો તમારી પાસે આ ફ્રોન્ટ ના
B13: હોય તો નીચેના બ્લોગ પરથી ડાઉનલોડ કરી શકશો.
B14: વાર્ષિક પરિણામ પત્રકમાં ગુણ મૂકવાથી સત્રાંત પરિણામ પત્રક આપોઆપ બની જશે. ફ્રોન્ટ અને
B15: તેની સાઇઝ બદલવવા માટે સત્રાંત અને વાર્ષિક પરિણામમાં વિદ્યાર્થીના નામનું કોલમ સિલેક્ટ
B16: કરીને ફ્રોન્ટ અને તેની સાઇઝ બદલવી પછી એન્ટર આપવું. PASSWORD - VINOD
B18: http://vinodpateltalodgam.blogspot.in
B20: નોંધ:- આ પરિણામ પત્રકમાં કોઈ પણ ફ્રોન્ટનો
B21: ઉપયોગ કરીને લખી શકાશે.
B25: પટેલ વિનોદકુમાર કેશુભાઈ
B26: તલોદગામ પ્રાથમિક શાળા
B27: તા:- તલોદ , જી:- સાબરકાંઠા
B29: =TODAY() -> 46317 | H29: =NOW() -> 46317.923

Sheet સત્રાંત ટાઇટલ પેઇઝ 
C8: ;G[o | M8: =IF('DATA ENTRY'!$G17="","",'DATA ENTRY'!G17) -> 2026
C11: WMZ6o | M11: =IF('વાર્ષિક ટાઇટલ પેઇઝ '!$M11="","",'વાર્ષિક ટાઇટલ પેઇઝ '!M11) -> 6 | O11: =IF('વાર્ષિક ટાઇટલ પેઇઝ '!$O11="","",'વાર્ષિક ટાઇટલ પેઇઝ '!O11) -> -
C16: XF/FG]\GFDo | F16: =IF('વાર્ષિક ટાઇટલ પેઇઝ '!$F16="","",'વાર્ષિક ટાઇટલ પેઇઝ '!F16) -> T,MN
C17: UFDo | D17: =IF('વાર્ષિક ટાઇટલ પેઇઝ '!$D17="","",'વાર્ષિક ટાઇટલ પેઇઝ '!D17) -> T,MNUFD | L17: TF,]SMo | O17: =IF('વાર્ષિક ટાઇટલ પેઇઝ '!$O17="","",'વાર્ષિક ટાઇટલ પેઇઝ '!O17) -> T,MN
C18: lH<,Mo | D18: =IF('વાર્ષિક ટાઇટલ પેઇઝ '!$D18="","",'વાર્ષિક ટાઇટલ પેઇઝ '!D18) -> ;FAZSF\9F | L18: 5lZ6FD TFZLBo | R18: =IF('DATA ENTRY'!$H17="","",'DATA ENTRY'!H17) -> 46331
C19: JU"lX1FSG]\GFDo | G19: =IF('વાર્ષિક ટાઇટલ પેઇઝ '!$G19="","",'વાર્ષિક ટાઇટલ પેઇઝ '!G19)
C20: ;LPVFZP;LP o | G20: =IF('વાર્ષિક ટાઇટલ પેઇઝ '!$G20="","",'વાર્ષિક ટાઇટલ પેઇઝ '!G20)
C21: 5lZ6FDGL TFZLH
C22: HFlT | D22: ZÒP;\bIF | G22: D[/J[, V[S\NZ[ U|[0 | V22: GM\W
G25: A | J25: B | M25: C | P25: D | S25: E
D26: S]DFZ | E26: SgYF | F26: S], | G26: S]DFZ | H26: SgIF | I26: S], | J26: S]DFZ | K26: SgIF | L26: S], | M26: S]DFZ | N26: SgIF | O26: S], | P26: S]DFZ | Q26: SgIF | R26: S], | S26: S]DFZ | T26: SgIF | U26: S],
C27: VG]\PHFlT | D27: ='સત્રાંત પરિણામ પત્રક '!B82 -> 0 | E27: ='સત્રાંત પરિણામ પત્રક '!D82 -> 0 | F27: =D27+E27 -> 0 | G27: ='સત્રાંત વિષયવાર,જાતિવાર ગ્રેડ '!AS14 -> 0 | H27: ='સત્રાંત વિષયવાર,જાતિવાર ગ્રેડ '!AU14 -> 0 | I27: =G27+H27 -> 0 | J27: ='સત્રાંત વિષયવાર,જાતિવાર ગ્રેડ '!AS15 -> 0 | K27: ='સત્રાંત વિષયવાર,જાતિવાર ગ્રેડ '!AU15 -> 0 | L27: =J27+K27 -> 0 | M27: ='સત્રાંત વિષયવાર,જાતિવાર ગ્રેડ '!AS16 -> 0 | N27: ='સત્રાંત વિષયવાર,જાતિવાર ગ્રેડ '!AU16 -> 0 | O27: =M27+N27 -> 0 | P27: ='સત્રાંત વિષયવાર,જાતિવાર ગ્રેડ '!AS17 -> 0 | Q27: ='સત્રાંત વિષયવાર,જાતિવાર ગ્રેડ '!AU17 -> 0 | R27: =P27+Q27 -> 0 | S27: ='સત્રાંત વિષયવાર,જાતિવાર ગ્રેડ '!AS18 -> 0 | T27: ='સત્રાંત વિષયવાર,જાતિવાર ગ્રેડ '!AU18 -> 0 | U27: =S27+T27 -> 0
C28: VPHPHFlT | D28: ='સત્રાંત પરિણામ પત્રક '!B83 -> 0 | E28: ='સત્રાંત પરિણામ પત્રક '!D83 -> 0 | F28: =D28+E28 -> 0 | G28: ='સત્રાંત વિષયવાર,જાતિવાર ગ્રેડ '!AS20 -> 0 | H28: ='સત્રાંત વિષયવાર,જાતિવાર ગ્રેડ '!AU20 -> 0 | I28: =G28+H28 -> 0 | J28: ='સત્રાંત વિષયવાર,જાતિવાર ગ્રેડ '!AS21 -> 0 | K28: ='સત્રાંત વિષયવાર,જાતિવાર ગ્રેડ '!AU21 -> 0 | L28: =J28+K28 -> 0 | M28: ='સત્રાંત વિષયવાર,જાતિવાર ગ્રેડ '!AS22 -> 0 | N28: ='સત્રાંત વિષયવાર,જાતિવાર ગ્રેડ '!AU22 -> 0 | O28: =M28+N28 -> 0 | P28: ='સત્રાંત વિષયવાર,જાતિવાર ગ્રેડ '!AS23 -> 0 | Q28: ='સત્રાંત વિષયવાર,જાતિવાર ગ્રેડ '!AU23 -> 0 | R28: =P28+Q28 -> 0 | S28: ='સત્રાંત વિષયવાર,જાતિવાર ગ્રેડ '!AS24 -> 0 | T28: ='સત્રાંત વિષયવાર,જાતિવાર ગ્રેડ '!AU24 -> 0 | U28: =S28+T28 -> 0
C29: A1FL5\R | D29: ='સત્રાંત પરિણામ પત્રક '!B81 -> 0 | E29: ='સત્રાંત પરિણામ પત્રક '!D81 -> 0 | F29: =D29+E29 -> 0 | G29: ='સત્રાંત વિષયવાર,જાતિવાર ગ્રેડ '!AS8 -> 0 | H29: ='સત્રાંત વિષયવાર,જાતિવાર ગ્રેડ '!AU8 -> 0 | I29: =G29+H29 -> 0 | J29: ='સત્રાંત વિષયવાર,જાતિવાર ગ્રેડ '!AS9 -> 0 | K29: ='સત્રાંત વિષયવાર,જાતિવાર ગ્રેડ '!AU9 -> 0 | L29: =J29+K29 -> 0 | M29: ='સત્રાંત વિષયવાર,જાતિવાર ગ્રેડ '!AS10 -> 0 | N29: ='સત્રાંત વિષયવાર,જાતિવાર ગ્રેડ '!AU10 -> 0 | O29: =M29+N29 -> 0 | P29: ='સત્રાંત વિષયવાર,જાતિવાર ગ્રેડ '!AS11 -> 0 | Q29: ='સત્રાંત વિષયવાર,જાતિવાર ગ્રેડ '!AU11 -> 0 | R29: =P29+Q29 -> 0 | S29: ='સત્રાંત વિષયવાર,જાતિવાર ગ્રેડ '!AS12 -> 0 | T29: ='સત્રાંત વિષયવાર,જાતિવાર ગ્રેડ '!AU12 -> 0 | U29: =S29+T29 -> 0
C30: VgI | D30: ='સત્રાંત પરિણામ પત્રક '!B84 -> 0 | E30: ='સત્રાંત પરિણામ પત્રક '!D84 -> 0 | F30: =D30+E30 -> 0 | G30: ='સત્રાંત વિષયવાર,જાતિવાર ગ્રેડ '!AS26 -> 0 | H30: ='સત્રાંત વિષયવાર,જાતિવાર ગ્રેડ '!AU26 -> 0 | I30: =G30+H30 -> 0 | J30: ='સત્રાંત વિષયવાર,જાતિવાર ગ્રેડ '!AS27 -> 0 | K30: ='સત્રાંત વિષયવાર,જાતિવાર ગ્રેડ '!AU27 -> 0 | L30: =J30+K30 -> 0 | M30: ='સત્રાંત વિષયવાર,જાતિવાર ગ્રેડ '!AS28 -> 0 | N30: ='સત્રાંત વિષયવાર,જાતિવાર ગ્રેડ '!AU28 -> 0 | O30: =M30+N30 -> 0 | P30: ='સત્રાંત વિષયવાર,જાતિવાર ગ્રેડ '!AS29 -> 0 | Q30: ='સત્રાંત વિષયવાર,જાતિવાર ગ્રેડ '!AU29 -> 0 | R30: =P30+Q30 -> 0 | S30: ='સત્રાંત વિષયવાર,જાતિવાર ગ્રેડ '!AS30 -> 0 | T30: ='સત્રાંત વિષયવાર,જાતિવાર ગ્રેડ '!AU30 -> 0 | U30: =S30+T30 -> 0
C31: S], | D31: =D27+D28+D29+D30 -> 0 | E31: =E27+E28+E29+E30 -> 0 | F31: =F27+F28+F29+F30 -> 0 | G31: =G27+G28+G29+G30 -> 0 | H31: =H27+H28+H29+H30 -> 0 | I31: =I27+I28+I29+I30 -> 0 | J31: =J27+J28+J29+J30 -> 0 | K31: =K27+K28+K29+K30 -> 0 | ... U31: =U27+U28+U29+U30 -> 0
C32: JU"lX1FSGL ;CL | S32: VFRFI"GL ;CL
C33: http://vinodpateltalodgam.blogspot.com

Sheet સત્રાંત પરિણામ પત્રક 
C2: http://vinodpateltalodgam.blogspot.com
D3: WMZ6v | E3: =IF('વાર્ષિક ટાઇટલ પેઇઝ '!$M11="","",'વાર્ષિક ટાઇટલ પેઇઝ '!M11) -> 6 | F3: =IF('વાર્ષિક ટાઇટલ પેઇઝ '!$O11="","",'વાર્ષિક ટાઇટલ પેઇઝ '!O11) -> - | J3: JQF" v | L3: =IF('DATA ENTRY'!$AM11="","",'DATA ENTRY'!AM11) -> 2026/2027
B4: BOY GIRL | C4: S|D | D4: lJnFYL"G]\ GFD | E4: U]HZFTL | J4: Ul6T | Q4: S|D | R4: lCgNL | W4: ;FDFlHS lJ7FG | AB4: V\U[|HL | AG4: S|D | AH4: lJ7FG | AM4: ;\:S'T | AR4: ;DU| jIlSTlJSF; s5|YD ;+f | AT4: VeIFl;S T[DH ;CVeIFl;S lJQFIMGF V[S\NZ S], U]6 | AU4: V[S\NZ S], U]6 8SFDF\ | AV4: ;Z[ZFX U|[0
E5: 5|YD ;+ | H5: S], U]6 100 DF\YL D[/J[, U]6 | I5: U[|0 | J5: 5|YD ;+ | M5: S], U]6 100 DF\YL D[/J[, U]6 | N5: U[|0 | R5: 5|YD ;+ | U5: S], U]6 100 DF\YL D[/J[, U]6 | V5: U[|0 | W5: 5|YD ;+ | Z5: S], U]6 100 DF\YL D[/J[, U]6 | AA5: U[|0 | AB5: 5|YD ;+ | AE5: S], U]6 100 DF\YL D[/J[, U]6 | AF5: U[|0 | AH5: 5|YD ;+ | AK5: S], U]6 100 DF\YL D[/J[, U]6 | AL5: U[|0 | AM5: 5|YD ;+ | AP5: S], U]6 100 DF\YL D[/J[, U]6 | AQ5: U[|0 | AS5: U[|0
A6: OBC SC ST OPEN | E6: l+DFl;S S;M8L D}<IF\SG | F6: ;+F\T[ D}<IF\SG | G6: :JVwIIGSFI"GF VFWFZ[ D}<IF\SG | J6: l+DFl;S S;M8L D}<IF\SG | K6: ;+F\T[ D}<IF\SG | L6: :JVwIIGSFI"GF VFWFZ[ D}<IF\SG | R6: l+DFl;S S;M8L D}<IF\SG | S6: ;+F\T[ D}<IF\SG | T6: :JVwIIGSFI"GF VFWFZ[ D}<IF\SG | W6: l+DFl;S S;M8L D}<IF\SG | X6: ;+F\T[ D}<IF\SG | Y6: :JVwIIGSFI"GF VFWFZ[ D}<IF\SG | AB6: l+DFl;S S;M8L D}<IF\SG | AC6: ;+F\T[ D}<IF\SG | AD6: :JVwIIGSFI"GF VFWFZ[ D}<IF\SG | AH6: l+DFl;S S;M8L D}<IF\SG | AI6: ;+F\T[ D}<IF\SG | AJ6: :JVwIIGSFI"GF VFWFZ[ D}<IF\SG | AM6: l+DFl;S S;M8L D}<IF\SG | AN6: ;+F\T[ D}<IF\SG | AO6: :JVwIIGSFI"GF VFWFZ[ D}<IF\SG
E7: 40 | F7: 40 | G7: 20 | J7: 40 | K7: 40 | L7: 20 | R7: 40 | S7: 40 | T7: 20 | W7: 40 | X7: 40 | Y7: 20 | AB7: 40 | AC7: 40 | AD7: 20 | AH7: 40 | AI7: 40 | AJ7: 20 | AM7: 40 | AN7: 40 | AO7: 20 | AR7: 400 | AT7: 1100
A8: =IF('વાર્ષિક પરિણામ પત્રક '!$A8="","",'વાર્ષિક પરિણામ પત્રક '!A8) | B8: =IF('વાર્ષિક પરિણામ પત્રક '!$B8="","",'વાર્ષિક પરિણામ પત્રક '!B8) | C8: =IF('વાર્ષિક પરિણામ પત્રક '!$C8="","",'વાર્ષિક પરિણામ પત્રક '!C8) -> 1 | D8: =IF('વાર્ષિક પરિણામ પત્રક '!$D8="","",'વાર્ષિક પરિણામ પત્રક '!D8) | H8: =SUM(E8:G8) -> 0 | I8: =IF(H8>79,"A",IF(H8>64,"B",IF(H8>49,"C",IF(H8>34,"D",IF(H8>0,"E",""))))) | M8: =SUM(J8:L8) -> 0 | N8: =IF(M8>79,"A",IF(M8>64,"B",IF(M8>49,"C",IF(M8>34,"D",IF(M8>0,"E",""))))) | Q8: =IF('વાર્ષિક પરિણામ પત્રક '!$C8="","",'વાર્ષિક પરિણામ પત્રક '!C8) -> 1 | U8: =SUM(R8:T8) -> 0 | V8: =IF(U8>79,"A",IF(U8>64,"B",IF(U8>49,"C",IF(U8>34,"D",IF(U8>0,"E",""))))) | Z8: =SUM(W8:Y8) -> 0 | AA8: =IF(Z8>79,"A",IF(Z8>64,"B",IF(Z8>49,"C",IF(Z8>34,"D",IF(Z8>0,"E",""))))) | AE8: =SUM(AB8:AD8) -> 0 | AF8: =IF(AE8>79,"A",IF(AE8>64,"B",IF(AE8>49,"C",IF(AE8>34,"D",IF(AE8>0,"E",""))))) | AG8: =IF('વાર્ષિક પરિણામ પત્રક '!$C8="","",'વાર્ષિક પરિણામ પત્રક '!C8) -> 1 | AK8: =SUM(AH8:AJ8) -> 0 | AL8: =IF(AK8>79,"A",IF(AK8>64,"B",IF(AK8>49,"C",IF(AK8>34,"D",IF(AK8>0,"E",""))))) | AP8: =SUM(AM8:AO8) -> 0 | AQ8: =IF(AP8>79,"A",IF(AP8>64,"B",IF(AP8>49,"C",IF(AP8>34,"D",IF(AP8>0,"E",""))))) | AS8: =IF(AR8>319,"A",IF(AR8>259,"B",IF(AR8>199,"C",IF(AR8>139,"D",IF(AR8>0,"E",""))))) | AT8: =H8+M8+U8+Z8+AE8+AK8+AP8+AR8 -> 0 | AU8: =AT8/11 -> 0 | AV8: =IF(AU8>79,"A",IF(AU8>64,"B",IF(AU8>49,"C",IF(AU8>34,"D",IF(AU8>0,"E","")))))
A9: =IF('વાર્ષિક પરિણામ પત્રક '!$A9="","",'વાર્ષિક પરિણામ પત્રક '!A9) | B9: =IF('વાર્ષિક પરિણામ પત્રક '!$B9="","",'વાર્ષિક પરિણામ પત્રક '!B9) | C9: =IF('વાર્ષિક પરિણામ પત્રક '!$C9="","",'વાર્ષિક પરિણામ પત્રક '!C9) -> 2 | D9: =IF('વાર્ષિક પરિણામ પત્રક '!$D9="","",'વાર્ષિક પરિણામ પત્રક '!D9) | H9: =SUM(E9:G9) -> 0 | I9: =IF(H9>79,"A",IF(H9>64,"B",IF(H9>49,"C",IF(H9>34,"D",IF(H9>0,"E",""))))) | M9: =SUM(J9:L9) -> 0 | N9: =IF(M9>79,"A",IF(M9>64,"B",IF(M9>49,"C",IF(M9>34,"D",IF(M9>0,"E",""))))) | Q9: =IF('વાર્ષિક પરિણામ પત્રક '!$C9="","",'વાર્ષિક પરિણામ પત્રક '!C9) -> 2 | U9: =SUM(R9:T9) -> 0 | V9: =IF(U9>79,"A",IF(U9>64,"B",IF(U9>49,"C",IF(U9>34,"D",IF(U9>0,"E",""))))) | Z9: =SUM(W9:Y9) -> 0 | AA9: =IF(Z9>79,"A",IF(Z9>64,"B",IF(Z9>49,"C",IF(Z9>34,"D",IF(Z9>0,"E",""))))) | AE9: =SUM(AB9:AD9) -> 0 | AF9: =IF(AE9>79,"A",IF(AE9>64,"B",IF(AE9>49,"C",IF(AE9>34,"D",IF(AE9>0,"E",""))))) | AG9: =IF('વાર્ષિક પરિણામ પત્રક '!$C9="","",'વાર્ષિક પરિણામ પત્રક '!C9) -> 2 | AK9: =SUM(AH9:AJ9) -> 0 | AL9: =IF(AK9>79,"A",IF(AK9>64,"B",IF(AK9>49,"C",IF(AK9>34,"D",IF(AK9>0,"E",""))))) | AP9: =SUM(AM9:AO9) -> 0 | AQ9: =IF(AP9>79,"A",IF(AP9>64,"B",IF(AP9>49,"C",IF(AP9>34,"D",IF(AP9>0,"E",""))))) | AS9: =IF(AR9>319,"A",IF(AR9>259,"B",IF(AR9>199,"C",IF(AR9>139,"D",IF(AR9>0,"E",""))))) | AT9: =H9+M9+U9+Z9+AE9+AK9+AP9+AR9 -> 0 | AU9: =AT9/11 -> 0 | AV9: =IF(AU9>79,"A",IF(AU9>64,"B",IF(AU9>49,"C",IF(AU9>34,"D",IF(AU9>0,"E","")))))
A10: =IF('વાર્ષિક પરિણામ પત્રક '!$A10="","",'વાર્ષિક પરિણામ પત્રક '!A10) | B10: =IF('વાર્ષિક પરિણામ પત્રક '!$B10="","",'વાર્ષિક પરિણામ પત્રક '!B10) | C10: =IF('વાર્ષિક પરિણામ પત્રક '!$C10="","",'વાર્ષિક પરિણામ પત્રક '!C10) -> 3 | D10: =IF('વાર્ષિક પરિણામ પત્રક '!$D10="","",'વાર્ષિક પરિણામ પત્રક '!D10) | H10: =SUM(E10:G10) -> 0 | I10: =IF(H10>79,"A",IF(H10>64,"B",IF(H10>49,"C",IF(H10>34,"D",IF(H10>0,"E",""))))) | M10: =SUM(J10:L10) -> 0 | N10: =IF(M10>79,"A",IF(M10>64,"B",IF(M10>49,"C",IF(M10>34,"D",IF(M10>0,"E",""))))) | Q10: =IF('વાર્ષિક પરિણામ પત્રક '!$C10="","",'વાર્ષિક પરિણામ પત્રક '!C10) -> 3 | U10: =SUM(R10:T10) -> 0 | V10: =IF(U10>79,"A",IF(U10>64,"B",IF(U10>49,"C",IF(U10>34,"D",IF(U10>0,"E",""))))) | Z10: =SUM(W10:Y10) -> 0 | AA10: =IF(Z10>79,"A",IF(Z10>64,"B",IF(Z10>49,"C",IF(Z10>34,"D",IF(Z10>0,"E",""))))) | AE10: =SUM(AB10:AD10) -> 0 | AF10: =IF(AE10>79,"A",IF(AE10>64,"B",IF(AE10>49,"C",IF(AE10>34,"D",IF(AE10>0,"E",""))))) | AG10: =IF('વાર્ષિક પરિણામ પત્રક '!$C10="","",'વાર્ષિક પરિણામ પત્રક '!C10) -> 3 | AK10: =SUM(AH10:AJ10) -> 0 | AL10: =IF(AK10>79,"A",IF(AK10>64,"B",IF(AK10>49,"C",IF(AK10>34,"D",IF(AK10>0,"E",""))))) | AP10: =SUM(AM10:AO10) -> 0 | AQ10: =IF(AP10>79,"A",IF(AP10>64,"B",IF(AP10>49,"C",IF(AP10>34,"D",IF(AP10>0,"E",""))))) | AS10: =IF(AR10>319,"A",IF(AR10>259,"B",IF(AR10>199,"C",IF(AR10>139,"D",IF(AR10>0,"E",""))))) | AT10: =H10+M10+U10+Z10+AE10+AK10+AP10+AR10 -> 0 | AU10: =AT10/11 -> 0 | AV10: =IF(AU10>79,"A",IF(AU10>64,"B",IF(AU10>49,"C",IF(AU10>34,"D",IF(AU10>0,"E","")))))
A11: =IF('વાર્ષિક પરિણામ પત્રક '!$A11="","",'વાર્ષિક પરિણામ પત્રક '!A11) | B11: =IF('વાર્ષિક પરિણામ પત્રક '!$B11="","",'વાર્ષિક પરિણામ પત્રક '!B11) | C11: =IF('વાર્ષિક પરિણામ પત્રક '!$C11="","",'વાર્ષિક પરિણામ પત્રક '!C11) -> 4 | D11: =IF('વાર્ષિક પરિણામ પત્રક '!$D11="","",'વાર્ષિક પરિણામ પત્રક '!D11) | H11: =SUM(E11:G11) -> 0 | I11: =IF(H11>79,"A",IF(H11>64,"B",IF(H11>49,"C",IF(H11>34,"D",IF(H11>0,"E",""))))) | M11: =SUM(J11:L11) -> 0 | N11: =IF(M11>79,"A",IF(M11>64,"B",IF(M11>49,"C",IF(M11>34,"D",IF(M11>0,"E",""))))) | Q11: =IF('વાર્ષિક પરિણામ પત્રક '!$C11="","",'વાર્ષિક પરિણામ પત્રક '!C11) -> 4 | U11: =SUM(R11:T11) -> 0 | V11: =IF(U11>79,"A",IF(U11>64,"B",IF(U11>49,"C",IF(U11>34,"D",IF(U11>0,"E",""))))) | Z11: =SUM(W11:Y11) -> 0 | AA11: =IF(Z11>79,"A",IF(Z11>64,"B",IF(Z11>49,"C",IF(Z11>34,"D",IF(Z11>0,"E",""))))) | AE11: =SUM(AB11:AD11) -> 0 | AF11: =IF(AE11>79,"A",IF(AE11>64,"B",IF(AE11>49,"C",IF(AE11>34,"D",IF(AE11>0,"E",""))))) | AG11: =IF('વાર્ષિક પરિણામ પત્રક '!$C11="","",'વાર્ષિક પરિણામ પત્રક '!C11) -> 4 | AK11: =SUM(AH11:AJ11) -> 0 | AL11: =IF(AK11>79,"A",IF(AK11>64,"B",IF(AK11>49,"C",IF(AK11>34,"D",IF(AK11>0,"E",""))))) | AP11: =SUM(AM11:AO11) -> 0 | AQ11: =IF(AP11>79,"A",IF(AP11>64,"B",IF(AP11>49,"C",IF(AP11>34,"D",IF(AP11>0,"E",""))))) | AS11: =IF(AR11>319,"A",IF(AR11>259,"B",IF(AR11>199,"C",IF(AR11>139,"D",IF(AR11>0,"E",""))))) | AT11: =H11+M11+U11+Z11+AE11+AK11+AP11+AR11 -> 0 | AU11: =AT11/11 -> 0 | AV11: =IF(AU11>79,"A",IF(AU11>64,"B",IF(AU11>49,"C",IF(AU11>34,"D",IF(AU11>0,"E","")))))
A12: =IF('વાર્ષિક પરિણામ પત્રક '!$A12="","",'વાર્ષિક પરિણામ પત્રક '!A12) | B12: =IF('વાર્ષિક પરિણામ પત્રક '!$B12="","",'વાર્ષિક પરિણામ પત્રક '!B12) | C12: =IF('વાર્ષિક પરિણામ પત્રક '!$C12="","",'વાર્ષિક પરિણામ પત્રક '!C12) -> 5 | D12: =IF('વાર્ષિક પરિણામ પત્રક '!$D12="","",'વાર્ષિક પરિણામ પત્રક '!D12) | H12: =SUM(E12:G12) -> 0 | I12: =IF(H12>79,"A",IF(H12>64,"B",IF(H12>49,"C",IF(H12>34,"D",IF(H12>0,"E",""))))) | M12: =SUM(J12:L12) -> 0 | N12: =IF(M12>79,"A",IF(M12>64,"B",IF(M12>49,"C",IF(M12>34,"D",IF(M12>0,"E",""))))) | Q12: =IF('વાર્ષિક પરિણામ પત્રક '!$C12="","",'વાર્ષિક પરિણામ પત્રક '!C12) -> 5 | U12: =SUM(R12:T12) -> 0 | V12: =IF(U12>79,"A",IF(U12>64,"B",IF(U12>49,"C",IF(U12>34,"D",IF(U12>0,"E",""))))) | Z12: =SUM(W12:Y12) -> 0 | AA12: =IF(Z12>79,"A",IF(Z12>64,"B",IF(Z12>49,"C",IF(Z12>34,"D",IF(Z12>0,"E",""))))) | AE12: =SUM(AB12:AD12) -> 0 | AF12: =IF(AE12>79,"A",IF(AE12>64,"B",IF(AE12>49,"C",IF(AE12>34,"D",IF(AE12>0,"E",""))))) | AG12: =IF('વાર્ષિક પરિણામ પત્રક '!$C12="","",'વાર્ષિક પરિણામ પત્રક '!C12) -> 5 | AK12: =SUM(AH12:AJ12) -> 0 | AL12: =IF(AK12>79,"A",IF(AK12>64,"B",IF(AK12>49,"C",IF(AK12>34,"D",IF(AK12>0,"E",""))))) | AP12: =SUM(AM12:AO12) -> 0 | AQ12: =IF(AP12>79,"A",IF(AP12>64,"B",IF(AP12>49,"C",IF(AP12>34,"D",IF(AP12>0,"E",""))))) | AS12: =IF(AR12>319,"A",IF(AR12>259,"B",IF(AR12>199,"C",IF(AR12>139,"D",IF(AR12>0,"E",""))))) | AT12: =H12+M12+U12+Z12+AE12+AK12+AP12+AR12 -> 0 | AU12: =AT12/11 -> 0 | AV12: =IF(AU12>79,"A",IF(AU12>64,"B",IF(AU12>49,"C",IF(AU12>34,"D",IF(AU12>0,"E","")))))
A13: =IF('વાર્ષિક પરિણામ પત્રક '!$A13="","",'વાર્ષિક પરિણામ પત્રક '!A13) | B13: =IF('વાર્ષિક પરિણામ પત્રક '!$B13="","",'વાર્ષિક પરિણામ પત્રક '!B13) | C13: =IF('વાર્ષિક પરિણામ પત્રક '!$C13="","",'વાર્ષિક પરિણામ પત્રક '!C13) -> 6 | D13: =IF('વાર્ષિક પરિણામ પત્રક '!$D13="","",'વાર્ષિક પરિણામ પત્રક '!D13) | H13: =SUM(E13:G13) -> 0 | I13: =IF(H13>79,"A",IF(H13>64,"B",IF(H13>49,"C",IF(H13>34,"D",IF(H13>0,"E",""))))) | M13: =SUM(J13:L13) -> 0 | N13: =IF(M13>79,"A",IF(M13>64,"B",IF(M13>49,"C",IF(M13>34,"D",IF(M13>0,"E",""))))) | Q13: =IF('વાર્ષિક પરિણામ પત્રક '!$C13="","",'વાર્ષિક પરિણામ પત્રક '!C13) -> 6 | U13: =SUM(R13:T13) -> 0 | V13: =IF(U13>79,"A",IF(U13>64,"B",IF(U13>49,"C",IF(U13>34,"D",IF(U13>0,"E",""))))) | Z13: =SUM(W13:Y13) -> 0 | AA13: =IF(Z13>79,"A",IF(Z13>64,"B",IF(Z13>49,"C",IF(Z13>34,"D",IF(Z13>0,"E",""))))) | AE13: =SUM(AB13:AD13) -> 0 | AF13: =IF(AE13>79,"A",IF(AE13>64,"B",IF(AE13>49,"C",IF(AE13>34,"D",IF(AE13>0,"E",""))))) | AG13: =IF('વાર્ષિક પરિણામ પત્રક '!$C13="","",'વાર્ષિક પરિણામ પત્રક '!C13) -> 6 | AK13: =SUM(AH13:AJ13) -> 0 | AL13: =IF(AK13>79,"A",IF(AK13>64,"B",IF(AK13>49,"C",IF(AK13>34,"D",IF(AK13>0,"E",""))))) | AP13: =SUM(AM13:AO13) -> 0 | AQ13: =IF(AP13>79,"A",IF(AP13>64,"B",IF(AP13>49,"C",IF(AP13>34,"D",IF(AP13>0,"E",""))))) | AS13: =IF(AR13>319,"A",IF(AR13>259,"B",IF(AR13>199,"C",IF(AR13>139,"D",IF(AR13>0,"E",""))))) | AT13: =H13+M13+U13+Z13+AE13+AK13+AP13+AR13 -> 0 | AU13: =AT13/11 -> 0 | AV13: =IF(AU13>79,"A",IF(AU13>64,"B",IF(AU13>49,"C",IF(AU13>34,"D",IF(AU13>0,"E","")))))
A14: =IF('વાર્ષિક પરિણામ પત્રક '!$A14="","",'વાર્ષિક પરિણામ પત્રક '!A14) | B14: =IF('વાર્ષિક પરિણામ પત્રક '!$B14="","",'વાર્ષિક પરિણામ પત્રક '!B14) | C14: =IF('વાર્ષિક પરિણામ પત્રક '!$C14="","",'વાર્ષિક પરિણામ પત્રક '!C14) -> 7 | D14: =IF('વાર્ષિક પરિણામ પત્રક '!$D14="","",'વાર્ષિક પરિણામ પત્રક '!D14) | H14: =SUM(E14:G14) -> 0 | I14: =IF(H14>79,"A",IF(H14>64,"B",IF(H14>49,"C",IF(H14>34,"D",IF(H14>0,"E",""))))) | M14: =SUM(J14:L14) -> 0 | N14: =IF(M14>79,"A",IF(M14>64,"B",IF(M14>49,"C",IF(M14>34,"D",IF(M14>0,"E",""))))) | Q14: =IF('વાર્ષિક પરિણામ પત્રક '!$C14="","",'વાર્ષિક પરિણામ પત્રક '!C14) -> 7 | U14: =SUM(R14:T14) -> 0 | V14: =IF(U14>79,"A",IF(U14>64,"B",IF(U14>49,"C",IF(U14>34,"D",IF(U14>0,"E",""))))) | Z14: =SUM(W14:Y14) -> 0 | AA14: =IF(Z14>79,"A",IF(Z14>64,"B",IF(Z14>49,"C",IF(Z14>34,"D",IF(Z14>0,"E",""))))) | AE14: =SUM(AB14:AD14) -> 0 | AF14: =IF(AE14>79,"A",IF(AE14>64,"B",IF(AE14>49,"C",IF(AE14>34,"D",IF(AE14>0,"E",""))))) | AG14: =IF('વાર્ષિક પરિણામ પત્રક '!$C14="","",'વાર્ષિક પરિણામ પત્રક '!C14) -> 7 | AK14: =SUM(AH14:AJ14) -> 0 | AL14: =IF(AK14>79,"A",IF(AK14>64,"B",IF(AK14>49,"C",IF(AK14>34,"D",IF(AK14>0,"E",""))))) | AP14: =SUM(AM14:AO14) -> 0 | AQ14: =IF(AP14>79,"A",IF(AP14>64,"B",IF(AP14>49,"C",IF(AP14>34,"D",IF(AP14>0,"E",""))))) | AS14: =IF(AR14>319,"A",IF(AR14>259,"B",IF(AR14>199,"C",IF(AR14>139,"D",IF(AR14>0,"E",""))))) | AT14: =H14+M14+U14+Z14+AE14+AK14+AP14+AR14 -> 0 | AU14: =AT14/11 -> 0 | AV14: =IF(AU14>79,"A",IF(AU14>64,"B",IF(AU14>49,"C",IF(AU14>34,"D",IF(AU14>0,"E","")))))
A15: =IF('વાર્ષિક પરિણામ પત્રક '!$A15="","",'વાર્ષિક પરિણામ પત્રક '!A15) | B15: =IF('વાર્ષિક પરિણામ પત્રક '!$B15="","",'વાર્ષિક પરિણામ પત્રક '!B15) | C15: =IF('વાર્ષિક પરિણામ પત્રક '!$C15="","",'વાર્ષિક પરિણામ પત્રક '!C15) -> 8 | D15: =IF('વાર્ષિક પરિણામ પત્રક '!$D15="","",'વાર્ષિક પરિણામ પત્રક '!D15) | H15: =SUM(E15:G15) -> 0 | I15: =IF(H15>79,"A",IF(H15>64,"B",IF(H15>49,"C",IF(H15>34,"D",IF(H15>0,"E",""))))) | M15: =SUM(J15:L15) -> 0 | N15: =IF(M15>79,"A",IF(M15>64,"B",IF(M15>49,"C",IF(M15>34,"D",IF(M15>0,"E",""))))) | Q15: =IF('વાર્ષિક પરિણામ પત્રક '!$C15="","",'વાર્ષિક પરિણામ પત્રક '!C15) -> 8 | U15: =SUM(R15:T15) -> 0 | V15: =IF(U15>79,"A",IF(U15>64,"B",IF(U15>49,"C",IF(U15>34,"D",IF(U15>0,"E",""))))) | Z15: =SUM(W15:Y15) -> 0 | AA15: =IF(Z15>79,"A",IF(Z15>64,"B",IF(Z15>49,"C",IF(Z15>34,"D",IF(Z15>0,"E",""))))) | AE15: =SUM(AB15:AD15) -> 0 | AF15: =IF(AE15>79,"A",IF(AE15>64,"B",IF(AE15>49,"C",IF(AE15>34,"D",IF(AE15>0,"E",""))))) | AG15: =IF('વાર્ષિક પરિણામ પત્રક '!$C15="","",'વાર્ષિક પરિણામ પત્રક '!C15) -> 8 | AK15: =SUM(AH15:AJ15) -> 0 | AL15: =IF(AK15>79,"A",IF(AK15>64,"B",IF(AK15>49,"C",IF(AK15>34,"D",IF(AK15>0,"E",""))))) | AP15: =SUM(AM15:AO15) -> 0 | AQ15: =IF(AP15>79,"A",IF(AP15>64,"B",IF(AP15>49,"C",IF(AP15>34,"D",IF(AP15>0,"E",""))))) | AS15: =IF(AR15>319,"A",IF(AR15>259,"B",IF(AR15>199,"C",IF(AR15>139,"D",IF(AR15>0,"E",""))))) | AT15: =H15+M15+U15+Z15+AE15+AK15+AP15+AR15 -> 0 | AU15: =AT15/11 -> 0 | AV15: =IF(AU15>79,"A",IF(AU15>64,"B",IF(AU15>49,"C",IF(AU15>34,"D",IF(AU15>0,"E","")))))
A16: =IF('વાર્ષિક પરિણામ પત્રક '!$A16="","",'વાર્ષિક પરિણામ પત્રક '!A16) | B16: =IF('વાર્ષિક પરિણામ પત્રક '!$B16="","",'વાર્ષિક પરિણામ પત્રક '!B16) | C16: =IF('વાર્ષિક પરિણામ પત્રક '!$C16="","",'વાર્ષિક પરિણામ પત્રક '!C16) -> 9 | D16: =IF('વાર્ષિક પરિણામ પત્રક '!$D16="","",'વાર્ષિક પરિણામ પત્રક '!D16) | H16: =SUM(E16:G16) -> 0 | I16: =IF(H16>79,"A",IF(H16>64,"B",IF(H16>49,"C",IF(H16>34,"D",IF(H16>0,"E",""))))) | M16: =SUM(J16:L16) -> 0 | N16: =IF(M16>79,"A",IF(M16>64,"B",IF(M16>49,"C",IF(M16>34,"D",IF(M16>0,"E",""))))) | Q16: =IF('વાર્ષિક પરિણામ પત્રક '!$C16="","",'વાર્ષિક પરિણામ પત્રક '!C16) -> 9 | U16: =SUM(R16:T16) -> 0 | V16: =IF(U16>79,"A",IF(U16>64,"B",IF(U16>49,"C",IF(U16>34,"D",IF(U16>0,"E",""))))) | Z16: =SUM(W16:Y16) -> 0 | AA16: =IF(Z16>79,"A",IF(Z16>64,"B",IF(Z16>49,"C",IF(Z16>34,"D",IF(Z16>0,"E",""))))) | AE16: =SUM(AB16:AD16) -> 0 | AF16: =IF(AE16>79,"A",IF(AE16>64,"B",IF(AE16>49,"C",IF(AE16>34,"D",IF(AE16>0,"E",""))))) | AG16: =IF('વાર્ષિક પરિણામ પત્રક '!$C16="","",'વાર્ષિક પરિણામ પત્રક '!C16) -> 9 | AK16: =SUM(AH16:AJ16) -> 0 | AL16: =IF(AK16>79,"A",IF(AK16>64,"B",IF(AK16>49,"C",IF(AK16>34,"D",IF(AK16>0,"E",""))))) | AP16: =SUM(AM16:AO16) -> 0 | AQ16: =IF(AP16>79,"A",IF(AP16>64,"B",IF(AP16>49,"C",IF(AP16>34,"D",IF(AP16>0,"E",""))))) | AS16: =IF(AR16>319,"A",IF(AR16>259,"B",IF(AR16>199,"C",IF(AR16>139,"D",IF(AR16>0,"E",""))))) | AT16: =H16+M16+U16+Z16+AE16+AK16+AP16+AR16 -> 0 | AU16: =AT16/11 -> 0 | AV16: =IF(AU16>79,"A",IF(AU16>64,"B",IF(AU16>49,"C",IF(AU16>34,"D",IF(AU16>0,"E","")))))
A17: =IF('વાર્ષિક પરિણામ પત્રક '!$A17="","",'વાર્ષિક પરિણામ પત્રક '!A17) | B17: =IF('વાર્ષિક પરિણામ પત્રક '!$B17="","",'વાર્ષિક પરિણામ પત્રક '!B17) | C17: =IF('વાર્ષિક પરિણામ પત્રક '!$C17="","",'વાર્ષિક પરિણામ પત્રક '!C17) -> 10 | D17: =IF('વાર્ષિક પરિણામ પત્રક '!$D17="","",'વાર્ષિક પરિણામ પત્રક '!D17) | H17: =SUM(E17:G17) -> 0 | I17: =IF(H17>79,"A",IF(H17>64,"B",IF(H17>49,"C",IF(H17>34,"D",IF(H17>0,"E",""))))) | M17: =SUM(J17:L17) -> 0 | N17: =IF(M17>79,"A",IF(M17>64,"B",IF(M17>49,"C",IF(M17>34,"D",IF(M17>0,"E",""))))) | Q17: =IF('વાર્ષિક પરિણામ પત્રક '!$C17="","",'વાર્ષિક પરિણામ પત્રક '!C17) -> 10 | U17: =SUM(R17:T17) -> 0 | V17: =IF(U17>79,"A",IF(U17>64,"B",IF(U17>49,"C",IF(U17>34,"D",IF(U17>0,"E",""))))) | Z17: =SUM(W17:Y17) -> 0 | AA17: =IF(Z17>79,"A",IF(Z17>64,"B",IF(Z17>49,"C",IF(Z17>34,"D",IF(Z17>0,"E",""))))) | AE17: =SUM(AB17:AD17) -> 0 | AF17: =IF(AE17>79,"A",IF(AE17>64,"B",IF(AE17>49,"C",IF(AE17>34,"D",IF(AE17>0,"E",""))))) | AG17: =IF('વાર્ષિક પરિણામ પત્રક '!$C17="","",'વાર્ષિક પરિણામ પત્રક '!C17) -> 10 | AK17: =SUM(AH17:AJ17) -> 0 | AL17: =IF(AK17>79,"A",IF(AK17>64,"B",IF(AK17>49,"C",IF(AK17>34,"D",IF(AK17>0,"E",""))))) | AP17: =SUM(AM17:AO17) -> 0 | AQ17: =IF(AP17>79,"A",IF(AP17>64,"B",IF(AP17>49,"C",IF(AP17>34,"D",IF(AP17>0,"E",""))))) | AS17: =IF(AR17>319,"A",IF(AR17>259,"B",IF(AR17>199,"C",IF(AR17>139,"D",IF(AR17>0,"E",""))))) | AT17: =H17+M17+U17+Z17+AE17+AK17+AP17+AR17 -> 0 | AU17: =AT17/11 -> 0 | AV17: =IF(AU17>79,"A",IF(AU17>64,"B",IF(AU17>49,"C",IF(AU17>34,"D",IF(AU17>0,"E","")))))
A18: =IF('વાર્ષિક પરિણામ પત્રક '!$A18="","",'વાર્ષિક પરિણામ પત્રક '!A18) | B18: =IF('વાર્ષિક પરિણામ પત્રક '!$B18="","",'વાર્ષિક પરિણામ પત્રક '!B18) | C18: =IF('વાર્ષિક પરિણામ પત્રક '!$C18="","",'વાર્ષિક પરિણામ પત્રક '!C18) -> 11 | D18: =IF('વાર્ષિક પરિણામ પત્રક '!$D18="","",'વાર્ષિક પરિણામ પત્રક '!D18) | H18: =SUM(E18:G18) -> 0 | I18: =IF(H18>79,"A",IF(H18>64,"B",IF(H18>49,"C",IF(H18>34,"D",IF(H18>0,"E",""))))) | M18: =SUM(J18:L18) -> 0 | N18: =IF(M18>79,"A",IF(M18>64,"B",IF(M18>49,"C",IF(M18>34,"D",IF(M18>0,"E",""))))) | Q18: =IF('વાર્ષિક પરિણામ પત્રક '!$C18="","",'વાર્ષિક પરિણામ પત્રક '!C18) -> 11 | U18: =SUM(R18:T18) -> 0 | V18: =IF(U18>79,"A",IF(U18>64,"B",IF(U18>49,"C",IF(U18>34,"D",IF(U18>0,"E",""))))) | Z18: =SUM(W18:Y18) -> 0 | AA18: =IF(Z18>79,"A",IF(Z18>64,"B",IF(Z18>49,"C",IF(Z18>34,"D",IF(Z18>0,"E",""))))) | AE18: =SUM(AB18:AD18) -> 0 | AF18: =IF(AE18>79,"A",IF(AE18>64,"B",IF(AE18>49,"C",IF(AE18>34,"D",IF(AE18>0,"E",""))))) | AG18: =IF('વાર્ષિક પરિણામ પત્રક '!$C18="","",'વાર્ષિક પરિણામ પત્રક '!C18) -> 11 | AK18: =SUM(AH18:AJ18) -> 0 | AL18: =IF(AK18>79,"A",IF(AK18>64,"B",IF(AK18>49,"C",IF(AK18>34,"D",IF(AK18>0,"E",""))))) | AP18: =SUM(AM18:AO18) -> 0 | AQ18: =IF(AP18>79,"A",IF(AP18>64,"B",IF(AP18>49,"C",IF(AP18>34,"D",IF(AP18>0,"E",""))))) | AS18: =IF(AR18>319,"A",IF(AR18>259,"B",IF(AR18>199,"C",IF(AR18>139,"D",IF(AR18>0,"E",""))))) | AT18: =H18+M18+U18+Z18+AE18+AK18+AP18+AR18 -> 0 | AU18: =AT18/11 -> 0 | AV18: =IF(AU18>79,"A",IF(AU18>64,"B",IF(AU18>49,"C",IF(AU18>34,"D",IF(AU18>0,"E","")))))
A19: =IF('વાર્ષિક પરિણામ પત્રક '!$A19="","",'વાર્ષિક પરિણામ પત્રક '!A19) | B19: =IF('વાર્ષિક પરિણામ પત્રક '!$B19="","",'વાર્ષિક પરિણામ પત્રક '!B19) | C19: =IF('વાર્ષિક પરિણામ પત્રક '!$C19="","",'વાર્ષિક પરિણામ પત્રક '!C19) -> 12 | D19: =IF('વાર્ષિક પરિણામ પત્રક '!$D19="","",'વાર્ષિક પરિણામ પત્રક '!D19) | H19: =SUM(E19:G19) -> 0 | I19: =IF(H19>79,"A",IF(H19>64,"B",IF(H19>49,"C",IF(H19>34,"D",IF(H19>0,"E",""))))) | M19: =SUM(J19:L19) -> 0 | N19: =IF(M19>79,"A",IF(M19>64,"B",IF(M19>49,"C",IF(M19>34,"D",IF(M19>0,"E",""))))) | Q19: =IF('વાર્ષિક પરિણામ પત્રક '!$C19="","",'વાર્ષિક પરિણામ પત્રક '!C19) -> 12 | U19: =SUM(R19:T19) -> 0 | V19: =IF(U19>79,"A",IF(U19>64,"B",IF(U19>49,"C",IF(U19>34,"D",IF(U19>0,"E",""))))) | Z19: =SUM(W19:Y19) -> 0 | AA19: =IF(Z19>79,"A",IF(Z19>64,"B",IF(Z19>49,"C",IF(Z19>34,"D",IF(Z19>0,"E",""))))) | AE19: =SUM(AB19:AD19) -> 0 | AF19: =IF(AE19>79,"A",IF(AE19>64,"B",IF(AE19>49,"C",IF(AE19>34,"D",IF(AE19>0,"E",""))))) | AG19: =IF('વાર્ષિક પરિણામ પત્રક '!$C19="","",'વાર્ષિક પરિણામ પત્રક '!C19) -> 12 | AK19: =SUM(AH19:AJ19) -> 0 | AL19: =IF(AK19>79,"A",IF(AK19>64,"B",IF(AK19>49,"C",IF(AK19>34,"D",IF(AK19>0,"E",""))))) | AP19: =SUM(AM19:AO19) -> 0 | AQ19: =IF(AP19>79,"A",IF(AP19>64,"B",IF(AP19>49,"C",IF(AP19>34,"D",IF(AP19>0,"E",""))))) | AS19: =IF(AR19>319,"A",IF(AR19>259,"B",IF(AR19>199,"C",IF(AR19>139,"D",IF(AR19>0,"E",""))))) | AT19: =H19+M19+U19+Z19+AE19+AK19+AP19+AR19 -> 0 | AU19: =AT19/11 -> 0 | AV19: =IF(AU19>79,"A",IF(AU19>64,"B",IF(AU19>49,"C",IF(AU19>34,"D",IF(AU19>0,"E","")))))
... A69: =IF('વાર્ષિક પરિણામ પત્રક '!$A69="","",'વાર્ષિક પરિણામ પત્રક '!A69) | B69: =IF('વાર્ષિક પરિણામ પત્રક '!$B69="","",'વાર્ષિક પરિણામ પત્રક '!B69) | C69: =IF('વાર્ષિક પરિણામ પત્રક '!$C69="","",'વાર્ષિક પરિણામ પત્રક '!C69) -> 62 | D69: =IF('વાર્ષિક પરિણામ પત્રક '!$D69="","",'વાર્ષિક પરિણામ પત્રક '!D69) | H69: =SUM(E69:G69) -> 0 | I69: =IF(H69>79,"A",IF(H69>64,"B",IF(H69>49,"C",IF(H69>34,"D",IF(H69>0,"E",""))))) | M69: =SUM(J69:L69) -> 0 | N69: =IF(M69>79,"A",IF(M69>64,"B",IF(M69>49,"C",IF(M69>34,"D",IF(M69>0,"E",""))))) | Q69: =IF('વાર્ષિક પરિણામ પત્રક '!$C69="","",'વાર્ષિક પરિણામ પત્રક '!C69) -> 62 | U69: =SUM(R69:T69) -> 0 | V69: =IF(U69>79,"A",IF(U69>64,"B",IF(U69>49,"C",IF(U69>34,"D",IF(U69>0,"E",""))))) | Z69: =SUM(W69:Y69) -> 0 | AA69: =IF(Z69>79,"A",IF(Z69>64,"B",IF(Z69>49,"C",IF(Z69>34,"D",IF(Z69>0,"E",""))))) | AE69: =SUM(AB69:AD69) -> 0 | AF69: =IF(AE69>79,"A",IF(AE69>64,"B",IF(AE69>49,"C",IF(AE69>34,"D",IF(AE69>0,"E",""))))) | AG69: =IF('વાર્ષિક પરિણામ પત્રક '!$C69="","",'વાર્ષિક પરિણામ પત્રક '!C69) -> 62 | AK69: =SUM(AH69:AJ69) -> 0 | AL69: =IF(AK69>79,"A",IF(AK69>64,"B",IF(AK69>49,"C",IF(AK69>34,"D",IF(AK69>0,"E",""))))) | AP69: =SUM(AM69:AO69) -> 0 | AQ69: =IF(AP69>79,"A",IF(AP69>64,"B",IF(AP69>49,"C",IF(AP69>34,"D",IF(AP69>0,"E",""))))) | AS69: =IF(AR69>319,"A",IF(AR69>259,"B",IF(AR69>199,"C",IF(AR69>139,"D",IF(AR69>0,"E",""))))) | AT69: =H69+M69+U69+Z69+AE69+AK69+AP69+AR69 -> 0 | AU69: =AT69/11 -> 0 | AV69: =IF(AU69>79,"A",IF(AU69>64,"B",IF(AU69>49,"C",IF(AU69>34,"D",IF(AU69>0,"E","")))))
C70: =IF('વાર્ષિક પરિણામ પત્રક '!$C70="","",'વાર્ષિક પરિણામ પત્રક '!C70) -> 63 | D70: =IF('વાર્ષિક પરિણામ પત્રક '!$D70="","",'વાર્ષિક પરિણામ પત્રક '!D70) | H70: =SUM(E70:G70) -> 0 | I70: =IF(H70>79,"A",IF(H70>64,"B",IF(H70>49,"C",IF(H70>34,"D",IF(H70>0,"E",""))))) | M70: =SUM(J70:L70) -> 0 | N70: =IF(M70>79,"A",IF(M70>64,"B",IF(M70>49,"C",IF(M70>34,"D",IF(M70>0,"E",""))))) | Q70: =IF('વાર્ષિક પરિણામ પત્રક '!$C70="","",'વાર્ષિક પરિણામ પત્રક '!C70) -> 63 | U70: =SUM(R70:T70) -> 0 | V70: =IF(U70>79,"A",IF(U70>64,"B",IF(U70>49,"C",IF(U70>34,"D",IF(U70>0,"E",""))))) | Z70: =SUM(W70:Y70) -> 0 | AA70: =IF(Z70>79,"A",IF(Z70>64,"B",IF(Z70>49,"C",IF(Z70>34,"D",IF(Z70>0,"E",""))))) | AE70: =SUM(AB70:AD70) -> 0 | AF70: =IF(AE70>79,"A",IF(AE70>64,"B",IF(AE70>49,"C",IF(AE70>34,"D",IF(AE70>0,"E",""))))) | AG70: =IF('વાર્ષિક પરિણામ પત્રક '!$C70="","",'વાર્ષિક પરિણામ પત્રક '!C70) -> 63 | AK70: =SUM(AH70:AJ70) -> 0 | AL70: =IF(AK70>79,"A",IF(AK70>64,"B",IF(AK70>49,"C",IF(AK70>34,"D",IF(AK70>0,"E",""))))) | AP70: =SUM(AM70:AO70) -> 0 | AQ70: =IF(AP70>79,"A",IF(AP70>64,"B",IF(AP70>49,"C",IF(AP70>34,"D",IF(AP70>0,"E",""))))) | AS70: =IF(AR70>319,"A",IF(AR70>259,"B",IF(AR70>199,"C",IF(AR70>139,"D",IF(AR70>0,"E",""))))) | AT70: =H70+M70+U70+Z70+AE70+AK70+AP70+AR70 -> 0 | AU70: =AT70/11 -> 0 | AV70: =IF(AU70>79,"A",IF(AU70>64,"B",IF(AU70>49,"C",IF(AU70>34,"D",IF(AU70>0,"E","")))))
C71: =IF('વાર્ષિક પરિણામ પત્રક '!$C71="","",'વાર્ષિક પરિણામ પત્રક '!C71) -> 64 | D71: =IF('વાર્ષિક પરિણામ પત્રક '!$D71="","",'વાર્ષિક પરિણામ પત્રક '!D71) | H71: =SUM(E71:G71) -> 0 | I71: =IF(H71>79,"A",IF(H71>64,"B",IF(H71>49,"C",IF(H71>34,"D",IF(H71>0,"E",""))))) | M71: =SUM(J71:L71) -> 0 | N71: =IF(M71>79,"A",IF(M71>64,"B",IF(M71>49,"C",IF(M71>34,"D",IF(M71>0,"E",""))))) | Q71: =IF('વાર્ષિક પરિણામ પત્રક '!$C71="","",'વાર્ષિક પરિણામ પત્રક '!C71) -> 64 | U71: =SUM(R71:T71) -> 0 | V71: =IF(U71>79,"A",IF(U71>64,"B",IF(U71>49,"C",IF(U71>34,"D",IF(U71>0,"E",""))))) | Z71: =SUM(W71:Y71) -> 0 | AA71: =IF(Z71>79,"A",IF(Z71>64,"B",IF(Z71>49,"C",IF(Z71>34,"D",IF(Z71>0,"E",""))))) | AE71: =SUM(AB71:AD71) -> 0 | AF71: =IF(AE71>79,"A",IF(AE71>64,"B",IF(AE71>49,"C",IF(AE71>34,"D",IF(AE71>0,"E",""))))) | AG71: =IF('વાર્ષિક પરિણામ પત્રક '!$C71="","",'વાર્ષિક પરિણામ પત્રક '!C71) -> 64 | AK71: =SUM(AH71:AJ71) -> 0 | AL71: =IF(AK71>79,"A",IF(AK71>64,"B",IF(AK71>49,"C",IF(AK71>34,"D",IF(AK71>0,"E",""))))) | AP71: =SUM(AM71:AO71) -> 0 | AQ71: =IF(AP71>79,"A",IF(AP71>64,"B",IF(AP71>49,"C",IF(AP71>34,"D",IF(AP71>0,"E",""))))) | AS71: =IF(AR71>319,"A",IF(AR71>259,"B",IF(AR71>199,"C",IF(AR71>139,"D",IF(AR71>0,"E",""))))) | AT71: =H71+M71+U71+Z71+AE71+AK71+AP71+AR71 -> 0 | AU71: =AT71/11 -> 0 | AV71: =IF(AU71>79,"A",IF(AU71>64,"B",IF(AU71>49,"C",IF(AU71>34,"D",IF(AU71>0,"E","")))))
C72: =IF('વાર્ષિક પરિણામ પત્રક '!$C72="","",'વાર્ષિક પરિણામ પત્રક '!C72) -> 65 | D72: =IF('વાર્ષિક પરિણામ પત્રક '!$D72="","",'વાર્ષિક પરિણામ પત્રક '!D72) | H72: =SUM(E72:G72) -> 0 | I72: =IF(H72>79,"A",IF(H72>64,"B",IF(H72>49,"C",IF(H72>34,"D",IF(H72>0,"E",""))))) | M72: =SUM(J72:L72) -> 0 | N72: =IF(M72>79,"A",IF(M72>64,"B",IF(M72>49,"C",IF(M72>34,"D",IF(M72>0,"E",""))))) | Q72: =IF('વાર્ષિક પરિણામ પત્રક '!$C72="","",'વાર્ષિક પરિણામ પત્રક '!C72) -> 65 | U72: =SUM(R72:T72) -> 0 | V72: =IF(U72>79,"A",IF(U72>64,"B",IF(U72>49,"C",IF(U72>34,"D",IF(U72>0,"E",""))))) | Z72: =SUM(W72:Y72) -> 0 | AA72: =IF(Z72>79,"A",IF(Z72>64,"B",IF(Z72>49,"C",IF(Z72>34,"D",IF(Z72>0,"E",""))))) | AE72: =SUM(AB72:AD72) -> 0 | AF72: =IF(AE72>79,"A",IF(AE72>64,"B",IF(AE72>49,"C",IF(AE72>34,"D",IF(AE72>0,"E",""))))) | AG72: =IF('વાર્ષિક પરિણામ પત્રક '!$C72="","",'વાર્ષિક પરિણામ પત્રક '!C72) -> 65 | AK72: =SUM(AH72:AJ72) -> 0 | AL72: =IF(AK72>79,"A",IF(AK72>64,"B",IF(AK72>49,"C",IF(AK72>34,"D",IF(AK72>0,"E",""))))) | AP72: =SUM(AM72:AO72) -> 0 | AQ72: =IF(AP72>79,"A",IF(AP72>64,"B",IF(AP72>49,"C",IF(AP72>34,"D",IF(AP72>0,"E",""))))) | AS72: =IF(AR72>319,"A",IF(AR72>259,"B",IF(AR72>199,"C",IF(AR72>139,"D",IF(AR72>0,"E",""))))) | AT72: =H72+M72+U72+Z72+AE72+AK72+AP72+AR72 -> 0 | AU72: =AT72/11 -> 0 | AV72: =IF(AU72>79,"A",IF(AU72>64,"B",IF(AU72>49,"C",IF(AU72>34,"D",IF(AU72>0,"E","")))))
C73: =IF('વાર્ષિક પરિણામ પત્રક '!$C73="","",'વાર્ષિક પરિણામ પત્રક '!C73) -> 66 | D73: =IF('વાર્ષિક પરિણામ પત્રક '!$D73="","",'વાર્ષિક પરિણામ પત્રક '!D73) | H73: =SUM(E73:G73) -> 0 | I73: =IF(H73>79,"A",IF(H73>64,"B",IF(H73>49,"C",IF(H73>34,"D",IF(H73>0,"E",""))))) | M73: =SUM(J73:L73) -> 0 | N73: =IF(M73>79,"A",IF(M73>64,"B",IF(M73>49,"C",IF(M73>34,"D",IF(M73>0,"E",""))))) | Q73: =IF('વાર્ષિક પરિણામ પત્રક '!$C73="","",'વાર્ષિક પરિણામ પત્રક '!C73) -> 66 | U73: =SUM(R73:T73) -> 0 | V73: =IF(U73>79,"A",IF(U73>64,"B",IF(U73>49,"C",IF(U73>34,"D",IF(U73>0,"E",""))))) | Z73: =SUM(W73:Y73) -> 0 | AA73: =IF(Z73>79,"A",IF(Z73>64,"B",IF(Z73>49,"C",IF(Z73>34,"D",IF(Z73>0,"E",""))))) | AE73: =SUM(AB73:AD73) -> 0 | AF73: =IF(AE73>79,"A",IF(AE73>64,"B",IF(AE73>49,"C",IF(AE73>34,"D",IF(AE73>0,"E",""))))) | AG73: =IF('વાર્ષિક પરિણામ પત્રક '!$C73="","",'વાર્ષિક પરિણામ પત્રક '!C73) -> 66 | AK73: =SUM(AH73:AJ73) -> 0 | AL73: =IF(AK73>79,"A",IF(AK73>64,"B",IF(AK73>49,"C",IF(AK73>34,"D",IF(AK73>0,"E",""))))) | AP73: =SUM(AM73:AO73) -> 0 | AQ73: =IF(AP73>79,"A",IF(AP73>64,"B",IF(AP73>49,"C",IF(AP73>34,"D",IF(AP73>0,"E",""))))) | AS73: =IF(AR73>319,"A",IF(AR73>259,"B",IF(AR73>199,"C",IF(AR73>139,"D",IF(AR73>0,"E",""))))) | AT73: =H73+M73+U73+Z73+AE73+AK73+AP73+AR73 -> 0 | AU73: =AT73/11 -> 0 | AV73: =IF(AU73>79,"A",IF(AU73>64,"B",IF(AU73>49,"C",IF(AU73>34,"D",IF(AU73>0,"E","")))))
C74: =IF('વાર્ષિક પરિણામ પત્રક '!$C74="","",'વાર્ષિક પરિણામ પત્રક '!C74) -> 67 | D74: =IF('વાર્ષિક પરિણામ પત્રક '!$D74="","",'વાર્ષિક પરિણામ પત્રક '!D74) | H74: =SUM(E74:G74) -> 0 | I74: =IF(H74>79,"A",IF(H74>64,"B",IF(H74>49,"C",IF(H74>34,"D",IF(H74>0,"E",""))))) | M74: =SUM(J74:L74) -> 0 | N74: =IF(M74>79,"A",IF(M74>64,"B",IF(M74>49,"C",IF(M74>34,"D",IF(M74>0,"E",""))))) | Q74: =IF('વાર્ષિક પરિણામ પત્રક '!$C74="","",'વાર્ષિક પરિણામ પત્રક '!C74) -> 67 | U74: =SUM(R74:T74) -> 0 | V74: =IF(U74>79,"A",IF(U74>64,"B",IF(U74>49,"C",IF(U74>34,"D",IF(U74>0,"E",""))))) | Z74: =SUM(W74:Y74) -> 0 | AA74: =IF(Z74>79,"A",IF(Z74>64,"B",IF(Z74>49,"C",IF(Z74>34,"D",IF(Z74>0,"E",""))))) | AE74: =SUM(AB74:AD74) -> 0 | AF74: =IF(AE74>79,"A",IF(AE74>64,"B",IF(AE74>49,"C",IF(AE74>34,"D",IF(AE74>0,"E",""))))) | AG74: =IF('વાર્ષિક પરિણામ પત્રક '!$C74="","",'વાર્ષિક પરિણામ પત્રક '!C74) -> 67 | AK74: =SUM(AH74:AJ74) -> 0 | AL74: =IF(AK74>79,"A",IF(AK74>64,"B",IF(AK74>49,"C",IF(AK74>34,"D",IF(AK74>0,"E",""))))) | AP74: =SUM(AM74:AO74) -> 0 | AQ74: =IF(AP74>79,"A",IF(AP74>64,"B",IF(AP74>49,"C",IF(AP74>34,"D",IF(AP74>0,"E",""))))) | AS74: =IF(AR74>319,"A",IF(AR74>259,"B",IF(AR74>199,"C",IF(AR74>139,"D",IF(AR74>0,"E",""))))) | AT74: =H74+M74+U74+Z74+AE74+AK74+AP74+AR74 -> 0 | AU74: =AT74/11 -> 0 | AV74: =IF(AU74>79,"A",IF(AU74>64,"B",IF(AU74>49,"C",IF(AU74>34,"D",IF(AU74>0,"E","")))))
C75: =IF('વાર્ષિક પરિણામ પત્રક '!$C75="","",'વાર્ષિક પરિણામ પત્રક '!C75) -> 68 | D75: =IF('વાર્ષિક પરિણામ પત્રક '!$D75="","",'વાર્ષિક પરિણામ પત્રક '!D75) | H75: =SUM(E75:G75) -> 0 | I75: =IF(H75>79,"A",IF(H75>64,"B",IF(H75>49,"C",IF(H75>34,"D",IF(H75>0,"E",""))))) | M75: =SUM(J75:L75) -> 0 | N75: =IF(M75>79,"A",IF(M75>64,"B",IF(M75>49,"C",IF(M75>34,"D",IF(M75>0,"E",""))))) | Q75: =IF('વાર્ષિક પરિણામ પત્રક '!$C75="","",'વાર્ષિક પરિણામ પત્રક '!C75) -> 68 | U75: =SUM(R75:T75) -> 0 | V75: =IF(U75>79,"A",IF(U75>64,"B",IF(U75>49,"C",IF(U75>34,"D",IF(U75>0,"E",""))))) | Z75: =SUM(W75:Y75) -> 0 | AA75: =IF(Z75>79,"A",IF(Z75>64,"B",IF(Z75>49,"C",IF(Z75>34,"D",IF(Z75>0,"E",""))))) | AE75: =SUM(AB75:AD75) -> 0 | AF75: =IF(AE75>79,"A",IF(AE75>64,"B",IF(AE75>49,"C",IF(AE75>34,"D",IF(AE75>0,"E",""))))) | AG75: =IF('વાર્ષિક પરિણામ પત્રક '!$C75="","",'વાર્ષિક પરિણામ પત્રક '!C75) -> 68 | AK75: =SUM(AH75:AJ75) -> 0 | AL75: =IF(AK75>79,"A",IF(AK75>64,"B",IF(AK75>49,"C",IF(AK75>34,"D",IF(AK75>0,"E",""))))) | AP75: =SUM(AM75:AO75) -> 0 | AQ75: =IF(AP75>79,"A",IF(AP75>64,"B",IF(AP75>49,"C",IF(AP75>34,"D",IF(AP75>0,"E",""))))) | AS75: =IF(AR75>319,"A",IF(AR75>259,"B",IF(AR75>199,"C",IF(AR75>139,"D",IF(AR75>0,"E",""))))) | AT75: =H75+M75+U75+Z75+AE75+AK75+AP75+AR75 -> 0 | AU75: =AT75/11 -> 0 | AV75: =IF(AU75>79,"A",IF(AU75>64,"B",IF(AU75>49,"C",IF(AU75>34,"D",IF(AU75>0,"E","")))))
C76: =IF('વાર્ષિક પરિણામ પત્રક '!$C76="","",'વાર્ષિક પરિણામ પત્રક '!C76) -> 69 | D76: =IF('વાર્ષિક પરિણામ પત્રક '!$D76="","",'વાર્ષિક પરિણામ પત્રક '!D76) | H76: =SUM(E76:G76) -> 0 | I76: =IF(H76>79,"A",IF(H76>64,"B",IF(H76>49,"C",IF(H76>34,"D",IF(H76>0,"E",""))))) | M76: =SUM(J76:L76) -> 0 | N76: =IF(M76>79,"A",IF(M76>64,"B",IF(M76>49,"C",IF(M76>34,"D",IF(M76>0,"E",""))))) | Q76: =IF('વાર્ષિક પરિણામ પત્રક '!$C76="","",'વાર્ષિક પરિણામ પત્રક '!C76) -> 69 | U76: =SUM(R76:T76) -> 0 | V76: =IF(U76>79,"A",IF(U76>64,"B",IF(U76>49,"C",IF(U76>34,"D",IF(U76>0,"E",""))))) | Z76: =SUM(W76:Y76) -> 0 | AA76: =IF(Z76>79,"A",IF(Z76>64,"B",IF(Z76>49,"C",IF(Z76>34,"D",IF(Z76>0,"E",""))))) | AE76: =SUM(AB76:AD76) -> 0 | AF76: =IF(AE76>79,"A",IF(AE76>64,"B",IF(AE76>49,"C",IF(AE76>34,"D",IF(AE76>0,"E",""))))) | AG76: =IF('વાર્ષિક પરિણામ પત્રક '!$C76="","",'વાર્ષિક પરિણામ પત્રક '!C76) -> 69 | AK76: =SUM(AH76:AJ76) -> 0 | AL76: =IF(AK76>79,"A",IF(AK76>64,"B",IF(AK76>49,"C",IF(AK76>34,"D",IF(AK76>0,"E",""))))) | AP76: =SUM(AM76:AO76) -> 0 | AQ76: =IF(AP76>79,"A",IF(AP76>64,"B",IF(AP76>49,"C",IF(AP76>34,"D",IF(AP76>0,"E",""))))) | AS76: =IF(AR76>319,"A",IF(AR76>259,"B",IF(AR76>199,"C",IF(AR76>139,"D",IF(AR76>0,"E",""))))) | AT76: =H76+M76+U76+Z76+AE76+AK76+AP76+AR76 -> 0 | AU76: =AT76/11 -> 0 | AV76: =IF(AU76>79,"A",IF(AU76>64,"B",IF(AU76>49,"C",IF(AU76>34,"D",IF(AU76>0,"E","")))))
A77: =IF('વાર્ષિક પરિણામ પત્રક '!$A70="","",'વાર્ષિક પરિણામ પત્રક '!A70) | B77: =IF('વાર્ષિક પરિણામ પત્રક '!$B70="","",'વાર્ષિક પરિણામ પત્રક '!B70) | C77: =IF('વાર્ષિક પરિણામ પત્રક '!$C77="","",'વાર્ષિક પરિણામ પત્રક '!C77) -> 70 | D77: =IF('વાર્ષિક પરિણામ પત્રક '!$D77="","",'વાર્ષિક પરિણામ પત્રક '!D77) | H77: =SUM(E77:G77) -> 0 | I77: =IF(H77>79,"A",IF(H77>64,"B",IF(H77>49,"C",IF(H77>34,"D",IF(H77>0,"E",""))))) | M77: =SUM(J77:L77) -> 0 | N77: =IF(M77>79,"A",IF(M77>64,"B",IF(M77>49,"C",IF(M77>34,"D",IF(M77>0,"E",""))))) | Q77: =IF('વાર્ષિક પરિણામ પત્રક '!$C77="","",'વાર્ષિક પરિણામ પત્રક '!C77) -> 70 | U77: =SUM(R77:T77) -> 0 | V77: =IF(U77>79,"A",IF(U77>64,"B",IF(U77>49,"C",IF(U77>34,"D",IF(U77>0,"E",""))))) | Z77: =SUM(W77:Y77) -> 0 | AA77: =IF(Z77>79,"A",IF(Z77>64,"B",IF(Z77>49,"C",IF(Z77>34,"D",IF(Z77>0,"E",""))))) | AE77: =SUM(AB77:AD77) -> 0 | AF77: =IF(AE77>79,"A",IF(AE77>64,"B",IF(AE77>49,"C",IF(AE77>34,"D",IF(AE77>0,"E",""))))) | AG77: =IF('વાર્ષિક પરિણામ પત્રક '!$C77="","",'વાર્ષિક પરિણામ પત્રક '!C77) -> 70 | AK77: =SUM(AH77:AJ77) -> 0 | AL77: =IF(AK77>79,"A",IF(AK77>64,"B",IF(AK77>49,"C",IF(AK77>34,"D",IF(AK77>0,"E",""))))) | AP77: =SUM(AM77:AO77) -> 0 | AQ77: =IF(AP77>79,"A",IF(AP77>64,"B",IF(AP77>49,"C",IF(AP77>34,"D",IF(AP77>0,"E",""))))) | AS77: =IF(AR77>319,"A",IF(AR77>259,"B",IF(AR77>199,"C",IF(AR77>139,"D",IF(AR77>0,"E",""))))) | AT77: =H77+M77+U77+Z77+AE77+AK77+AP77+AR77 -> 0 | AU77: =AT77/11 -> 0 | AV77: =IF(AU77>79,"A",IF(AU77>64,"B",IF(AU77>49,"C",IF(AU77>34,"D",IF(AU77>0,"E","")))))
B80: BOY | D80: GIRL | F80: TOTAL
A81: OBC | B81: =SUMPRODUCT(-(-(A8:A79="OBC")),-(-(B8:B79="BOY"))) -> 0 | D81: =SUMPRODUCT(-(-(A8:A79="OBC")),-(-(B8:B79="GIRL"))) -> 0 | F81: =B81+D81 -> 0
A82: SC | B82: =SUMPRODUCT(-(-(A8:A79="SC")),-(-(B8:B79="BOY"))) -> 0 | D82: =SUMPRODUCT(-(-(A8:A79="SC")),-(-(B8:B79="GIRL"))) -> 0 | F82: =B82+D82 -> 0
A83: ST | B83: =SUMPRODUCT(-(-(A8:A79="ST")),-(-(B8:B79="BOY"))) -> 0 | D83: =SUMPRODUCT(-(-(A8:A79="ST")),-(-(B8:B79="GIRL"))) -> 0 | F83: =B83+D83 -> 0
A84: OPEN | B84: =SUMPRODUCT(-(-(A8:A79="OPEN")),-(-(B8:B79="BOY"))) -> 0 | D84: =SUMPRODUCT(-(-(A8:A79="OPEN")),-(-(B8:B79="GIRL"))) -> 0 | F84: =B84+D84 -> 0
A85: TOTAL | B85: =SUM(B80:B84) -> 0 | D85: =SUM(D80:D84) -> 0 | F85: =B85+D85 -> 0

Sheet સત્રાંત વિષયવાર,જાતિવાર ગ્રેડ 
C2: ;+F\T lJQFIJFZ4 HFlTJFZ D[/J[, V[S\NZ[ U|[0 | AA2: ;+F\T lJQFIJFZ4 HFlTJFZ D[/J[, V[S\NZ[ U|[0
A4: WMZ6o | C4: ='વાર્ષિક ટાઇટલ પેઇઝ '!M11 -> 6 | T4: ;G[ov | W4: ='DATA ENTRY'!AM11 -> 2026/2027 | AA4: ='વાર્ષિક ટાઇટલ પેઇઝ '!M11 -> 6 | AR4: ;G[ov | AU4: ='વાર્ષિક ટાઇટલ પેઇઝ '!K8
C5: U]HZFTL | I5: Ul6T | O5: lCgNL | U5: ;FDFlHS lJ7FG | AA5: V\U[|HLÒ | AG5: lJ7FG | AM5: ;\:S'T | AS5: S],
C6: S]DFZ | E6: SgIF | G6: S], | I6: S]DFZ | K6: SgIF | M6: S], | O6: S]DFZ | Q6: SgIF | S6: S], | U6: S]DFZ | W6: SgIF | Y6: S], | AA6: S]DFZ | AC6: SgIF | AE6: S], | AG6: S]DFZ | AI6: SgIF | AK6: S], | AM6: S]DFZ | AO6: SgIF | AQ6: S], | AS6: S]DFZ | AU6: SgIF | AW6: S],
A7: HF lT | B7: U[| 0 | C7: ;\ bIF | D7: 8SF | E7: ;\ bIF | F7: 8SF | G7: ;\ bIF | H7: 8SF | I7: ;\ bIF | J7: 8SF | K7: ;\ bIF | L7: 8SF | M7: ;\ bIF | N7: 8SF | O7: ;\ bIF | P7: 8SF | Q7: ;\ bIF | R7: 8SF | S7: ;\ bIF | T7: 8SF | U7: ;\ bIF | V7: 8SF | W7: ;\ bIF | X7: 8SF | Y7: ;\ bIF | Z7: 8SF | AA7: ;\ bIF | AB7: 8SF | AC7: ;\ bIF | AD7: 8SF | AE7: ;\ bIF | AF7: 8SF | AG7: ;\ bIF | AH7: 8SF | AI7: ;\ bIF | AJ7: 8SF | AK7: ;\ bIF | AL7: 8SF | AM7: ;\ bIF | AN7: 8SF | AO7: ;\ bIF | AP7: 8SF | AQ7: ;\ bIF | AR7: 8SF | AS7: ;\ bIF | AT7: 8SF | AU7: ;\ bIF | AV7: 8SF | AW7: ;\ bIF | AX7: 8SF
A8: A 1FL | B8: A | C8: =SUMPRODUCT(-(-('સત્રાંત પરિણામ પત્રક '!A8:A79="OBC")),-(-('સત્રાંત પરિણામ પત્રક '!B8:B79="BOY")),-(-('સત્રાંત પરિણામ પત્રક '!I8:I79="A"))) -> 0 | D8: =ROUND(C8*100/'સત્રાંત પરિણામ પત્રક '!B81,0) -> #DIV/0! | E8: =SUMPRODUCT(-(-('સત્રાંત પરિણામ પત્રક '!A8:A79="OBC")),-(-('સત્રાંત પરિણામ પત્રક '!B8:B79="GIRL")),-(-('સત્રાંત પરિણામ પત્રક '!I8:I79="A"))) -> 0 | F8: =ROUND(E8*100/'સત્રાંત પરિણામ પત્રક '!D81,0) -> #DIV/0! | G8: =C8+E8 -> 0 | H8: =ROUND(G8*100/'સત્રાંત પરિણામ પત્રક '!F81,0) -> #DIV/0! | I8: =SUMPRODUCT(-(-('સત્રાંત પરિણામ પત્રક '!A8:A79="OBC")),-(-('સત્રાંત પરિણામ પત્રક '!B8:B79="BOY")),-(-('સત્રાંત પરિણામ પત્રક '!N8:N79="A"))) -> 0 | J8: =ROUND(I8*100/'સત્રાંત પરિણામ પત્રક '!B81,0) -> #DIV/0! | K8: =SUMPRODUCT(-(-('સત્રાંત પરિણામ પત્રક '!A8:A79="OBC")),-(-('સત્રાંત પરિણામ પત્રક '!B8:B79="GIRL")),-(-('સત્રાંત પરિણામ પત્રક '!N8:N79="A"))) -> 0 | L8: =ROUND(K8*100/'સત્રાંત પરિણામ પત્રક '!D81,0) -> #DIV/0! | M8: =I8+K8 -> 0 | N8: =ROUND(M8*100/'સત્રાંત પરિણામ પત્રક '!F81,0) -> #DIV/0! | O8: =SUMPRODUCT(-(-('સત્રાંત પરિણામ પત્રક '!A8:A79="OBC")),-(-('સત્રાંત પરિણામ પત્રક '!B8:B79="BOY")),-(-('સત્રાંત પરિણામ પત્રક '!V8:V79="A"))) -> 0 | P8: =ROUND(O8*100/'સત્રાંત પરિણામ પત્રક '!B81,0) -> #DIV/0! | Q8: =SUMPRODUCT(-(-('સત્રાંત પરિણામ પત્રક '!A8:A79="OBC")),-(-('સત્રાંત પરિણામ પત્રક '!B8:B79="GIRL")),-(-('સત્રાંત પરિણામ પત્રક '!V8:V79="A"))) -> 0 | R8: =ROUND(Q8*100/'સત્રાંત પરિણામ પત્રક '!D81,0) -> #DIV/0! | S8: =O8+Q8 -> 0 | T8: =ROUND(S8*100/'સત્રાંત પરિણામ પત્રક '!F81,0) -> #DIV/0! | U8: =SUMPRODUCT(-(-('સત્રાંત પરિણામ પત્રક '!A8:A79="OBC")),-(-('સત્રાંત પરિણામ પત્રક '!B8:B79="BOY")),-(-('સત્રાંત પરિણામ પત્રક '!AA8:AA79="A"))) -> 0 | V8: =ROUND(U8*100/'સત્રાંત પરિણામ પત્રક '!B81,0) -> #DIV/0! | W8: =SUMPRODUCT(-(-('સત્રાંત પરિણામ પત્રક '!A8:A79="OBC")),-(-('સત્રાંત પરિણામ પત્રક '!B8:B79="GIRL")),-(-('સત્રાંત પરિણામ પત્રક '!AA8:AA79="A"))) -> 0 | X8: =ROUND(W8*100/'સત્રાંત પરિણામ પત્રક '!D81,0) -> #DIV/0! | Y8: =U8+W8 -> 0 | Z8: =ROUND(Y8*100/'સત્રાંત પરિણામ પત્રક '!F81,0) -> #DIV/0! | AA8: =SUMPRODUCT(-(-('સત્રાંત પરિણામ પત્રક '!A8:A79="OBC")),-(-('સત્રાંત પરિણામ પત્રક '!B8:B79="BOY")),-(-('સત્રાંત પરિણામ પત્રક '!AF8:AF79="A"))) -> 0 | AB8: =ROUND(AA8*100/'સત્રાંત પરિણામ પત્રક '!B81,0) -> #DIV/0! | AC8: =SUMPRODUCT(-(-('સત્રાંત પરિણામ પત્રક '!A8:A79="OBC")),-(-('સત્રાંત પરિણામ પત્રક '!B8:B79="GIRL")),-(-('સત્રાંત પરિણામ પત્રક '!AF8:AF79="A"))) -> 0 | AD8: =ROUND(AC8*100/'સત્રાંત પરિણામ પત્રક '!D81,0) -> #DIV/0! | AE8: =AA8+AC8 -> 0 | AF8: =ROUND(AE8*100/'સત્રાંત પરિણામ પત્રક '!F81,0) -> #DIV/0! | AG8: =SUMPRODUCT(-(-('સત્રાંત પરિણામ પત્રક '!A8:A79="OBC")),-(-('સત્રાંત પરિણામ પત્રક '!B8:B79="BOY")),-(-('સત્રાંત પરિણામ પત્રક '!AL8:AL79="A"))) -> 0 | AH8: =ROUND(AG8*100/'સત્રાંત પરિણામ પત્રક '!B81,0) -> #DIV/0! | AI8: =SUMPRODUCT(-(-('સત્રાંત પરિણામ પત્રક '!A8:A79="OBC")),-(-('સત્રાંત પરિણામ પત્રક '!B8:B79="GIRL")),-(-('સત્રાંત પરિણામ પત્રક '!AL8:AL79="A"))) -> 0 | AJ8: =ROUND(AI8*100/'સત્રાંત પરિણામ પત્રક '!D81,0) -> #DIV/0! | AK8: =AG8+AI8 -> 0 | AL8: =ROUND(AK8*100/'સત્રાંત પરિણામ પત્રક '!F81,0) -> #DIV/0! | AM8: =SUMPRODUCT(-(-('સત્રાંત પરિણામ પત્રક '!A8:A79="OBC")),-(-('સત્રાંત પરિણામ પત્રક '!B8:B79="BOY")),-(-('સત્રાંત પરિણામ પત્રક '!AQ8:AQ79="A"))) -> 0 | AN8: =ROUND(AM8*100/'સત્રાંત પરિણામ પત્રક '!B81,0) -> #DIV/0! | AO8: =SUMPRODUCT(-(-('સત્રાંત પરિણામ પત્રક '!A8:A79="OBC")),-(-('સત્રાંત પરિણામ પત્રક '!B8:B79="GIRL")),-(-('સત્રાંત પરિણામ પત્રક '!AQ8:AQ79="A"))) -> 0 | AP8: =ROUND(AO8*100/'સત્રાંત પરિણામ પત્રક '!D81,0) -> #DIV/0! | AQ8: =AM8+AO8 -> 0 | AR8: =ROUND(AQ8*100/'સત્રાંત પરિણામ પત્રક '!F81,0) -> #DIV/0! | AS8: =SUMPRODUCT(-(-('સત્રાંત પરિણામ પત્રક '!A8:A79="OBC")),-(-('સત્રાંત પરિણામ પત્રક '!B8:B79="BOY")),-(-('સત્રાંત પરિણામ પત્રક '!AV8:AV79="A"))) -> 0 | AT8: =ROUND(AS8*100/'સત્રાંત પરિણામ પત્રક '!B81,0) -> #DIV/0! | AU8: =SUMPRODUCT(-(-('સત્રાંત પરિણામ પત્રક '!A8:A79="OBC")),-(-('સત્રાંત પરિણામ પત્રક '!B8:B79="GIRL")),-(-('સત્રાંત પરિણામ પત્રક '!AV8:AV79="A"))) -> 0 | AV8: =ROUND(AU8*100/'સત્રાંત પરિણામ પત્રક '!D81,0) -> #DIV/0! | AW8: =AS8+AU8 -> 0 | AX8: =ROUND(AW8*100/'સત્રાંત પરિણામ પત્રક '!F81,0) -> #DIV/0!
B9: B | C9: =SUMPRODUCT(-(-('સત્રાંત પરિણામ પત્રક '!A8:A79="OBC")),-(-('સત્રાંત પરિણામ પત્રક '!B8:B79="BOY")),-(-('સત્રાંત પરિણામ પત્રક '!I8:I79="B"))) -> 0 | D9: =ROUND(C9*100/'સત્રાંત પરિણામ પત્રક '!B81,0) -> #DIV/0! | E9: =SUMPRODUCT(-(-('સત્રાંત પરિણામ પત્રક '!A8:A79="OBC")),-(-('સત્રાંત પરિણામ પત્રક '!B8:B79="GIRL")),-(-('સત્રાંત પરિણામ પત્રક '!I8:I79="B"))) -> 0 | F9: =ROUND(E9*100/'સત્રાંત પરિણામ પત્રક '!D81,0) -> #DIV/0! | G9: =C9+E9 -> 0 | H9: =ROUND(G9*100/'સત્રાંત પરિણામ પત્રક '!F81,0) -> #DIV/0! | I9: =SUMPRODUCT(-(-('સત્રાંત પરિણામ પત્રક '!A8:A79="OBC")),-(-('સત્રાંત પરિણામ પત્રક '!B8:B79="BOY")),-(-('સત્રાંત પરિણામ પત્રક '!N8:N79="B"))) -> 0 | J9: =ROUND(I9*100/'સત્રાંત પરિણામ પત્રક '!B81,0) -> #DIV/0! | K9: =SUMPRODUCT(-(-('સત્રાંત પરિણામ પત્રક '!A8:A79="OBC")),-(-('સત્રાંત પરિણામ પત્રક '!B8:B79="GIRL")),-(-('સત્રાંત પરિણામ પત્રક '!N8:N79="B"))) -> 0 | L9: =ROUND(K9*100/'સત્રાંત પરિણામ પત્રક '!D81,0) -> #DIV/0! | M9: =I9+K9 -> 0 | N9: =ROUND(M9*100/'સત્રાંત પરિણામ પત્રક '!F81,0) -> #DIV/0! | O9: =SUMPRODUCT(-(-('સત્રાંત પરિણામ પત્રક '!A8:A79="OBC")),-(-('સત્રાંત પરિણામ પત્રક '!B8:B79="BOY")),-(-('સત્રાંત પરિણામ પત્રક '!V8:V79="B"))) -> 0 | P9: =ROUND(O9*100/'સત્રાંત પરિણામ પત્રક '!B81,0) -> #DIV/0! | Q9: =SUMPRODUCT(-(-('સત્રાંત પરિણામ પત્રક '!A8:A79="OBC")),-(-('સત્રાંત પરિણામ પત્રક '!B8:B79="GIRL")),-(-('સત્રાંત પરિણામ પત્રક '!V8:V79="B"))) -> 0 | R9: =ROUND(Q9*100/'સત્રાંત પરિણામ પત્રક '!D81,0) -> #DIV/0! | S9: =O9+Q9 -> 0 | T9: =ROUND(S9*100/'સત્રાંત પરિણામ પત્રક '!F81,0) -> #DIV/0! | U9: =SUMPRODUCT(-(-('સત્રાંત પરિણામ પત્રક '!A8:A79="OBC")),-(-('સત્રાંત પરિણામ પત્રક '!B8:B79="BOY")),-(-('સત્રાંત પરિણામ પત્રક '!AA8:AA79="B"))) -> 0 | V9: =ROUND(U9*100/'સત્રાંત પરિણામ પત્રક '!B81,0) -> #DIV/0! | W9: =SUMPRODUCT(-(-('સત્રાંત પરિણામ પત્રક '!A8:A79="OBC")),-(-('સત્રાંત પરિણામ પત્રક '!B8:B79="GIRL")),-(-('સત્રાંત પરિણામ પત્રક '!AA8:AA79="B"))) -> 0 | X9: =ROUND(W9*100/'સત્રાંત પરિણામ પત્રક '!D81,0) -> #DIV/0! | Y9: =U9+W9 -> 0 | Z9: =ROUND(Y9*100/'સત્રાંત પરિણામ પત્રક '!F81,0) -> #DIV/0! | AA9: =SUMPRODUCT(-(-('સત્રાંત પરિણામ પત્રક '!A8:A79="OBC")),-(-('સત્રાંત પરિણામ પત્રક '!B8:B79="BOY")),-(-('સત્રાંત પરિણામ પત્રક '!AF8:AF79="B"))) -> 0 | AB9: =ROUND(AA9*100/'સત્રાંત પરિણામ પત્રક '!B81,0) -> #DIV/0! | AC9: =SUMPRODUCT(-(-('સત્રાંત પરિણામ પત્રક '!A8:A79="OBC")),-(-('સત્રાંત પરિણામ પત્રક '!B8:B79="GIRL")),-(-('સત્રાંત પરિણામ પત્રક '!AF8:AF79="B"))) -> 0 | AD9: =ROUND(AC9*100/'સત્રાંત પરિણામ પત્રક '!D81,0) -> #DIV/0! | AE9: =AA9+AC9 -> 0 | AF9: =ROUND(AE9*100/'સત્રાંત પરિણામ પત્રક '!F81,0) -> #DIV/0! | AG9: =SUMPRODUCT(-(-('સત્રાંત પરિણામ પત્રક '!A8:A79="OBC")),-(-('સત્રાંત પરિણામ પત્રક '!B8:B79="BOY")),-(-('સત્રાંત પરિણામ પત્રક '!AL8:AL79="B"))) -> 0 | AH9: =ROUND(AG9*100/'સત્રાંત પરિણામ પત્રક '!B81,0) -> #DIV/0! | AI9: =SUMPRODUCT(-(-('સત્રાંત પરિણામ પત્રક '!A8:A79="OBC")),-(-('સત્રાંત પરિણામ પત્રક '!B8:B79="GIRL")),-(-('સત્રાંત પરિણામ પત્રક '!AL8:AL79="B"))) -> 0 | AJ9: =ROUND(AI9*100/'સત્રાંત પરિણામ પત્રક '!D81,0) -> #DIV/0! | AK9: =AG9+AI9 -> 0 | AL9: =ROUND(AK9*100/'સત્રાંત પરિણામ પત્રક '!F81,0) -> #DIV/0! | AM9: =SUMPRODUCT(-(-('સત્રાંત પરિણામ પત્રક '!A8:A79="OBC")),-(-('સત્રાંત પરિણામ પત્રક '!B8:B79="BOY")),-(-('સત્રાંત પરિણામ પત્રક '!AQ8:AQ79="B"))) -> 0 | AN9: =ROUND(AM9*100/'સત્રાંત પરિણામ પત્રક '!B81,0) -> #DIV/0! | AO9: =SUMPRODUCT(-(-('સત્રાંત પરિણામ પત્રક '!A8:A79="OBC")),-(-('સત્રાંત પરિણામ પત્રક '!B8:B79="GIRL")),-(-('સત્રાંત પરિણામ પત્રક '!AQ8:AQ79="B"))) -> 0 | AP9: =ROUND(AO9*100/'સત્રાંત પરિણામ પત્રક '!D81,0) -> #DIV/0! | AQ9: =AM9+AO9 -> 0 | AR9: =ROUND(AQ9*100/'સત્રાંત પરિણામ પત્રક '!F81,0) -> #DIV/0! | AS9: =SUMPRODUCT(-(-('સત્રાંત પરિણામ પત્રક '!A8:A79="OBC")),-(-('સત્રાંત પરિણામ પત્રક '!B8:B79="BOY")),-(-('સત્રાંત પરિણામ પત્રક '!AV8:AV79="B"))) -> 0 | AT9: =ROUND(AS9*100/'સત્રાંત પરિણામ પત્રક '!B81,0) -> #DIV/0! | AU9: =SUMPRODUCT(-(-('સત્રાંત પરિણામ પત્રક '!A8:A79="OBC")),-(-('સત્રાંત પરિણામ પત્રક '!B8:B79="GIRL")),-(-('સત્રાંત પરિણામ પત્રક '!AV8:AV79="B"))) -> 0 | AV9: =ROUND(AU9*100/'સત્રાંત પરિણામ પત્રક '!D81,0) -> #DIV/0! | AW9: =AS9+AU9 -> 0 | AX9: =ROUND(AW9*100/'સત્રાંત પરિણામ પત્રક '!F81,0) -> #DIV/0!
B10: C | C10: =SUMPRODUCT(-(-('સત્રાંત પરિણામ પત્રક '!A8:A79="OBC")),-(-('સત્રાંત પરિણામ પત્રક '!B8:B79="BOY")),-(-('સત્રાંત પરિણામ પત્રક '!I8:I79="C"))) -> 0 | D10: =ROUND(C10*100/'સત્રાંત પરિણામ પત્રક '!B81,0) -> #DIV/0! | E10: =SUMPRODUCT(-(-('સત્રાંત પરિણામ પત્રક '!A8:A79="OBC")),-(-('સત્રાંત પરિણામ પત્રક '!B8:B79="GIRL")),-(-('સત્રાંત પરિણામ પત્રક '!I8:I79="C"))) -> 0 | F10: =ROUND(E10*100/'સત્રાંત પરિણામ પત્રક '!D81,0) -> #DIV/0! | G10: =C10+E10 -> 0 | H10: =ROUND(G10*100/'સત્રાંત પરિણામ પત્રક '!F81,0) -> #DIV/0! | I10: =SUMPRODUCT(-(-('સત્રાંત પરિણામ પત્રક '!A8:A79="OBC")),-(-('સત્રાંત પરિણામ પત્રક '!B8:B79="BOY")),-(-('સત્રાંત પરિણામ પત્રક '!N8:N79="C"))) -> 0 | J10: =ROUND(I10*100/'સત્રાંત પરિણામ પત્રક '!B81,0) -> #DIV/0! | K10: =SUMPRODUCT(-(-('સત્રાંત પરિણામ પત્રક '!A8:A79="OBC")),-(-('સત્રાંત પરિણામ પત્રક '!B8:B79="GIRL")),-(-('સત્રાંત પરિણામ પત્રક '!N8:N79="C"))) -> 0 | L10: =ROUND(K10*100/'સત્રાંત પરિણામ પત્રક '!D81,0) -> #DIV/0! | M10: =I10+K10 -> 0 | N10: =ROUND(M10*100/'સત્રાંત પરિણામ પત્રક '!F81,0) -> #DIV/0! | O10: =SUMPRODUCT(-(-('સત્રાંત પરિણામ પત્રક '!A8:A79="OBC")),-(-('સત્રાંત પરિણામ પત્રક '!B8:B79="BOY")),-(-('સત્રાંત પરિણામ પત્રક '!V8:V79="C"))) -> 0 | P10: =ROUND(O10*100/'સત્રાંત પરિણામ પત્રક '!B81,0) -> #DIV/0! | Q10: =SUMPRODUCT(-(-('સત્રાંત પરિણામ પત્રક '!A8:A79="OBC")),-(-('સત્રાંત પરિણામ પત્રક '!B8:B79="GIRL")),-(-('સત્રાંત પરિણામ પત્રક '!V8:V79="C"))) -> 0 | R10: =ROUND(Q10*100/'સત્રાંત પરિણામ પત્રક '!D81,0) -> #DIV/0! | S10: =O10+Q10 -> 0 | T10: =ROUND(S10*100/'સત્રાંત પરિણામ પત્રક '!F81,0) -> #DIV/0! | U10: =SUMPRODUCT(-(-('સત્રાંત પરિણામ પત્રક '!A8:A79="OBC")),-(-('સત્રાંત પરિણામ પત્રક '!B8:B79="BOY")),-(-('સત્રાંત પરિણામ પત્રક '!AA8:AA79="C"))) -> 0 | V10: =ROUND(U10*100/'સત્રાંત પરિણામ પત્રક '!B81,0) -> #DIV/0! | W10: =SUMPRODUCT(-(-('સત્રાંત પરિણામ પત્રક '!A8:A79="OBC")),-(-('સત્રાંત પરિણામ પત્રક '!B8:B79="GIRL")),-(-('સત્રાંત પરિણામ પત્રક '!AA8:AA79="C"))) -> 0 | X10: =ROUND(W10*100/'સત્રાંત પરિણામ પત્રક '!D81,0) -> #DIV/0! | Y10: =U10+W10 -> 0 | Z10: =ROUND(Y10*100/'સત્રાંત પરિણામ પત્રક '!F81,0) -> #DIV/0! | AA10: =SUMPRODUCT(-(-('સત્રાંત પરિણામ પત્રક '!A8:A79="OBC")),-(-('સત્રાંત પરિણામ પત્રક '!B8:B79="BOY")),-(-('સત્રાંત પરિણામ પત્રક '!AF8:AF79="C"))) -> 0 | AB10: =ROUND(AA10*100/'સત્રાંત પરિણામ પત્રક '!B81,0) -> #DIV/0! | AC10: =SUMPRODUCT(-(-('સત્રાંત પરિણામ પત્રક '!A8:A79="OBC")),-(-('સત્રાંત પરિણામ પત્રક '!B8:B79="GIRL")),-(-('સત્રાંત પરિણામ પત્રક '!AF8:AF79="C"))) -> 0 | AD10: =ROUND(AC10*100/'સત્રાંત પરિણામ પત્રક '!D81,0) -> #DIV/0! | AE10: =AA10+AC10 -> 0 | AF10: =ROUND(AE10*100/'સત્રાંત પરિણામ પત્રક '!F81,0) -> #DIV/0! | AG10: =SUMPRODUCT(-(-('સત્રાંત પરિણામ પત્રક '!A8:A79="OBC")),-(-('સત્રાંત પરિણામ પત્રક '!B8:B79="BOY")),-(-('સત્રાંત પરિણામ પત્રક '!AL8:AL79="C"))) -> 0 | AH10: =ROUND(AG10*100/'સત્રાંત પરિણામ પત્રક '!B81,0) -> #DIV/0! | AI10: =SUMPRODUCT(-(-('સત્રાંત પરિણામ પત્રક '!A8:A79="OBC")),-(-('સત્રાંત પરિણામ પત્રક '!B8:B79="GIRL")),-(-('સત્રાંત પરિણામ પત્રક '!AL8:AL79="C"))) -> 0 | AJ10: =ROUND(AI10*100/'સત્રાંત પરિણામ પત્રક '!D81,0) -> #DIV/0! | AK10: =AG10+AI10 -> 0 | AL10: =ROUND(AK10*100/'સત્રાંત પરિણામ પત્રક '!F81,0) -> #DIV/0! | AM10: =SUMPRODUCT(-(-('સત્રાંત પરિણામ પત્રક '!A8:A79="OBC")),-(-('સત્રાંત પરિણામ પત્રક '!B8:B79="BOY")),-(-('સત્રાંત પરિણામ પત્રક '!AQ8:AQ79="C"))) -> 0 | AN10: =ROUND(AM10*100/'સત્રાંત પરિણામ પત્રક '!B81,0) -> #DIV/0! | AO10: =SUMPRODUCT(-(-('સત્રાંત પરિણામ પત્રક '!A8:A79="OBC")),-(-('સત્રાંત પરિણામ પત્રક '!B8:B79="GIRL")),-(-('સત્રાંત પરિણામ પત્રક '!AQ8:AQ79="C"))) -> 0 | AP10: =ROUND(AO10*100/'સત્રાંત પરિણામ પત્રક '!D81,0) -> #DIV/0! | AQ10: =AM10+AO10 -> 0 | AR10: =ROUND(AQ10*100/'સત્રાંત પરિણામ પત્રક '!F81,0) -> #DIV/0! | AS10: =SUMPRODUCT(-(-('સત્રાંત પરિણામ પત્રક '!A8:A79="OBC")),-(-('સત્રાંત પરિણામ પત્રક '!B8:B79="BOY")),-(-('સત્રાંત પરિણામ પત્રક '!AV8:AV79="C"))) -> 0 | AT10: =ROUND(AS10*100/'સત્રાંત પરિણામ પત્રક '!B81,0) -> #DIV/0! | AU10: =SUMPRODUCT(-(-('સત્રાંત પરિણામ પત્રક '!A8:A79="OBC")),-(-('સત્રાંત પરિણામ પત્રક '!B8:B79="GIRL")),-(-('સત્રાંત પરિણામ પત્રક '!AV8:AV79="C"))) -> 0 | AV10: =ROUND(AU10*100/'સત્રાંત પરિણામ પત્રક '!D81,0) -> #DIV/0! | AW10: =AS10+AU10 -> 0 | AX10: =ROUND(AW10*100/'સત્રાંત પરિણામ પત્રક '!F81,0) -> #DIV/0!
